Workbook

Sheet Report
A1: Aged receivables
A3: As at | B3: 46326
A4: Change the date to re-age every invoice.
A6: Customer | B6: Current | C6: 1-30 | D6: 31-60 | E6: 61-90 | F6: 90+ | G6: Total owed | H6: Worst stage
A7: Customer A | B7: =SUMIFS(Invoices!$H:$H,Invoices!$B:$B,$A7,Invoices!$J:$J,"Current") -> 2068.42 | C7: =SUMIFS(Invoices!$H:$H,Invoices!$B:$B,$A7,Invoices!$J:$J,"1-30") -> 4740.85 | D7: =SUMIFS(Invoices!$H:$H,Invoices!$B:$B,$A7,Invoices!$J:$J,"31-60") -> 5167.29 | E7: =SUMIFS(Invoices!$H:$H,Invoices!$B:$B,$A7,Invoices!$J:$J,"61-90") -> 3301.82 | F7: =SUMIFS(Invoices!$H:$H,Invoices!$B:$B,$A7,Invoices!$J:$J,"90+") -> 0 | G7: =SUM(B7:F7) -> 15278.38 | H7: =IF(COUNTIFS(Invoices!$B:$B,$A7,Invoices!$K:$K,"Hold account"),"Hold account",IF(COUNTIFS(Invoices!$B:$B,$A7,Invoices!$K:$K,"Final notice"),"Final notice",IF(COUNTIFS(Invoices!$B:$B,$A7,Invoices!$K:$K,"Reminder 2"),"Reminder 2",IF(COUNTIFS(Invoices!$B:$B,$A7,Invoices!$K:$K,"Reminder 1"),"Reminder 1","Current")))) -> Hold account
A8: Customer B | B8: =SUMIFS(Invoices!$H:$H,Invoices!$B:$B,$A8,Invoices!$J:$J,"Current") -> 0 | C8: =SUMIFS(Invoices!$H:$H,Invoices!$B:$B,$A8,Invoices!$J:$J,"1-30") -> 0 | D8: =SUMIFS(Invoices!$H:$H,Invoices!$B:$B,$A8,Invoices!$J:$J,"31-60") -> 714.03 | E8: =SUMIFS(Invoices!$H:$H,Invoices!$B:$B,$A8,Invoices!$J:$J,"61-90") -> 0 | F8: =SUMIFS(Invoices!$H:$H,Invoices!$B:$B,$A8,Invoices!$J:$J,"90+") -> 0 | G8: =SUM(B8:F8) -> 714.03 | H8: =IF(COUNTIFS(Invoices!$B:$B,$A8,Invoices!$K:$K,"Hold account"),"Hold account",IF(COUNTIFS(Invoices!$B:$B,$A8,Invoices!$K:$K,"Final notice"),"Final notice",IF(COUNTIFS(Invoices!$B:$B,$A8,Invoices!$K:$K,"Reminder 2"),"Reminder 2",IF(COUNTIFS(Invoices!$B:$B,$A8,Invoices!$K:$K,"Reminder 1"),"Reminder 1","Current")))) -> Final notice
A9: Customer C | B9: =SUMIFS(Invoices!$H:$H,Invoices!$B:$B,$A9,Invoices!$J:$J,"Current") -> 0 | C9: =SUMIFS(Invoices!$H:$H,Invoices!$B:$B,$A9,Invoices!$J:$J,"1-30") -> 4941.28 | D9: =SUMIFS(Invoices!$H:$H,Invoices!$B:$B,$A9,Invoices!$J:$J,"31-60") -> 5217.77 | E9: =SUMIFS(Invoices!$H:$H,Invoices!$B:$B,$A9,Invoices!$J:$J,"61-90") -> 0 | F9: =SUMIFS(Invoices!$H:$H,Invoices!$B:$B,$A9,Invoices!$J:$J,"90+") -> 2236.83 | G9: =SUM(B9:F9) -> 12395.88 | H9: =IF(COUNTIFS(Invoices!$B:$B,$A9,Invoices!$K:$K,"Hold account"),"Hold account",IF(COUNTIFS(Invoices!$B:$B,$A9,Invoices!$K:$K,"Final notice"),"Final notice",IF(COUNTIFS(Invoices!$B:$B,$A9,Invoices!$K:$K,"Reminder 2"),"Reminder 2",IF(COUNTIFS(Invoices!$B:$B,$A9,Invoices!$K:$K,"Reminder 1"),"Reminder 1","Current")))) -> Hold account
A10: Customer D | B10: =SUMIFS(Invoices!$H:$H,Invoices!$B:$B,$A10,Invoices!$J:$J,"Current") -> 0 | C10: =SUMIFS(Invoices!$H:$H,Invoices!$B:$B,$A10,Invoices!$J:$J,"1-30") -> 0 | D10: =SUMIFS(Invoices!$H:$H,Invoices!$B:$B,$A10,Invoices!$J:$J,"31-60") -> 3094.6 | E10: =SUMIFS(Invoices!$H:$H,Invoices!$B:$B,$A10,Invoices!$J:$J,"61-90") -> 2560.75 | F10: =SUMIFS(Invoices!$H:$H,Invoices!$B:$B,$A10,Invoices!$J:$J,"90+") -> 0 | G10: =SUM(B10:F10) -> 5655.35 | H10: =IF(COUNTIFS(Invoices!$B:$B,$A10,Invoices!$K:$K,"Hold account"),"Hold account",IF(COUNTIFS(Invoices!$B:$B,$A10,Invoices!$K:$K,"Final notice"),"Final notice",IF(COUNTIFS(Invoices!$B:$B,$A10,Invoices!$K:$K,"Reminder 2"),"Reminder 2",IF(COUNTIFS(Invoices!$B:$B,$A10,Invoices!$K:$K,"Reminder 1"),"Reminder 1","Current")))) -> Hold account
A11: Customer E | B11: =SUMIFS(Invoices!$H:$H,Invoices!$B:$B,$A11,Invoices!$J:$J,"Current") -> 0 | C11: =SUMIFS(Invoices!$H:$H,Invoices!$B:$B,$A11,Invoices!$J:$J,"1-30") -> 3319.74 | D11: =SUMIFS(Invoices!$H:$H,Invoices!$B:$B,$A11,Invoices!$J:$J,"31-60") -> 2289.12 | E11: =SUMIFS(Invoices!$H:$H,Invoices!$B:$B,$A11,Invoices!$J:$J,"61-90") -> 0 | F11: =SUMIFS(Invoices!$H:$H,Invoices!$B:$B,$A11,Invoices!$J:$J,"90+") -> 0 | G11: =SUM(B11:F11) -> 5608.86 | H11: =IF(COUNTIFS(Invoices!$B:$B,$A11,Invoices!$K:$K,"Hold account"),"Hold account",IF(COUNTIFS(Invoices!$B:$B,$A11,Invoices!$K:$K,"Final notice"),"Final notice",IF(COUNTIFS(Invoices!$B:$B,$A11,Invoices!$K:$K,"Reminder 2"),"Reminder 2",IF(COUNTIFS(Invoices!$B:$B,$A11,Invoices!$K:$K,"Reminder 1"),"Reminder 1","Current")))) -> Final notice
A12: Customer F | B12: =SUMIFS(Invoices!$H:$H,Invoices!$B:$B,$A12,Invoices!$J:$J,"Current") -> 2672.37 | C12: =SUMIFS(Invoices!$H:$H,Invoices!$B:$B,$A12,Invoices!$J:$J,"1-30") -> 0 | D12: =SUMIFS(Invoices!$H:$H,Invoices!$B:$B,$A12,Invoices!$J:$J,"31-60") -> 3062.55 | E12: =SUMIFS(Invoices!$H:$H,Invoices!$B:$B,$A12,Invoices!$J:$J,"61-90") -> 4350.38 | F12: =SUMIFS(Invoices!$H:$H,Invoices!$B:$B,$A12,Invoices!$J:$J,"90+") -> 0 | G12: =SUM(B12:F12) -> 10085.3 | H12: =IF(COUNTIFS(Invoices!$B:$B,$A12,Invoices!$K:$K,"Hold account"),"Hold account",IF(COUNTIFS(Invoices!$B:$B,$A12,Invoices!$K:$K,"Final notice"),"Final notice",IF(COUNTIFS(Invoices!$B:$B,$A12,Invoices!$K:$K,"Reminder 2"),"Reminder 2",IF(COUNTIFS(Invoices!$B:$B,$A12,Invoices!$K:$K,"Reminder 1"),"Reminder 1","Current")))) -> Hold account
A13: Customer G | B13: =SUMIFS(Invoices!$H:$H,Invoices!$B:$B,$A13,Invoices!$J:$J,"Current") -> 4773.93 | C13: =SUMIFS(Invoices!$H:$H,Invoices!$B:$B,$A13,Invoices!$J:$J,"1-30") -> 5076.08 | D13: =SUMIFS(Invoices!$H:$H,Invoices!$B:$B,$A13,Invoices!$J:$J,"31-60") -> 2091.02 | E13: =SUMIFS(Invoices!$H:$H,Invoices!$B:$B,$A13,Invoices!$J:$J,"61-90") -> 249.78 | F13: =SUMIFS(Invoices!$H:$H,Invoices!$B:$B,$A13,Invoices!$J:$J,"90+") -> 0 | G13: =SUM(B13:F13) -> 12190.81 | H13: =IF(COUNTIFS(Invoices!$B:$B,$A13,Invoices!$K:$K,"Hold account"),"Hold account",IF(COUNTIFS(Invoices!$B:$B,$A13,Invoices!$K:$K,"Final notice"),"Final notice",IF(COUNTIFS(Invoices!$B:$B,$A13,Invoices!$K:$K,"Reminder 2"),"Reminder 2",IF(COUNTIFS(Invoices!$B:$B,$A13,Invoices!$K:$K,"Reminder 1"),"Reminder 1","Current")))) -> Hold account
A14: Customer H | B14: =SUMIFS(Invoices!$H:$H,Invoices!$B:$B,$A14,Invoices!$J:$J,"Current") -> 0 | C14: =SUMIFS(Invoices!$H:$H,Invoices!$B:$B,$A14,Invoices!$J:$J,"1-30") -> 0 | D14: =SUMIFS(Invoices!$H:$H,Invoices!$B:$B,$A14,Invoices!$J:$J,"31-60") -> 1722.55 | E14: =SUMIFS(Invoices!$H:$H,Invoices!$B:$B,$A14,Invoices!$J:$J,"61-90") -> 3062.15 | F14: =SUMIFS(Invoices!$H:$H,Invoices!$B:$B,$A14,Invoices!$J:$J,"90+") -> 0 | G14: =SUM(B14:F14) -> 4784.7 | H14: =IF(COUNTIFS(Invoices!$B:$B,$A14,Invoices!$K:$K,"Hold account"),"Hold account",IF(COUNTIFS(Invoices!$B:$B,$A14,Invoices!$K:$K,"Final notice"),"Final notice",IF(COUNTIFS(Invoices!$B:$B,$A14,Invoices!$K:$K,"Reminder 2"),"Reminder 2",IF(COUNTIFS(Invoices!$B:$B,$A14,Invoices!$K:$K,"Reminder 1"),"Reminder 1","Current")))) -> Hold account
A15: Customer I | B15: =SUMIFS(Invoices!$H:$H,Invoices!$B:$B,$A15,Invoices!$J:$J,"Current") -> 0 | C15: =SUMIFS(Invoices!$H:$H,Invoices!$B:$B,$A15,Invoices!$J:$J,"1-30") -> 3704.75 | D15: =SUMIFS(Invoices!$H:$H,Invoices!$B:$B,$A15,Invoices!$J:$J,"31-60") -> 2795.09 | E15: =SUMIFS(Invoices!$H:$H,Invoices!$B:$B,$A15,Invoices!$J:$J,"61-90") -> 0 | F15: =SUMIFS(Invoices!$H:$H,Invoices!$B:$B,$A15,Invoices!$J:$J,"90+") -> 0 | G15: =SUM(B15:F15) -> 6499.84 | H15: =IF(COUNTIFS(Invoices!$B:$B,$A15,Invoices!$K:$K,"Hold account"),"Hold account",IF(COUNTIFS(Invoices!$B:$B,$A15,Invoices!$K:$K,"Final notice"),"Final notice",IF(COUNTIFS(Invoices!$B:$B,$A15,Invoices!$K:$K,"Reminder 2"),"Reminder 2",IF(COUNTIFS(Invoices!$B:$B,$A15,Invoices!$K:$K,"Reminder 1"),"Reminder 1","Current")))) -> Final notice
A16: Customer J | B16: =SUMIFS(Invoices!$H:$H,Invoices!$B:$B,$A16,Invoices!$J:$J,"Current") -> 0 | C16: =SUMIFS(Invoices!$H:$H,Invoices!$B:$B,$A16,Invoices!$J:$J,"1-30") -> 0 | D16: =SUMIFS(Invoices!$H:$H,Invoices!$B:$B,$A16,Invoices!$J:$J,"31-60") -> 0 | E16: =SUMIFS(Invoices!$H:$H,Invoices!$B:$B,$A16,Invoices!$J:$J,"61-90") -> 6162.9 | F16: =SUMIFS(Invoices!$H:$H,Invoices!$B:$B,$A16,Invoices!$J:$J,"90+") -> 0 | G16: =SUM(B16:F16) -> 6162.9 | H16: =IF(COUNTIFS(Invoices!$B:$B,$A16,Invoices!$K:$K,"Hold account"),"Hold account",IF(COUNTIFS(Invoices!$B:$B,$A16,Invoices!$K:$K,"Final notice"),"Final notice",IF(COUNTIFS(Invoices!$B:$B,$A16,Invoices!$K:$K,"Reminder 2"),"Reminder 2",IF(COUNTIFS(Invoices!$B:$B,$A16,Invoices!$K:$K,"Reminder 1"),"Reminder 1","Current")))) -> Hold account
A17: Customer K | B17: =SUMIFS(Invoices!$H:$H,Invoices!$B:$B,$A17,Invoices!$J:$J,"Current") -> 3058.04 | C17: =SUMIFS(Invoices!$H:$H,Invoices!$B:$B,$A17,Invoices!$J:$J,"1-30") -> 1006.48 | D17: =SUMIFS(Invoices!$H:$H,Invoices!$B:$B,$A17,Invoices!$J:$J,"31-60") -> 3790.51 | E17: =SUMIFS(Invoices!$H:$H,Invoices!$B:$B,$A17,Invoices!$J:$J,"61-90") -> 0 | F17: =SUMIFS(Invoices!$H:$H,Invoices!$B:$B,$A17,Invoices!$J:$J,"90+") -> 0 | G17: =SUM(B17:F17) -> 7855.03 | H17: =IF(COUNTIFS(Invoices!$B:$B,$A17,Invoices!$K:$K,"Hold account"),"Hold account",IF(COUNTIFS(Invoices!$B:$B,$A17,Invoices!$K:$K,"Final notice"),"Final notice",IF(COUNTIFS(Invoices!$B:$B,$A17,Invoices!$K:$K,"Reminder 2"),"Reminder 2",IF(COUNTIFS(Invoices!$B:$B,$A17,Invoices!$K:$K,"Reminder 1"),"Reminder 1","Current")))) -> Final notice
A18: Customer L | B18: =SUMIFS(Invoices!$H:$H,Invoices!$B:$B,$A18,Invoices!$J:$J,"Current") -> 0 | C18: =SUMIFS(Invoices!$H:$H,Invoices!$B:$B,$A18,Invoices!$J:$J,"1-30") -> 0 | D18: =SUMIFS(Invoices!$H:$H,Invoices!$B:$B,$A18,Invoices!$J:$J,"31-60") -> 0 | E18: =SUMIFS(Invoices!$H:$H,Invoices!$B:$B,$A18,Invoices!$J:$J,"61-90") -> 0 | F18: =SUMIFS(Invoices!$H:$H,Invoices!$B:$B,$A18,Invoices!$J:$J,"90+") -> 3133.88 | G18: =SUM(B18:F18) -> 3133.88 | H18: =IF(COUNTIFS(Invoices!$B:$B,$A18,Invoices!$K:$K,"Hold account"),"Hold account",IF(COUNTIFS(Invoices!$B:$B,$A18,Invoices!$K:$K,"Final notice"),"Final notice",IF(COUNTIFS(Invoices!$B:$B,$A18,Invoices!$K:$K,"Reminder 2"),"Reminder 2",IF(COUNTIFS(Invoices!$B:$B,$A18,Invoices!$K:$K,"Reminder 1"),"Reminder 1","Current")))) -> Hold account
A19: Total | B19: =SUM(B7:B18) -> 12572.76 | C19: =SUM(C7:C18) -> 22789.18 | D19: =SUM(D7:D18) -> 29944.53 | E19: =SUM(E7:E18) -> 19687.78 | F19: =SUM(F7:F18) -> 5370.71 | G19: =SUM(G7:G18) -> 90364.96
A21: Check: report total equals invoice balances | B21: =IF(ROUND(G19-SUM(Invoices!H2:H42),2)=0,"PASS","FAIL") -> PASS

Sheet Invoices
A1: Invoice | B1: Customer | C1: Issued | D1: Terms (days) | E1: Due | F1: Amount | G1: Paid | H1: Balance | I1: Days overdue | J1: Bucket | K1: Stage
A2: INV-2401 | B2: Customer A | C2: 46245 | D2: 7 | E2: =C2+D2 -> 46252 | F2: 3301.82 | G2: 0 | H2: =F2-G2 -> 3301.82 | I2: =MAX(0,Report!$B$3-E2) -> 74 | J2: =IF(H2<=0,"Paid",IF(I2=0,"Current",IF(I2<=30,"1-30",IF(I2<=60,"31-60",IF(I2<=90,"61-90","90+"))))) -> 61-90 | K2: =IF(H2<=0,"Paid",VLOOKUP(I2,Stages!$A$2:$B$6,2,TRUE)) -> Hold account
A3: INV-2402 | B3: Customer A | C3: 46317 | D3: 14 | E3: =C3+D3 -> 46331 | F3: 2068.42 | G3: 0 | H3: =F3-G3 -> 2068.42 | I3: =MAX(0,Report!$B$3-E3) -> 0 | J3: =IF(H3<=0,"Paid",IF(I3=0,"Current",IF(I3<=30,"1-30",IF(I3<=60,"31-60",IF(I3<=90,"61-90","90+"))))) -> Current | K3: =IF(H3<=0,"Paid",VLOOKUP(I3,Stages!$A$2:$B$6,2,TRUE)) -> Current
A4: INV-2403 | B4: Customer A | C4: 46264 | D4: 7 | E4: =C4+D4 -> 46271 | F4: 5167.29 | G4: 0 | H4: =F4-G4 -> 5167.29 | I4: =MAX(0,Report!$B$3-E4) -> 55 | J4: =IF(H4<=0,"Paid",IF(I4=0,"Current",IF(I4<=30,"1-30",IF(I4<=60,"31-60",IF(I4<=90,"61-90","90+"))))) -> 31-60 | K4: =IF(H4<=0,"Paid",VLOOKUP(I4,Stages!$A$2:$B$6,2,TRUE)) -> Final notice
A5: INV-2404 | B5: Customer A | C5: 46314 | D5: 7 | E5: =C5+D5 -> 46321 | F5: 4740.85 | G5: 0 | H5: =F5-G5 -> 4740.85 | I5: =MAX(0,Report!$B$3-E5) -> 5 | J5: =IF(H5<=0,"Paid",IF(I5=0,"Current",IF(I5<=30,"1-30",IF(I5<=60,"31-60",IF(I5<=90,"61-90","90+"))))) -> 1-30 | K5: =IF(H5<=0,"Paid",VLOOKUP(I5,Stages!$A$2:$B$6,2,TRUE)) -> Reminder 1
A6: INV-2405 | B6: Customer B | C6: 46272 | D6: 7 | E6: =C6+D6 -> 46279 | F6: 1428.06 | G6: 714.03 | H6: =F6-G6 -> 714.03 | I6: =MAX(0,Report!$B$3-E6) -> 47 | J6: =IF(H6<=0,"Paid",IF(I6=0,"Current",IF(I6<=30,"1-30",IF(I6<=60,"31-60",IF(I6<=90,"61-90","90+"))))) -> 31-60 | K6: =IF(H6<=0,"Paid",VLOOKUP(I6,Stages!$A$2:$B$6,2,TRUE)) -> Final notice
A7: INV-2406 | B7: Customer B | C7: 46251 | D7: 7 | E7: =C7+D7 -> 46258 | F7: 3562.95 | G7: 3562.95 | H7: =F7-G7 -> 0 | I7: =MAX(0,Report!$B$3-E7) -> 68 | J7: =IF(H7<=0,"Paid",IF(I7=0,"Current",IF(I7<=30,"1-30",IF(I7<=60,"31-60",IF(I7<=90,"61-90","90+"))))) -> Paid | K7: =IF(H7<=0,"Paid",VLOOKUP(I7,Stages!$A$2:$B$6,2,TRUE)) -> Paid
A8: INV-2407 | B8: Customer C | C8: 46284 | D8: 7 | E8: =C8+D8 -> 46291 | F8: 4343.31 | G8: 0 | H8: =F8-G8 -> 4343.31 | I8: =MAX(0,Report!$B$3-E8) -> 35 | J8: =IF(H8<=0,"Paid",IF(I8=0,"Current",IF(I8<=30,"1-30",IF(I8<=60,"31-60",IF(I8<=90,"61-90","90+"))))) -> 31-60 | K8: =IF(H8<=0,"Paid",VLOOKUP(I8,Stages!$A$2:$B$6,2,TRUE)) -> Final notice
A9: INV-2408 | B9: Customer C | C9: 46259 | D9: 7 | E9: =C9+D9 -> 46266 | F9: 874.46 | G9: 0 | H9: =F9-G9 -> 874.46 | I9: =MAX(0,Report!$B$3-E9) -> 60 | J9: =IF(H9<=0,"Paid",IF(I9=0,"Current",IF(I9<=30,"1-30",IF(I9<=60,"31-60",IF(I9<=90,"61-90","90+"))))) -> 31-60 | K9: =IF(H9<=0,"Paid",VLOOKUP(I9,Stages!$A$2:$B$6,2,TRUE)) -> Final notice
A10: INV-2409 | B10: Customer C | C10: 46225 | D10: 7 | E10: =C10+D10 -> 46232 | F10: 2236.83 | G10: 0 | H10: =F10-G10 -> 2236.83 | I10: =MAX(0,Report!$B$3-E10) -> 94 | J10: =IF(H10<=0,"Paid",IF(I10=0,"Current",IF(I10<=30,"1-30",IF(I10<=60,"31-60",IF(I10<=90,"61-90","90+"))))) -> 90+ | K10: =IF(H10<=0,"Paid",VLOOKUP(I10,Stages!$A$2:$B$6,2,TRUE)) -> Hold account
A11: INV-2410 | B11: Customer C | C11: 46256 | D11: 30 | E11: =C11+D11 -> 46286 | F11: 1115.57 | G11: 1115.57 | H11: =F11-G11 -> 0 | I11: =MAX(0,Report!$B$3-E11) -> 40 | J11: =IF(H11<=0,"Paid",IF(I11=0,"Current",IF(I11<=30,"1-30",IF(I11<=60,"31-60",IF(I11<=90,"61-90","90+"))))) -> Paid | K11: =IF(H11<=0,"Paid",VLOOKUP(I11,Stages!$A$2:$B$6,2,TRUE)) -> Paid
A12: INV-2411 | B12: Customer C | C12: 46266 | D12: 30 | E12: =C12+D12 -> 46296 | F12: 4941.28 | G12: 0 | H12: =F12-G12 -> 4941.28 | I12: =MAX(0,Report!$B$3-E12) -> 30 | J12: =IF(H12<=0,"Paid",IF(I12=0,"Current",IF(I12<=30,"1-30",IF(I12<=60,"31-60",IF(I12<=90,"61-90","90+"))))) -> 1-30 | K12: =IF(H12<=0,"Paid",VLOOKUP(I12,Stages!$A$2:$B$6,2,TRUE)) -> Reminder 2
A13: INV-2412 | B13: Customer D | C13: 46240 | D13: 7 | E13: =C13+D13 -> 46247 | F13: 2560.75 | G13: 0 | H13: =F13-G13 -> 2560.75 | I13: =MAX(0,Report!$B$3-E13) -> 79 | J13: =IF(H13<=0,"Paid",IF(I13=0,"Current",IF(I13<=30,"1-30",IF(I13<=60,"31-60",IF(I13<=90,"61-90","90+"))))) -> 61-90 | K13: =IF(H13<=0,"Paid",VLOOKUP(I13,Stages!$A$2:$B$6,2,TRUE)) -> Hold account
... A42: INV-2441 | B42: Customer L | C42: 46214 | D42: 7 | E42: =C42+D42 -> 46221 | F42: 3133.88 | G42: 0 | H42: =F42-G42 -> 3133.88 | I42: =MAX(0,Report!$B$3-E42) -> 105 | J42: =IF(H42<=0,"Paid",IF(I42=0,"Current",IF(I42<=30,"1-30",IF(I42<=60,"31-60",IF(I42<=90,"61-90","90+"))))) -> 90+ | K42: =IF(H42<=0,"Paid",VLOOKUP(I42,Stages!$A$2:$B$6,2,TRUE)) -> Hold account

Sheet Stages
A1: Days overdue from | B1: Stage | C1: Action | D1: Template
A2: 0 | B2: Current | C2: None | D2: -
A3: 1 | B3: Reminder 1 | C3: Friendly email | D3: Your invoice {inv} was due on {due}.
A4: 15 | B4: Reminder 2 | C4: Email + SMS | D4: Invoice {inv} is now 15+ days overdue.
A5: 31 | B5: Final notice | C5: Phone call, then letter | D5: Final notice for invoice {inv}.
A6: 61 | B6: Hold account | C6: Stop new work; owner review | D6: -
