Workbook

Sheet Index
A1: Sheet | B1: Source File | C1: Page | D1: Source Table | E1: Rows (incl. total) | F1: Columns
A2: NAG_T1_Sales | B2: NAG_Q1-2026_Branch_Report.pdf | C2: 1 | D2: Table 1. Sales by product group | E2: 7 | F2: 5
A3: NAG_T2_Dispatch | B3: NAG_Q1-2026_Branch_Report.pdf | C3: 1 | D3: Table 2. Monthly dispatch summary | E3: 3 | F3: 5
A4: NSK_T1_Sales | B4: NSK_Q1-2026_Branch_Report.pdf | C4: 1 | D4: Table 1. Sales by product group | E4: 7 | F4: 5
A5: NSK_T2_Dispatch | B5: NSK_Q1-2026_Branch_Report.pdf | C5: 1 | D5: Table 2. Monthly dispatch summary | E5: 3 | F5: 5
A6: PUN_T1_Sales | B6: PUN_Q1-2026_Branch_Report.pdf | C6: 1 | D6: Table 1. Sales by product group | E6: 7 | F6: 5
A7: PUN_T2_Dispatch | B7: PUN_Q1-2026_Branch_Report.pdf | C7: 1 | D7: Table 2. Monthly dispatch summary | E7: 3 | F7: 5
A9: Charts_Data | B9: 27 chart values from 6 charts
A10: Flags | B10: 4 items for review

Sheet Charts_Data
A1: Report | B1: Source File | C1: Page | D1: Figure | E1: Chart Title | F1: Category | G1: Value (INR) | H1: Value Read From | I1: Flag
A2: NAG | B2: NAG_Q1-2026_Branch_Report.pdf | C2: 1 | D2: Figure 1 | E2: Net sales by month (INR) | F2: Jan | G2: 193864 | H2: Data label
A3: NAG | B3: NAG_Q1-2026_Branch_Report.pdf | C3: 1 | D3: Figure 1 | E3: Net sales by month (INR) | F3: Feb | G3: 220604 | H3: Data label
A4: NAG | B4: NAG_Q1-2026_Branch_Report.pdf | C4: 1 | D4: Figure 1 | E4: Net sales by month (INR) | F4: Mar | G4: 254030 | H4: Data label
A5: NAG | B5: NAG_Q1-2026_Branch_Report.pdf | C5: 2 | D5: Figure 2 | E5: Net sales by product group (INR) | F5: Seeds | G5: 49392 | H5: Data label
A6: NAG | B6: NAG_Q1-2026_Branch_Report.pdf | C6: 2 | D6: Figure 2 | E6: Net sales by product group (INR) | F6: Fertilisers | G6: 122015 | H6: Data label
A7: NAG | B7: NAG_Q1-2026_Branch_Report.pdf | C7: 2 | D7: Figure 2 | E7: Net sales by product group (INR) | F7: Crop Protection | G7: 41505 | H7: Data label
A8: NAG | B8: NAG_Q1-2026_Branch_Report.pdf | C8: 2 | D8: Figure 2 | E8: Net sales by product group (INR) | F8: Irrigation Parts | G8: 416557 | H8: Data label
A9: NAG | B9: NAG_Q1-2026_Branch_Report.pdf | C9: 2 | D9: Figure 2 | E9: Net sales by product group (INR) | F9: Hand Tools | G9: 24057 | H9: Data label
A10: NAG | B10: NAG_Q1-2026_Branch_Report.pdf | C10: 2 | D10: Figure 2 | E10: Net sales by product group (INR) | F10: Animal Feed | G10: 14972 | H10: Data label
A11: NSK | B11: NSK_Q1-2026_Branch_Report.pdf | C11: 1 | D11: Figure 1 | E11: Net sales by month (INR) | F11: Jan | G11: 184851 | H11: Data label
A12: NSK | B12: NSK_Q1-2026_Branch_Report.pdf | C12: 1 | D12: Figure 1 | E12: Net sales by month (INR) | F12: Feb | G12: 210347 | H12: Data label
A13: NSK | B13: NSK_Q1-2026_Branch_Report.pdf | C13: 1 | D13: Figure 1 | E13: Net sales by month (INR) | F13: Mar | G13: 242218 | H13: Data label
... A21: PUN | B21: PUN_Q1-2026_Branch_Report.pdf | C21: 1 | D21: Figure 1 | E21: Net sales by month (INR) | F21: Feb | G21: 137385 | H21: Data label
A22: PUN | B22: PUN_Q1-2026_Branch_Report.pdf | C22: 1 | D22: Figure 1 | E22: Net sales by month (INR) | F22: Mar | G22: 158201 | H22: Bar height vs axis | I22: No data label printed; value estimated from bar height (~158,201, +/-667) - confirm with source owner
A23: PUN | B23: PUN_Q1-2026_Branch_Report.pdf | C23: 2 | D23: Figure 2 | E23: Net sales by product group (INR) | F23: Seeds | G23: 83616 | H23: Data label
A24: PUN | B24: PUN_Q1-2026_Branch_Report.pdf | C24: 2 | D24: Figure 2 | E24: Net sales by product group (INR) | F24: Fertilisers | G24: 25930 | H24: Data label
A25: PUN | B25: PUN_Q1-2026_Branch_Report.pdf | C25: 2 | D25: Figure 2 | E25: Net sales by product group (INR) | F25: Crop Protection | G25: 29078 | H25: Data label
A26: PUN | B26: PUN_Q1-2026_Branch_Report.pdf | C26: 2 | D26: Figure 2 | E26: Net sales by product group (INR) | F26: Irrigation Parts | G26: 123600 | H26: Data label
A27: PUN | B27: PUN_Q1-2026_Branch_Report.pdf | C27: 2 | D27: Figure 2 | E27: Net sales by product group (INR) | F27: Hand Tools | G27: 85081 | H27: Data label
A28: PUN | B28: PUN_Q1-2026_Branch_Report.pdf | C28: 2 | D28: Figure 2 | E28: Net sales by product group (INR) | F28: Animal Feed | G28: 69014 | H28: Data label

Sheet NAG_T1_Sales
A1: Category | B1: Units | C1: Gross Sales (INR) | D1: Returns (INR) | E1: Net Sales (INR)
A2: Seeds | B2: 211 | C2: 50640 | D2: 1248 | E2: 49392
A3: Fertilisers | B3: 1487 | C3: 126395 | D3: 4380 | E3: 122015
A4: Crop Protection | B4: 1,O02 | C4: 42084 | D4: 579 | E4: 41505
A5: Irrigation Parts | B5: 1754 | C5: 420960 | D5: 4403 | E5: 416557
A6: Hand Tools | B6: 587 | C6: 24654 | D6: 597 | E6: 24057
A7: Animal Feed | B7: 363 | C7: 15246 | D7: 274 | E7: 14972
A8: Total | B8: 5404 | C8: 679979 | D8: 11481 | E8: 668498

Sheet NAG_T2_Dispatch
A1: Month | B1: Period End | C1: Orders | D1: Avg Order Value (INR) | E1: On-Time %
A2: Jan | B2: 46053 | C2: 186 | D2: 4704.77 | E2: 0.916
A3: Feb | B3: 46081 | C3: 348 | D3: 4464.72 | E3: 0.984
A4: Mar | B4: 46112 | C4: 374 | D4: 3777.24 | E4: 0.884

Sheet NSK_T1_Sales
A1: Category | B1: Units | C1: Gross Sales (INR) | D1: Returns (INR) | E1: Net Sales (INR)
A2: Seeds | B2: 574 | C2: 48927.57 | D2: 384.61 | E2: 48542.96
A3: Fertilisers | B3: 727 | C3: 62492.42 | D3: 1073.45 | E3: 61418.97
A4: Crop Protection | B4: 1966 | C4: 233012.74 | D4: 6083.19 | E4: 226929.55
A5: Irrigation Parts | B5: 312 | C5: 13151.4 | D5: 69.51 | E5: 13081.89
A6: Hand Tools | B6: 636 | C6: 197760.92 | D6: 5750.59 | E6: 192010.33
A7: Animal Feed | B7: 316 | C7: 98017.84 | D7: 2585.96 | E7: 95431.88
A8: Total | B8: 4531 | C8: 653362.89 | D8: 15947.31 | E8: 638415.58

Sheet NSK_T2_Dispatch
A1: Month | B1: Period End | C1: Orders | D1: Avg Order Value (INR) | E1: On-Time %
A2: Jan | B2: 46053 | C2: 149 | D2: 4547.42 | E2: 0.885
A3: Feb | B3: 46081 | C3: 359 | D3: 2357.19 | E3: 0.912
A4: Mar | B4: 46112 | C4: 190 | D4: 2026.9 | E4: 0.976

Sheet PUN_T1_Sales
A1: Category | B1: Units | C1: Gross Sales (INR) | D1: Returns (INR) | E1: Net Sales (INR)
A2: Seeds | B2: 1010 | C2: 85850 | D2: 2234 | E2: 83616
A3: Fertilisers | B3: 412 | C3: 26780 | D3: 850 | E3: 25930
A4: Crop Protection | B4: 350 | C4: 29750 | D4: 672 | E4: 29078
A5: Irrigation Parts | B5: 1939 | C5: 126035 | D5: 2435 | E5: 123600
A6: Hand Tools | B6: 1007 | C6: 85595 | D6: 514 | E6: 85081
A7: Animal Feed | B7: 1090 | C7: 70850 | D7: 1836 | E7: 69014
A8: Total | B8: 5808 | C8: 424860 | D8: 8541 | E8: 416319

Sheet PUN_T2_Dispatch
A1: Month | B1: Period End | C1: Orders | D1: Avg Order Value (INR) | E1: On-Time %
A2: Jan | B2: 46053 | C2: 339 | D2: 3038.55 | E2: 0.971
A3: Feb | B3: 46081 | C3: 155 | D3: 1903.3 | E3: 0.961
A4: Mar | B4: 46112 | C4: 418 | D4: 3624.76 | E4: 0.936

Sheet Flags
A1: Source File | B1: Sheet | C1: Cell / Item | D1: Value As Printed | E1: Why Flagged | F1: Reviewer Note
A2: NAG_Q1-2026_Branch_Report.pdf | B2: NAG_T1_Sales | C2: B4 | D2: 1,O02 | E2: Unreadable character in number '1,O02' (letter in place of a digit?) - kept as printed, check source
A3: NAG_Q1-2026_Branch_Report.pdf | B3: NAG_T1_Sales | C3: B8 | D3: 5,404 | E3: Total cannot be re-added until the unreadable value above is confirmed
A4: NSK_Q1-2026_Branch_Report.pdf | B4: NSK_T1_Sales | C4: E8 | D4: 638,415.58 | E4: Printed total does not re-add: rows sum to 637,415.58, difference +1,000.00 - kept as printed
A5: PUN_Q1-2026_Branch_Report.pdf | B5: Charts_Data | C5: Figure 1 / Mar | D5: 158201 | E5: No data label printed; value estimated from bar height (~158,201, +/-667) - confirm with source owner

Sheet Checks
A1: Check | B1: Re-added From Rows | C1: Printed Total | D1: Difference | E1: Result
A2: NAG_T1_Sales: Units total | B2: =SUM('NAG_T1_Sales'!B2:B7) -> 4402 | C2: ='NAG_T1_Sales'!B8 -> 5404 | D2: =IFERROR(B2-C2,"n/a") -> -1002 | E2: =IF(ISNUMBER(D2),IF(ABS(D2)<0.005,"PASS","CHECK SOURCE"),"CHECK SOURCE") -> CHECK SOURCE
A3: NAG_T1_Sales: Gross Sales (INR) total | B3: =SUM('NAG_T1_Sales'!C2:C7) -> 679979 | C3: ='NAG_T1_Sales'!C8 -> 679979 | D3: =IFERROR(B3-C3,"n/a") -> 0 | E3: =IF(ISNUMBER(D3),IF(ABS(D3)<0.005,"PASS","CHECK SOURCE"),"CHECK SOURCE") -> PASS
A4: NAG_T1_Sales: Returns (INR) total | B4: =SUM('NAG_T1_Sales'!D2:D7) -> 11481 | C4: ='NAG_T1_Sales'!D8 -> 11481 | D4: =IFERROR(B4-C4,"n/a") -> 0 | E4: =IF(ISNUMBER(D4),IF(ABS(D4)<0.005,"PASS","CHECK SOURCE"),"CHECK SOURCE") -> PASS
A5: NAG_T1_Sales: Net Sales (INR) total | B5: =SUM('NAG_T1_Sales'!E2:E7) -> 668498 | C5: ='NAG_T1_Sales'!E8 -> 668498 | D5: =IFERROR(B5-C5,"n/a") -> 0 | E5: =IF(ISNUMBER(D5),IF(ABS(D5)<0.005,"PASS","CHECK SOURCE"),"CHECK SOURCE") -> PASS
A6: NSK_T1_Sales: Units total | B6: =SUM('NSK_T1_Sales'!B2:B7) -> 4531 | C6: ='NSK_T1_Sales'!B8 -> 4531 | D6: =IFERROR(B6-C6,"n/a") -> 0 | E6: =IF(ISNUMBER(D6),IF(ABS(D6)<0.005,"PASS","CHECK SOURCE"),"CHECK SOURCE") -> PASS
A7: NSK_T1_Sales: Gross Sales (INR) total | B7: =SUM('NSK_T1_Sales'!C2:C7) -> 653362.89 | C7: ='NSK_T1_Sales'!C8 -> 653362.89 | D7: =IFERROR(B7-C7,"n/a") -> 0 | E7: =IF(ISNUMBER(D7),IF(ABS(D7)<0.005,"PASS","CHECK SOURCE"),"CHECK SOURCE") -> PASS
A8: NSK_T1_Sales: Returns (INR) total | B8: =SUM('NSK_T1_Sales'!D2:D7) -> 15947.31 | C8: ='NSK_T1_Sales'!D8 -> 15947.31 | D8: =IFERROR(B8-C8,"n/a") -> 0 | E8: =IF(ISNUMBER(D8),IF(ABS(D8)<0.005,"PASS","CHECK SOURCE"),"CHECK SOURCE") -> PASS
A9: NSK_T1_Sales: Net Sales (INR) total | B9: =SUM('NSK_T1_Sales'!E2:E7) -> 637415.58 | C9: ='NSK_T1_Sales'!E8 -> 638415.58 | D9: =IFERROR(B9-C9,"n/a") -> -1000 | E9: =IF(ISNUMBER(D9),IF(ABS(D9)<0.005,"PASS","CHECK SOURCE"),"CHECK SOURCE") -> CHECK SOURCE
A10: PUN_T1_Sales: Units total | B10: =SUM('PUN_T1_Sales'!B2:B7) -> 5808 | C10: ='PUN_T1_Sales'!B8 -> 5808 | D10: =IFERROR(B10-C10,"n/a") -> 0 | E10: =IF(ISNUMBER(D10),IF(ABS(D10)<0.005,"PASS","CHECK SOURCE"),"CHECK SOURCE") -> PASS
A11: PUN_T1_Sales: Gross Sales (INR) total | B11: =SUM('PUN_T1_Sales'!C2:C7) -> 424860 | C11: ='PUN_T1_Sales'!C8 -> 424860 | D11: =IFERROR(B11-C11,"n/a") -> 0 | E11: =IF(ISNUMBER(D11),IF(ABS(D11)<0.005,"PASS","CHECK SOURCE"),"CHECK SOURCE") -> PASS
A12: PUN_T1_Sales: Returns (INR) total | B12: =SUM('PUN_T1_Sales'!D2:D7) -> 8541 | C12: ='PUN_T1_Sales'!D8 -> 8541 | D12: =IFERROR(B12-C12,"n/a") -> 0 | E12: =IF(ISNUMBER(D12),IF(ABS(D12)<0.005,"PASS","CHECK SOURCE"),"CHECK SOURCE") -> PASS
A13: PUN_T1_Sales: Net Sales (INR) total | B13: =SUM('PUN_T1_Sales'!E2:E7) -> 416319 | C13: ='PUN_T1_Sales'!E8 -> 416319 | D13: =IFERROR(B13-C13,"n/a") -> 0 | E13: =IF(ISNUMBER(D13),IF(ABS(D13)<0.005,"PASS","CHECK SOURCE"),"CHECK SOURCE") -> PASS
A14: Checks passed | B14: =COUNTIF(E2:E12,"PASS") -> 9
A15: Checks to review | B15: =COUNTIF(E2:E12,"CHECK SOURCE") -> 2

Sheet Header_Map
A1: Source File | B1: Sheet | C1: Heading As Printed | D1: Unified Heading
A2: NAG_Q1-2026_Branch_Report.pdf | B2: NAG_T1_Sales | C2: Product Group | D2: Category
A3: NAG_Q1-2026_Branch_Report.pdf | B3: NAG_T1_Sales | C3: Qty | D3: Units
A4: NAG_Q1-2026_Branch_Report.pdf | B4: NAG_T1_Sales | C4: Sales Value | D4: Gross Sales (INR)
A5: NAG_Q1-2026_Branch_Report.pdf | B5: NAG_T1_Sales | C5: Return Value | D5: Returns (INR)
A6: NAG_Q1-2026_Branch_Report.pdf | B6: NAG_T1_Sales | C6: Net Value | D6: Net Sales (INR)
A7: NAG_Q1-2026_Branch_Report.pdf | B7: NAG_T2_Dispatch | C7: Month | D7: Month
A8: NAG_Q1-2026_Branch_Report.pdf | B8: NAG_T2_Dispatch | C8: Month Ending | D8: Period End
A9: NAG_Q1-2026_Branch_Report.pdf | B9: NAG_T2_Dispatch | C9: No. of Orders | D9: Orders
A10: NAG_Q1-2026_Branch_Report.pdf | B10: NAG_T2_Dispatch | C10: AOV (Rs) | D10: Avg Order Value (INR)
A11: NAG_Q1-2026_Branch_Report.pdf | B11: NAG_T2_Dispatch | C11: Delivered On Time | D11: On-Time %
A12: NSK_Q1-2026_Branch_Report.pdf | B12: NSK_T1_Sales | C12: Segment | D12: Category
... A31: PUN_Q1-2026_Branch_Report.pdf | B31: PUN_T2_Dispatch | C31: On-Time % | D31: On-Time %
