Workbook

Sheet Items
A1: SKU | B1: Description | C1: Unit | D1: Opening Main | E1: Opening Annex | F1: Reorder Level
A2: PK-1001 | B2: Carton box 600x400x400 | C2: pcs | D2: 225 | E2: 19 | F2: 40
A3: PK-1002 | B3: Carton box 400x300x300 | C3: pcs | D3: 262 | E3: 83 | F3: 100
A4: PK-1003 | B4: Stretch film 500mm | C4: roll | D4: 84 | E4: 9 | F4: 50
A5: PK-1004 | B5: Packing tape 48mm | C5: roll | D5: 334 | E5: 12 | F5: 60
A6: PK-1005 | B6: Bubble wrap 1m x 50m | C6: roll | D6: 247 | E6: 74 | F6: 80
A7: PL-2001 | B7: Plastic pallet 1200x1000 | C7: pcs | D7: 89 | E7: 116 | F7: 50
A8: PL-2002 | B8: Wooden pallet 1200x800 | C8: pcs | D8: 319 | E8: 27 | F8: 100
A9: SF-3001 | B9: Safety gloves (pair) | C9: pair | D9: 79 | E9: 11 | F9: 40
A10: SF-3002 | B10: Hi-vis vest | C10: pcs | D10: 282 | E10: 53 | F10: 100
A11: LB-4001 | B11: Thermal label 100x150 | C11: roll | D11: 95 | E11: 30 | F11: 60
A12: LB-4002 | B12: Barcode ribbon 110mm | C12: roll | D12: 106 | E12: 70 | F12: 100
A13: CL-5001 | B13: Floor cleaner 5L | C13: can | D13: 277 | E13: 7 | F13: 50
... A19: ST-7002 | B19: Shelf bin large | C19: pcs | D19: 85 | E19: 28 | F19: 40

Sheet Movements
A1: Date | B1: Doc Type | C1: Doc No | D1: SKU | E1: Description | F1: Location | G1: Qty In | H1: Qty Out | I1: Entered By | J1: Running Balance (SKU @ Location) | K1: Week Starting | L1: Flag | M1: Comment | N1: Flag # (report helper)
A2: 46307 | B2: GRN | C2: GRN-5101 | D2: PK-1003 | E2: =IFERROR(INDEX(Items!$B$2:$B$19,MATCH(D2,Items!$A$2:$A$19,0)),"? not on Items") -> Stretch film 500mm | F2: Main | G2: 36 | H2: 0 | I2: Ravi | J2: =IFERROR(INDEX(IF(F2="Main",Items!$D$2:$D$19,Items!$E$2:$E$19),MATCH(D2,Items!$A$2:$A$19,0)),0)+SUMIFS($G$2:G2,$D$2:D2,D2,$F$2:F2,F2)-SUMIFS($H$2:H2,$D$2:D2,D2,$F$2:F2,F2) -> 120 | K2: =A2-WEEKDAY(A2,3) -> 46307 | L2: =IF(C2="","MISSING DOC NO",IF(ISNA(MATCH(D2,Items!$A$2:$A$19,0)),"UNKNOWN SKU",IF(COUNTIFS($C$2:$C$400,C2,$D$2:$D$400,D2,$F$2:$F$400,F2,$G$2:$G$400,G2,$H$2:$H$400,H2)>1,"DUPLICATE ENTRY",IF(J2<0,"NEGATIVE BALANCE",IF(AND(B2="TRF",COUNTIFS($C$2:$C$400,C2,$D$2:$D$400,D2)<2),"TRANSFER UNMATCHED",IF(AND(MAX(G2,H2)>=100,IFERROR(IF(G2>0,G2>5*(SUMIFS($G$2:$G$400,$D$2:$D$400,D2)-G2)/(COUNTIFS($D$2:$D$400,D2,$G$2:$G$400,">0")-1),H2>5*(SUMIFS($H$2:$H$400,$D$2:$D$400,D2)-H2)/(COUNTIFS($D$2:$D$400,D2,$H$2:$H$400,">0")-1)),FALSE)),"UNUSUAL QTY","OK")))))) -> OK | N2: =IF(AND(L2<>"OK",K2=Weekly_Report!$C$4),COUNTIFS($L$2:L2,"<>OK",$K$2:K2,Weekly_Report!$C$4),"")
A3: 46307 | B3: DN | C3: DN-8801 | D3: PK-1002 | E3: =IFERROR(INDEX(Items!$B$2:$B$19,MATCH(D3,Items!$A$2:$A$19,0)),"? not on Items") -> Carton box 400x300x300 | F3: Annex | G3: 0 | H3: 24 | I3: Ravi | J3: =IFERROR(INDEX(IF(F3="Main",Items!$D$2:$D$19,Items!$E$2:$E$19),MATCH(D3,Items!$A$2:$A$19,0)),0)+SUMIFS($G$2:G3,$D$2:D3,D3,$F$2:F3,F3)-SUMIFS($H$2:H3,$D$2:D3,D3,$F$2:F3,F3) -> 59 | K3: =A3-WEEKDAY(A3,3) -> 46307 | L3: =IF(C3="","MISSING DOC NO",IF(ISNA(MATCH(D3,Items!$A$2:$A$19,0)),"UNKNOWN SKU",IF(COUNTIFS($C$2:$C$400,C3,$D$2:$D$400,D3,$F$2:$F$400,F3,$G$2:$G$400,G3,$H$2:$H$400,H3)>1,"DUPLICATE ENTRY",IF(J3<0,"NEGATIVE BALANCE",IF(AND(B3="TRF",COUNTIFS($C$2:$C$400,C3,$D$2:$D$400,D3)<2),"TRANSFER UNMATCHED",IF(AND(MAX(G3,H3)>=100,IFERROR(IF(G3>0,G3>5*(SUMIFS($G$2:$G$400,$D$2:$D$400,D3)-G3)/(COUNTIFS($D$2:$D$400,D3,$G$2:$G$400,">0")-1),H3>5*(SUMIFS($H$2:$H$400,$D$2:$D$400,D3)-H3)/(COUNTIFS($D$2:$D$400,D3,$H$2:$H$400,">0")-1)),FALSE)),"UNUSUAL QTY","OK")))))) -> OK | N3: =IF(AND(L3<>"OK",K3=Weekly_Report!$C$4),COUNTIFS($L$2:L3,"<>OK",$K$2:K3,Weekly_Report!$C$4),"")
A4: 46307 | B4: DN | C4: DN-8802 | D4: HW-6002 | E4: =IFERROR(INDEX(Items!$B$2:$B$19,MATCH(D4,Items!$A$2:$A$19,0)),"? not on Items") -> Strapping band 12mm | F4: Annex | G4: 0 | H4: 23 | I4: Ravi | J4: =IFERROR(INDEX(IF(F4="Main",Items!$D$2:$D$19,Items!$E$2:$E$19),MATCH(D4,Items!$A$2:$A$19,0)),0)+SUMIFS($G$2:G4,$D$2:D4,D4,$F$2:F4,F4)-SUMIFS($H$2:H4,$D$2:D4,D4,$F$2:F4,F4) -> 51 | K4: =A4-WEEKDAY(A4,3) -> 46307 | L4: =IF(C4="","MISSING DOC NO",IF(ISNA(MATCH(D4,Items!$A$2:$A$19,0)),"UNKNOWN SKU",IF(COUNTIFS($C$2:$C$400,C4,$D$2:$D$400,D4,$F$2:$F$400,F4,$G$2:$G$400,G4,$H$2:$H$400,H4)>1,"DUPLICATE ENTRY",IF(J4<0,"NEGATIVE BALANCE",IF(AND(B4="TRF",COUNTIFS($C$2:$C$400,C4,$D$2:$D$400,D4)<2),"TRANSFER UNMATCHED",IF(AND(MAX(G4,H4)>=100,IFERROR(IF(G4>0,G4>5*(SUMIFS($G$2:$G$400,$D$2:$D$400,D4)-G4)/(COUNTIFS($D$2:$D$400,D4,$G$2:$G$400,">0")-1),H4>5*(SUMIFS($H$2:$H$400,$D$2:$D$400,D4)-H4)/(COUNTIFS($D$2:$D$400,D4,$H$2:$H$400,">0")-1)),FALSE)),"UNUSUAL QTY","OK")))))) -> OK | N4: =IF(AND(L4<>"OK",K4=Weekly_Report!$C$4),COUNTIFS($L$2:L4,"<>OK",$K$2:K4,Weekly_Report!$C$4),"")
A5: 46307 | B5: DN | C5: DN-8803 | D5: SF-3001 | E5: =IFERROR(INDEX(Items!$B$2:$B$19,MATCH(D5,Items!$A$2:$A$19,0)),"? not on Items") -> Safety gloves (pair) | F5: Main | G5: 0 | H5: 9 | I5: Priya | J5: =IFERROR(INDEX(IF(F5="Main",Items!$D$2:$D$19,Items!$E$2:$E$19),MATCH(D5,Items!$A$2:$A$19,0)),0)+SUMIFS($G$2:G5,$D$2:D5,D5,$F$2:F5,F5)-SUMIFS($H$2:H5,$D$2:D5,D5,$F$2:F5,F5) -> 70 | K5: =A5-WEEKDAY(A5,3) -> 46307 | L5: =IF(C5="","MISSING DOC NO",IF(ISNA(MATCH(D5,Items!$A$2:$A$19,0)),"UNKNOWN SKU",IF(COUNTIFS($C$2:$C$400,C5,$D$2:$D$400,D5,$F$2:$F$400,F5,$G$2:$G$400,G5,$H$2:$H$400,H5)>1,"DUPLICATE ENTRY",IF(J5<0,"NEGATIVE BALANCE",IF(AND(B5="TRF",COUNTIFS($C$2:$C$400,C5,$D$2:$D$400,D5)<2),"TRANSFER UNMATCHED",IF(AND(MAX(G5,H5)>=100,IFERROR(IF(G5>0,G5>5*(SUMIFS($G$2:$G$400,$D$2:$D$400,D5)-G5)/(COUNTIFS($D$2:$D$400,D5,$G$2:$G$400,">0")-1),H5>5*(SUMIFS($H$2:$H$400,$D$2:$D$400,D5)-H5)/(COUNTIFS($D$2:$D$400,D5,$H$2:$H$400,">0")-1)),FALSE)),"UNUSUAL QTY","OK")))))) -> OK | N5: =IF(AND(L5<>"OK",K5=Weekly_Report!$C$4),COUNTIFS($L$2:L5,"<>OK",$K$2:K5,Weekly_Report!$C$4),"")
A6: 46307 | B6: DN | C6: DN-8804 | D6: LB-4001 | E6: =IFERROR(INDEX(Items!$B$2:$B$19,MATCH(D6,Items!$A$2:$A$19,0)),"? not on Items") -> Thermal label 100x150 | F6: Annex | G6: 0 | H6: 22 | I6: Ravi | J6: =IFERROR(INDEX(IF(F6="Main",Items!$D$2:$D$19,Items!$E$2:$E$19),MATCH(D6,Items!$A$2:$A$19,0)),0)+SUMIFS($G$2:G6,$D$2:D6,D6,$F$2:F6,F6)-SUMIFS($H$2:H6,$D$2:D6,D6,$F$2:F6,F6) -> 8 | K6: =A6-WEEKDAY(A6,3) -> 46307 | L6: =IF(C6="","MISSING DOC NO",IF(ISNA(MATCH(D6,Items!$A$2:$A$19,0)),"UNKNOWN SKU",IF(COUNTIFS($C$2:$C$400,C6,$D$2:$D$400,D6,$F$2:$F$400,F6,$G$2:$G$400,G6,$H$2:$H$400,H6)>1,"DUPLICATE ENTRY",IF(J6<0,"NEGATIVE BALANCE",IF(AND(B6="TRF",COUNTIFS($C$2:$C$400,C6,$D$2:$D$400,D6)<2),"TRANSFER UNMATCHED",IF(AND(MAX(G6,H6)>=100,IFERROR(IF(G6>0,G6>5*(SUMIFS($G$2:$G$400,$D$2:$D$400,D6)-G6)/(COUNTIFS($D$2:$D$400,D6,$G$2:$G$400,">0")-1),H6>5*(SUMIFS($H$2:$H$400,$D$2:$D$400,D6)-H6)/(COUNTIFS($D$2:$D$400,D6,$H$2:$H$400,">0")-1)),FALSE)),"UNUSUAL QTY","OK")))))) -> OK | N6: =IF(AND(L6<>"OK",K6=Weekly_Report!$C$4),COUNTIFS($L$2:L6,"<>OK",$K$2:K6,Weekly_Report!$C$4),"")
A7: 46308 | B7: GRN | C7: GRN-5102 | D7: PK-1003 | E7: =IFERROR(INDEX(Items!$B$2:$B$19,MATCH(D7,Items!$A$2:$A$19,0)),"? not on Items") -> Stretch film 500mm | F7: Main | G7: 48 | H7: 0 | I7: Priya | J7: =IFERROR(INDEX(IF(F7="Main",Items!$D$2:$D$19,Items!$E$2:$E$19),MATCH(D7,Items!$A$2:$A$19,0)),0)+SUMIFS($G$2:G7,$D$2:D7,D7,$F$2:F7,F7)-SUMIFS($H$2:H7,$D$2:D7,D7,$F$2:F7,F7) -> 168 | K7: =A7-WEEKDAY(A7,3) -> 46307 | L7: =IF(C7="","MISSING DOC NO",IF(ISNA(MATCH(D7,Items!$A$2:$A$19,0)),"UNKNOWN SKU",IF(COUNTIFS($C$2:$C$400,C7,$D$2:$D$400,D7,$F$2:$F$400,F7,$G$2:$G$400,G7,$H$2:$H$400,H7)>1,"DUPLICATE ENTRY",IF(J7<0,"NEGATIVE BALANCE",IF(AND(B7="TRF",COUNTIFS($C$2:$C$400,C7,$D$2:$D$400,D7)<2),"TRANSFER UNMATCHED",IF(AND(MAX(G7,H7)>=100,IFERROR(IF(G7>0,G7>5*(SUMIFS($G$2:$G$400,$D$2:$D$400,D7)-G7)/(COUNTIFS($D$2:$D$400,D7,$G$2:$G$400,">0")-1),H7>5*(SUMIFS($H$2:$H$400,$D$2:$D$400,D7)-H7)/(COUNTIFS($D$2:$D$400,D7,$H$2:$H$400,">0")-1)),FALSE)),"UNUSUAL QTY","OK")))))) -> OK | N7: =IF(AND(L7<>"OK",K7=Weekly_Report!$C$4),COUNTIFS($L$2:L7,"<>OK",$K$2:K7,Weekly_Report!$C$4),"")
A8: 46308 | B8: GRN | C8: GRN-5103 | D8: HW-6002 | E8: =IFERROR(INDEX(Items!$B$2:$B$19,MATCH(D8,Items!$A$2:$A$19,0)),"? not on Items") -> Strapping band 12mm | F8: Main | G8: 48 | H8: 0 | I8: Ravi | J8: =IFERROR(INDEX(IF(F8="Main",Items!$D$2:$D$19,Items!$E$2:$E$19),MATCH(D8,Items!$A$2:$A$19,0)),0)+SUMIFS($G$2:G8,$D$2:D8,D8,$F$2:F8,F8)-SUMIFS($H$2:H8,$D$2:D8,D8,$F$2:F8,F8) -> 429 | K8: =A8-WEEKDAY(A8,3) -> 46307 | L8: =IF(C8="","MISSING DOC NO",IF(ISNA(MATCH(D8,Items!$A$2:$A$19,0)),"UNKNOWN SKU",IF(COUNTIFS($C$2:$C$400,C8,$D$2:$D$400,D8,$F$2:$F$400,F8,$G$2:$G$400,G8,$H$2:$H$400,H8)>1,"DUPLICATE ENTRY",IF(J8<0,"NEGATIVE BALANCE",IF(AND(B8="TRF",COUNTIFS($C$2:$C$400,C8,$D$2:$D$400,D8)<2),"TRANSFER UNMATCHED",IF(AND(MAX(G8,H8)>=100,IFERROR(IF(G8>0,G8>5*(SUMIFS($G$2:$G$400,$D$2:$D$400,D8)-G8)/(COUNTIFS($D$2:$D$400,D8,$G$2:$G$400,">0")-1),H8>5*(SUMIFS($H$2:$H$400,$D$2:$D$400,D8)-H8)/(COUNTIFS($D$2:$D$400,D8,$H$2:$H$400,">0")-1)),FALSE)),"UNUSUAL QTY","OK")))))) -> OK | N8: =IF(AND(L8<>"OK",K8=Weekly_Report!$C$4),COUNTIFS($L$2:L8,"<>OK",$K$2:K8,Weekly_Report!$C$4),"")
A9: 46308 | B9: TRF | C9: TRF-301 | D9: PK-1005 | E9: =IFERROR(INDEX(Items!$B$2:$B$19,MATCH(D9,Items!$A$2:$A$19,0)),"? not on Items") -> Bubble wrap 1m x 50m | F9: Main | G9: 0 | H9: 10 | I9: Ravi | J9: =IFERROR(INDEX(IF(F9="Main",Items!$D$2:$D$19,Items!$E$2:$E$19),MATCH(D9,Items!$A$2:$A$19,0)),0)+SUMIFS($G$2:G9,$D$2:D9,D9,$F$2:F9,F9)-SUMIFS($H$2:H9,$D$2:D9,D9,$F$2:F9,F9) -> 237 | K9: =A9-WEEKDAY(A9,3) -> 46307 | L9: =IF(C9="","MISSING DOC NO",IF(ISNA(MATCH(D9,Items!$A$2:$A$19,0)),"UNKNOWN SKU",IF(COUNTIFS($C$2:$C$400,C9,$D$2:$D$400,D9,$F$2:$F$400,F9,$G$2:$G$400,G9,$H$2:$H$400,H9)>1,"DUPLICATE ENTRY",IF(J9<0,"NEGATIVE BALANCE",IF(AND(B9="TRF",COUNTIFS($C$2:$C$400,C9,$D$2:$D$400,D9)<2),"TRANSFER UNMATCHED",IF(AND(MAX(G9,H9)>=100,IFERROR(IF(G9>0,G9>5*(SUMIFS($G$2:$G$400,$D$2:$D$400,D9)-G9)/(COUNTIFS($D$2:$D$400,D9,$G$2:$G$400,">0")-1),H9>5*(SUMIFS($H$2:$H$400,$D$2:$D$400,D9)-H9)/(COUNTIFS($D$2:$D$400,D9,$H$2:$H$400,">0")-1)),FALSE)),"UNUSUAL QTY","OK")))))) -> OK | M9: To Annex | N9: =IF(AND(L9<>"OK",K9=Weekly_Report!$C$4),COUNTIFS($L$2:L9,"<>OK",$K$2:K9,Weekly_Report!$C$4),"")
A10: 46308 | B10: TRF | C10: TRF-301 | D10: PK-1005 | E10: =IFERROR(INDEX(Items!$B$2:$B$19,MATCH(D10,Items!$A$2:$A$19,0)),"? not on Items") -> Bubble wrap 1m x 50m | F10: Annex | G10: 10 | H10: 0 | I10: Ravi | J10: =IFERROR(INDEX(IF(F10="Main",Items!$D$2:$D$19,Items!$E$2:$E$19),MATCH(D10,Items!$A$2:$A$19,0)),0)+SUMIFS($G$2:G10,$D$2:D10,D10,$F$2:F10,F10)-SUMIFS($H$2:H10,$D$2:D10,D10,$F$2:F10,F10) -> 84 | K10: =A10-WEEKDAY(A10,3) -> 46307 | L10: =IF(C10="","MISSING DOC NO",IF(ISNA(MATCH(D10,Items!$A$2:$A$19,0)),"UNKNOWN SKU",IF(COUNTIFS($C$2:$C$400,C10,$D$2:$D$400,D10,$F$2:$F$400,F10,$G$2:$G$400,G10,$H$2:$H$400,H10)>1,"DUPLICATE ENTRY",IF(J10<0,"NEGATIVE BALANCE",IF(AND(B10="TRF",COUNTIFS($C$2:$C$400,C10,$D$2:$D$400,D10)<2),"TRANSFER UNMATCHED",IF(AND(MAX(G10,H10)>=100,IFERROR(IF(G10>0,G10>5*(SUMIFS($G$2:$G$400,$D$2:$D$400,D10)-G10)/(COUNTIFS($D$2:$D$400,D10,$G$2:$G$400,">0")-1),H10>5*(SUMIFS($H$2:$H$400,$D$2:$D$400,D10)-H10)/(COUNTIFS($D$2:$D$400,D10,$H$2:$H$400,">0")-1)),FALSE)),"UNUSUAL QTY","OK")))))) -> OK | M10: From Main | N10: =IF(AND(L10<>"OK",K10=Weekly_Report!$C$4),COUNTIFS($L$2:L10,"<>OK",$K$2:K10,Weekly_Report!$C$4),"")
A11: 46308 | B11: DN | C11: DN-8805 | D11: PK-1003 | E11: =IFERROR(INDEX(Items!$B$2:$B$19,MATCH(D11,Items!$A$2:$A$19,0)),"? not on Items") -> Stretch film 500mm | F11: Annex | G11: 0 | H11: 4 | I11: Priya | J11: =IFERROR(INDEX(IF(F11="Main",Items!$D$2:$D$19,Items!$E$2:$E$19),MATCH(D11,Items!$A$2:$A$19,0)),0)+SUMIFS($G$2:G11,$D$2:D11,D11,$F$2:F11,F11)-SUMIFS($H$2:H11,$D$2:D11,D11,$F$2:F11,F11) -> 5 | K11: =A11-WEEKDAY(A11,3) -> 46307 | L11: =IF(C11="","MISSING DOC NO",IF(ISNA(MATCH(D11,Items!$A$2:$A$19,0)),"UNKNOWN SKU",IF(COUNTIFS($C$2:$C$400,C11,$D$2:$D$400,D11,$F$2:$F$400,F11,$G$2:$G$400,G11,$H$2:$H$400,H11)>1,"DUPLICATE ENTRY",IF(J11<0,"NEGATIVE BALANCE",IF(AND(B11="TRF",COUNTIFS($C$2:$C$400,C11,$D$2:$D$400,D11)<2),"TRANSFER UNMATCHED",IF(AND(MAX(G11,H11)>=100,IFERROR(IF(G11>0,G11>5*(SUMIFS($G$2:$G$400,$D$2:$D$400,D11)-G11)/(COUNTIFS($D$2:$D$400,D11,$G$2:$G$400,">0")-1),H11>5*(SUMIFS($H$2:$H$400,$D$2:$D$400,D11)-H11)/(COUNTIFS($D$2:$D$400,D11,$H$2:$H$400,">0")-1)),FALSE)),"UNUSUAL QTY","OK")))))) -> OK | N11: =IF(AND(L11<>"OK",K11=Weekly_Report!$C$4),COUNTIFS($L$2:L11,"<>OK",$K$2:K11,Weekly_Report!$C$4),"")
A12: 46308 | B12: DN | C12: DN-8806 | D12: CL-5001 | E12: =IFERROR(INDEX(Items!$B$2:$B$19,MATCH(D12,Items!$A$2:$A$19,0)),"? not on Items") -> Floor cleaner 5L | F12: Annex | G12: 0 | H12: 2 | I12: Priya | J12: =IFERROR(INDEX(IF(F12="Main",Items!$D$2:$D$19,Items!$E$2:$E$19),MATCH(D12,Items!$A$2:$A$19,0)),0)+SUMIFS($G$2:G12,$D$2:D12,D12,$F$2:F12,F12)-SUMIFS($H$2:H12,$D$2:D12,D12,$F$2:F12,F12) -> 5 | K12: =A12-WEEKDAY(A12,3) -> 46307 | L12: =IF(C12="","MISSING DOC NO",IF(ISNA(MATCH(D12,Items!$A$2:$A$19,0)),"UNKNOWN SKU",IF(COUNTIFS($C$2:$C$400,C12,$D$2:$D$400,D12,$F$2:$F$400,F12,$G$2:$G$400,G12,$H$2:$H$400,H12)>1,"DUPLICATE ENTRY",IF(J12<0,"NEGATIVE BALANCE",IF(AND(B12="TRF",COUNTIFS($C$2:$C$400,C12,$D$2:$D$400,D12)<2),"TRANSFER UNMATCHED",IF(AND(MAX(G12,H12)>=100,IFERROR(IF(G12>0,G12>5*(SUMIFS($G$2:$G$400,$D$2:$D$400,D12)-G12)/(COUNTIFS($D$2:$D$400,D12,$G$2:$G$400,">0")-1),H12>5*(SUMIFS($H$2:$H$400,$D$2:$D$400,D12)-H12)/(COUNTIFS($D$2:$D$400,D12,$H$2:$H$400,">0")-1)),FALSE)),"UNUSUAL QTY","OK")))))) -> OK | N12: =IF(AND(L12<>"OK",K12=Weekly_Report!$C$4),COUNTIFS($L$2:L12,"<>OK",$K$2:K12,Weekly_Report!$C$4),"")
A13: 46308 | B13: TRF | C13: TRF-302 | D13: PK-1003 | E13: =IFERROR(INDEX(Items!$B$2:$B$19,MATCH(D13,Items!$A$2:$A$19,0)),"? not on Items") -> Stretch film 500mm | F13: Main | G13: 0 | H13: 30 | I13: Ravi | J13: =IFERROR(INDEX(IF(F13="Main",Items!$D$2:$D$19,Items!$E$2:$E$19),MATCH(D13,Items!$A$2:$A$19,0)),0)+SUMIFS($G$2:G13,$D$2:D13,D13,$F$2:F13,F13)-SUMIFS($H$2:H13,$D$2:D13,D13,$F$2:F13,F13) -> 138 | K13: =A13-WEEKDAY(A13,3) -> 46307 | L13: =IF(C13="","MISSING DOC NO",IF(ISNA(MATCH(D13,Items!$A$2:$A$19,0)),"UNKNOWN SKU",IF(COUNTIFS($C$2:$C$400,C13,$D$2:$D$400,D13,$F$2:$F$400,F13,$G$2:$G$400,G13,$H$2:$H$400,H13)>1,"DUPLICATE ENTRY",IF(J13<0,"NEGATIVE BALANCE",IF(AND(B13="TRF",COUNTIFS($C$2:$C$400,C13,$D$2:$D$400,D13)<2),"TRANSFER UNMATCHED",IF(AND(MAX(G13,H13)>=100,IFERROR(IF(G13>0,G13>5*(SUMIFS($G$2:$G$400,$D$2:$D$400,D13)-G13)/(COUNTIFS($D$2:$D$400,D13,$G$2:$G$400,">0")-1),H13>5*(SUMIFS($H$2:$H$400,$D$2:$D$400,D13)-H13)/(COUNTIFS($D$2:$D$400,D13,$H$2:$H$400,">0")-1)),FALSE)),"UNUSUAL QTY","OK")))))) -> OK | M13: To Annex | N13: =IF(AND(L13<>"OK",K13=Weekly_Report!$C$4),COUNTIFS($L$2:L13,"<>OK",$K$2:K13,Weekly_Report!$C$4),"")
A14: 46308 | B14: TRF | C14: TRF-302 | D14: PK-1003 | E14: =IFERROR(INDEX(Items!$B$2:$B$19,MATCH(D14,Items!$A$2:$A$19,0)),"? not on Items") -> Stretch film 500mm | F14: Annex | G14: 30 | H14: 0 | I14: Ravi | J14: =IFERROR(INDEX(IF(F14="Main",Items!$D$2:$D$19,Items!$E$2:$E$19),MATCH(D14,Items!$A$2:$A$19,0)),0)+SUMIFS($G$2:G14,$D$2:D14,D14,$F$2:F14,F14)-SUMIFS($H$2:H14,$D$2:D14,D14,$F$2:F14,F14) -> 35 | K14: =A14-WEEKDAY(A14,3) -> 46307 | L14: =IF(C14="","MISSING DOC NO",IF(ISNA(MATCH(D14,Items!$A$2:$A$19,0)),"UNKNOWN SKU",IF(COUNTIFS($C$2:$C$400,C14,$D$2:$D$400,D14,$F$2:$F$400,F14,$G$2:$G$400,G14,$H$2:$H$400,H14)>1,"DUPLICATE ENTRY",IF(J14<0,"NEGATIVE BALANCE",IF(AND(B14="TRF",COUNTIFS($C$2:$C$400,C14,$D$2:$D$400,D14)<2),"TRANSFER UNMATCHED",IF(AND(MAX(G14,H14)>=100,IFERROR(IF(G14>0,G14>5*(SUMIFS($G$2:$G$400,$D$2:$D$400,D14)-G14)/(COUNTIFS($D$2:$D$400,D14,$G$2:$G$400,">0")-1),H14>5*(SUMIFS($H$2:$H$400,$D$2:$D$400,D14)-H14)/(COUNTIFS($D$2:$D$400,D14,$H$2:$H$400,">0")-1)),FALSE)),"UNUSUAL QTY","OK")))))) -> OK | M14: From Main | N14: =IF(AND(L14<>"OK",K14=Weekly_Report!$C$4),COUNTIFS($L$2:L14,"<>OK",$K$2:K14,Weekly_Report!$C$4),"")
A15: 46308 | B15: TRF | C15: TRF-303 | D15: PK-1001 | E15: =IFERROR(INDEX(Items!$B$2:$B$19,MATCH(D15,Items!$A$2:$A$19,0)),"? not on Items") -> Carton box 600x400x400 | F15: Main | G15: 0 | H15: 10 | I15: Ravi | J15: =IFERROR(INDEX(IF(F15="Main",Items!$D$2:$D$19,Items!$E$2:$E$19),MATCH(D15,Items!$A$2:$A$19,0)),0)+SUMIFS($G$2:G15,$D$2:D15,D15,$F$2:F15,F15)-SUMIFS($H$2:H15,$D$2:D15,D15,$F$2:F15,F15) -> 215 | K15: =A15-WEEKDAY(A15,3) -> 46307 | L15: =IF(C15="","MISSING DOC NO",IF(ISNA(MATCH(D15,Items!$A$2:$A$19,0)),"UNKNOWN SKU",IF(COUNTIFS($C$2:$C$400,C15,$D$2:$D$400,D15,$F$2:$F$400,F15,$G$2:$G$400,G15,$H$2:$H$400,H15)>1,"DUPLICATE ENTRY",IF(J15<0,"NEGATIVE BALANCE",IF(AND(B15="TRF",COUNTIFS($C$2:$C$400,C15,$D$2:$D$400,D15)<2),"TRANSFER UNMATCHED",IF(AND(MAX(G15,H15)>=100,IFERROR(IF(G15>0,G15>5*(SUMIFS($G$2:$G$400,$D$2:$D$400,D15)-G15)/(COUNTIFS($D$2:$D$400,D15,$G$2:$G$400,">0")-1),H15>5*(SUMIFS($H$2:$H$400,$D$2:$D$400,D15)-H15)/(COUNTIFS($D$2:$D$400,D15,$H$2:$H$400,">0")-1)),FALSE)),"UNUSUAL QTY","OK")))))) -> OK | M15: To Annex | N15: =IF(AND(L15<>"OK",K15=Weekly_Report!$C$4),COUNTIFS($L$2:L15,"<>OK",$K$2:K15,Weekly_Report!$C$4),"")
A16: 46308 | B16: TRF | C16: TRF-303 | D16: PK-1001 | E16: =IFERROR(INDEX(Items!$B$2:$B$19,MATCH(D16,Items!$A$2:$A$19,0)),"? not on Items") -> Carton box 600x400x400 | F16: Annex | G16: 10 | H16: 0 | I16: Ravi | J16: =IFERROR(INDEX(IF(F16="Main",Items!$D$2:$D$19,Items!$E$2:$E$19),MATCH(D16,Items!$A$2:$A$19,0)),0)+SUMIFS($G$2:G16,$D$2:D16,D16,$F$2:F16,F16)-SUMIFS($H$2:H16,$D$2:D16,D16,$F$2:F16,F16) -> 29 | K16: =A16-WEEKDAY(A16,3) -> 46307 | L16: =IF(C16="","MISSING DOC NO",IF(ISNA(MATCH(D16,Items!$A$2:$A$19,0)),"UNKNOWN SKU",IF(COUNTIFS($C$2:$C$400,C16,$D$2:$D$400,D16,$F$2:$F$400,F16,$G$2:$G$400,G16,$H$2:$H$400,H16)>1,"DUPLICATE ENTRY",IF(J16<0,"NEGATIVE BALANCE",IF(AND(B16="TRF",COUNTIFS($C$2:$C$400,C16,$D$2:$D$400,D16)<2),"TRANSFER UNMATCHED",IF(AND(MAX(G16,H16)>=100,IFERROR(IF(G16>0,G16>5*(SUMIFS($G$2:$G$400,$D$2:$D$400,D16)-G16)/(COUNTIFS($D$2:$D$400,D16,$G$2:$G$400,">0")-1),H16>5*(SUMIFS($H$2:$H$400,$D$2:$D$400,D16)-H16)/(COUNTIFS($D$2:$D$400,D16,$H$2:$H$400,">0")-1)),FALSE)),"UNUSUAL QTY","OK")))))) -> OK | M16: From Main | N16: =IF(AND(L16<>"OK",K16=Weekly_Report!$C$4),COUNTIFS($L$2:L16,"<>OK",$K$2:K16,Weekly_Report!$C$4),"")
A17: 46309 | B17: GRN | C17: GRN-5104 | D17: HW-6003 | E17: =IFERROR(INDEX(Items!$B$2:$B$19,MATCH(D17,Items!$A$2:$A$19,0)),"? not on Items") -> Strapping seals (1000) | F17: Main | G17: 36 | H17: 0 | I17: Ravi | J17: =IFERROR(INDEX(IF(F17="Main",Items!$D$2:$D$19,Items!$E$2:$E$19),MATCH(D17,Items!$A$2:$A$19,0)),0)+SUMIFS($G$2:G17,$D$2:D17,D17,$F$2:F17,F17)-SUMIFS($H$2:H17,$D$2:D17,D17,$F$2:F17,F17) -> 127 | K17: =A17-WEEKDAY(A17,3) -> 46307 | L17: =IF(C17="","MISSING DOC NO",IF(ISNA(MATCH(D17,Items!$A$2:$A$19,0)),"UNKNOWN SKU",IF(COUNTIFS($C$2:$C$400,C17,$D$2:$D$400,D17,$F$2:$F$400,F17,$G$2:$G$400,G17,$H$2:$H$400,H17)>1,"DUPLICATE ENTRY",IF(J17<0,"NEGATIVE BALANCE",IF(AND(B17="TRF",COUNTIFS($C$2:$C$400,C17,$D$2:$D$400,D17)<2),"TRANSFER UNMATCHED",IF(AND(MAX(G17,H17)>=100,IFERROR(IF(G17>0,G17>5*(SUMIFS($G$2:$G$400,$D$2:$D$400,D17)-G17)/(COUNTIFS($D$2:$D$400,D17,$G$2:$G$400,">0")-1),H17>5*(SUMIFS($H$2:$H$400,$D$2:$D$400,D17)-H17)/(COUNTIFS($D$2:$D$400,D17,$H$2:$H$400,">0")-1)),FALSE)),"UNUSUAL QTY","OK")))))) -> OK | N17: =IF(AND(L17<>"OK",K17=Weekly_Report!$C$4),COUNTIFS($L$2:L17,"<>OK",$K$2:K17,Weekly_Report!$C$4),"")
A18: 46309 | B18: GRN | C18: GRN-5105 | D18: ST-7002 | E18: =IFERROR(INDEX(Items!$B$2:$B$19,MATCH(D18,Items!$A$2:$A$19,0)),"? not on Items") -> Shelf bin large | F18: Main | G18: 48 | H18: 0 | I18: Ravi | J18: =IFERROR(INDEX(IF(F18="Main",Items!$D$2:$D$19,Items!$E$2:$E$19),MATCH(D18,Items!$A$2:$A$19,0)),0)+SUMIFS($G$2:G18,$D$2:D18,D18,$F$2:F18,F18)-SUMIFS($H$2:H18,$D$2:D18,D18,$F$2:F18,F18) -> 133 | K18: =A18-WEEKDAY(A18,3) -> 46307 | L18: =IF(C18="","MISSING DOC NO",IF(ISNA(MATCH(D18,Items!$A$2:$A$19,0)),"UNKNOWN SKU",IF(COUNTIFS($C$2:$C$400,C18,$D$2:$D$400,D18,$F$2:$F$400,F18,$G$2:$G$400,G18,$H$2:$H$400,H18)>1,"DUPLICATE ENTRY",IF(J18<0,"NEGATIVE BALANCE",IF(AND(B18="TRF",COUNTIFS($C$2:$C$400,C18,$D$2:$D$400,D18)<2),"TRANSFER UNMATCHED",IF(AND(MAX(G18,H18)>=100,IFERROR(IF(G18>0,G18>5*(SUMIFS($G$2:$G$400,$D$2:$D$400,D18)-G18)/(COUNTIFS($D$2:$D$400,D18,$G$2:$G$400,">0")-1),H18>5*(SUMIFS($H$2:$H$400,$D$2:$D$400,D18)-H18)/(COUNTIFS($D$2:$D$400,D18,$H$2:$H$400,">0")-1)),FALSE)),"UNUSUAL QTY","OK")))))) -> OK | N18: =IF(AND(L18<>"OK",K18=Weekly_Report!$C$4),COUNTIFS($L$2:L18,"<>OK",$K$2:K18,Weekly_Report!$C$4),"")
A19: 46309 | B19: DN | C19: DN-8807 | D19: SF-3001 | E19: =IFERROR(INDEX(Items!$B$2:$B$19,MATCH(D19,Items!$A$2:$A$19,0)),"? not on Items") -> Safety gloves (pair) | F19: Main | G19: 0 | H19: 14 | I19: Ravi | J19: =IFERROR(INDEX(IF(F19="Main",Items!$D$2:$D$19,Items!$E$2:$E$19),MATCH(D19,Items!$A$2:$A$19,0)),0)+SUMIFS($G$2:G19,$D$2:D19,D19,$F$2:F19,F19)-SUMIFS($H$2:H19,$D$2:D19,D19,$F$2:F19,F19) -> 56 | K19: =A19-WEEKDAY(A19,3) -> 46307 | L19: =IF(C19="","MISSING DOC NO",IF(ISNA(MATCH(D19,Items!$A$2:$A$19,0)),"UNKNOWN SKU",IF(COUNTIFS($C$2:$C$400,C19,$D$2:$D$400,D19,$F$2:$F$400,F19,$G$2:$G$400,G19,$H$2:$H$400,H19)>1,"DUPLICATE ENTRY",IF(J19<0,"NEGATIVE BALANCE",IF(AND(B19="TRF",COUNTIFS($C$2:$C$400,C19,$D$2:$D$400,D19)<2),"TRANSFER UNMATCHED",IF(AND(MAX(G19,H19)>=100,IFERROR(IF(G19>0,G19>5*(SUMIFS($G$2:$G$400,$D$2:$D$400,D19)-G19)/(COUNTIFS($D$2:$D$400,D19,$G$2:$G$400,">0")-1),H19>5*(SUMIFS($H$2:$H$400,$D$2:$D$400,D19)-H19)/(COUNTIFS($D$2:$D$400,D19,$H$2:$H$400,">0")-1)),FALSE)),"UNUSUAL QTY","OK")))))) -> OK | N19: =IF(AND(L19<>"OK",K19=Weekly_Report!$C$4),COUNTIFS($L$2:L19,"<>OK",$K$2:K19,Weekly_Report!$C$4),"")
A20: 46309 | B20: DN | C20: DN-8808 | D20: HW-6002 | E20: =IFERROR(INDEX(Items!$B$2:$B$19,MATCH(D20,Items!$A$2:$A$19,0)),"? not on Items") -> Strapping band 12mm | F20: Main | G20: 0 | H20: 31 | I20: Ravi | J20: =IFERROR(INDEX(IF(F20="Main",Items!$D$2:$D$19,Items!$E$2:$E$19),MATCH(D20,Items!$A$2:$A$19,0)),0)+SUMIFS($G$2:G20,$D$2:D20,D20,$F$2:F20,F20)-SUMIFS($H$2:H20,$D$2:D20,D20,$F$2:F20,F20) -> 398 | K20: =A20-WEEKDAY(A20,3) -> 46307 | L20: =IF(C20="","MISSING DOC NO",IF(ISNA(MATCH(D20,Items!$A$2:$A$19,0)),"UNKNOWN SKU",IF(COUNTIFS($C$2:$C$400,C20,$D$2:$D$400,D20,$F$2:$F$400,F20,$G$2:$G$400,G20,$H$2:$H$400,H20)>1,"DUPLICATE ENTRY",IF(J20<0,"NEGATIVE BALANCE",IF(AND(B20="TRF",COUNTIFS($C$2:$C$400,C20,$D$2:$D$400,D20)<2),"TRANSFER UNMATCHED",IF(AND(MAX(G20,H20)>=100,IFERROR(IF(G20>0,G20>5*(SUMIFS($G$2:$G$400,$D$2:$D$400,D20)-G20)/(COUNTIFS($D$2:$D$400,D20,$G$2:$G$400,">0")-1),H20>5*(SUMIFS($H$2:$H$400,$D$2:$D$400,D20)-H20)/(COUNTIFS($D$2:$D$400,D20,$H$2:$H$400,">0")-1)),FALSE)),"UNUSUAL QTY","OK")))))) -> OK | N20: =IF(AND(L20<>"OK",K20=Weekly_Report!$C$4),COUNTIFS($L$2:L20,"<>OK",$K$2:K20,Weekly_Report!$C$4),"")
A21: 46309 | B21: TRF | C21: TRF-304 | D21: CL-5002 | E21: =IFERROR(INDEX(Items!$B$2:$B$19,MATCH(D21,Items!$A$2:$A$19,0)),"? not on Items") -> Industrial wipes | F21: Main | G21: 0 | H21: 10 | I21: Manaz | J21: =IFERROR(INDEX(IF(F21="Main",Items!$D$2:$D$19,Items!$E$2:$E$19),MATCH(D21,Items!$A$2:$A$19,0)),0)+SUMIFS($G$2:G21,$D$2:D21,D21,$F$2:F21,F21)-SUMIFS($H$2:H21,$D$2:D21,D21,$F$2:F21,F21) -> 339 | K21: =A21-WEEKDAY(A21,3) -> 46307 | L21: =IF(C21="","MISSING DOC NO",IF(ISNA(MATCH(D21,Items!$A$2:$A$19,0)),"UNKNOWN SKU",IF(COUNTIFS($C$2:$C$400,C21,$D$2:$D$400,D21,$F$2:$F$400,F21,$G$2:$G$400,G21,$H$2:$H$400,H21)>1,"DUPLICATE ENTRY",IF(J21<0,"NEGATIVE BALANCE",IF(AND(B21="TRF",COUNTIFS($C$2:$C$400,C21,$D$2:$D$400,D21)<2),"TRANSFER UNMATCHED",IF(AND(MAX(G21,H21)>=100,IFERROR(IF(G21>0,G21>5*(SUMIFS($G$2:$G$400,$D$2:$D$400,D21)-G21)/(COUNTIFS($D$2:$D$400,D21,$G$2:$G$400,">0")-1),H21>5*(SUMIFS($H$2:$H$400,$D$2:$D$400,D21)-H21)/(COUNTIFS($D$2:$D$400,D21,$H$2:$H$400,">0")-1)),FALSE)),"UNUSUAL QTY","OK")))))) -> OK | M21: To Annex | N21: =IF(AND(L21<>"OK",K21=Weekly_Report!$C$4),COUNTIFS($L$2:L21,"<>OK",$K$2:K21,Weekly_Report!$C$4),"")
A22: 46309 | B22: TRF | C22: TRF-304 | D22: CL-5002 | E22: =IFERROR(INDEX(Items!$B$2:$B$19,MATCH(D22,Items!$A$2:$A$19,0)),"? not on Items") -> Industrial wipes | F22: Annex | G22: 10 | H22: 0 | I22: Manaz | J22: =IFERROR(INDEX(IF(F22="Main",Items!$D$2:$D$19,Items!$E$2:$E$19),MATCH(D22,Items!$A$2:$A$19,0)),0)+SUMIFS($G$2:G22,$D$2:D22,D22,$F$2:F22,F22)-SUMIFS($H$2:H22,$D$2:D22,D22,$F$2:F22,F22) -> 25 | K22: =A22-WEEKDAY(A22,3) -> 46307 | L22: =IF(C22="","MISSING DOC NO",IF(ISNA(MATCH(D22,Items!$A$2:$A$19,0)),"UNKNOWN SKU",IF(COUNTIFS($C$2:$C$400,C22,$D$2:$D$400,D22,$F$2:$F$400,F22,$G$2:$G$400,G22,$H$2:$H$400,H22)>1,"DUPLICATE ENTRY",IF(J22<0,"NEGATIVE BALANCE",IF(AND(B22="TRF",COUNTIFS($C$2:$C$400,C22,$D$2:$D$400,D22)<2),"TRANSFER UNMATCHED",IF(AND(MAX(G22,H22)>=100,IFERROR(IF(G22>0,G22>5*(SUMIFS($G$2:$G$400,$D$2:$D$400,D22)-G22)/(COUNTIFS($D$2:$D$400,D22,$G$2:$G$400,">0")-1),H22>5*(SUMIFS($H$2:$H$400,$D$2:$D$400,D22)-H22)/(COUNTIFS($D$2:$D$400,D22,$H$2:$H$400,">0")-1)),FALSE)),"UNUSUAL QTY","OK")))))) -> OK | M22: From Main | N22: =IF(AND(L22<>"OK",K22=Weekly_Report!$C$4),COUNTIFS($L$2:L22,"<>OK",$K$2:K22,Weekly_Report!$C$4),"")
A23: 46310 | B23: GRN | C23: GRN-5106 | D23: PK-1005 | E23: =IFERROR(INDEX(Items!$B$2:$B$19,MATCH(D23,Items!$A$2:$A$19,0)),"? not on Items") -> Bubble wrap 1m x 50m | F23: Main | G23: 24 | H23: 0 | I23: Manaz | J23: =IFERROR(INDEX(IF(F23="Main",Items!$D$2:$D$19,Items!$E$2:$E$19),MATCH(D23,Items!$A$2:$A$19,0)),0)+SUMIFS($G$2:G23,$D$2:D23,D23,$F$2:F23,F23)-SUMIFS($H$2:H23,$D$2:D23,D23,$F$2:F23,F23) -> 261 | K23: =A23-WEEKDAY(A23,3) -> 46307 | L23: =IF(C23="","MISSING DOC NO",IF(ISNA(MATCH(D23,Items!$A$2:$A$19,0)),"UNKNOWN SKU",IF(COUNTIFS($C$2:$C$400,C23,$D$2:$D$400,D23,$F$2:$F$400,F23,$G$2:$G$400,G23,$H$2:$H$400,H23)>1,"DUPLICATE ENTRY",IF(J23<0,"NEGATIVE BALANCE",IF(AND(B23="TRF",COUNTIFS($C$2:$C$400,C23,$D$2:$D$400,D23)<2),"TRANSFER UNMATCHED",IF(AND(MAX(G23,H23)>=100,IFERROR(IF(G23>0,G23>5*(SUMIFS($G$2:$G$400,$D$2:$D$400,D23)-G23)/(COUNTIFS($D$2:$D$400,D23,$G$2:$G$400,">0")-1),H23>5*(SUMIFS($H$2:$H$400,$D$2:$D$400,D23)-H23)/(COUNTIFS($D$2:$D$400,D23,$H$2:$H$400,">0")-1)),FALSE)),"UNUSUAL QTY","OK")))))) -> OK | N23: =IF(AND(L23<>"OK",K23=Weekly_Report!$C$4),COUNTIFS($L$2:L23,"<>OK",$K$2:K23,Weekly_Report!$C$4),"")
A24: 46310 | B24: GRN | C24: GRN-5107 | D24: PK-1001 | E24: =IFERROR(INDEX(Items!$B$2:$B$19,MATCH(D24,Items!$A$2:$A$19,0)),"? not on Items") -> Carton box 600x400x400 | F24: Main | G24: 48 | H24: 0 | I24: Priya | J24: =IFERROR(INDEX(IF(F24="Main",Items!$D$2:$D$19,Items!$E$2:$E$19),MATCH(D24,Items!$A$2:$A$19,0)),0)+SUMIFS($G$2:G24,$D$2:D24,D24,$F$2:F24,F24)-SUMIFS($H$2:H24,$D$2:D24,D24,$F$2:F24,F24) -> 263 | K24: =A24-WEEKDAY(A24,3) -> 46307 | L24: =IF(C24="","MISSING DOC NO",IF(ISNA(MATCH(D24,Items!$A$2:$A$19,0)),"UNKNOWN SKU",IF(COUNTIFS($C$2:$C$400,C24,$D$2:$D$400,D24,$F$2:$F$400,F24,$G$2:$G$400,G24,$H$2:$H$400,H24)>1,"DUPLICATE ENTRY",IF(J24<0,"NEGATIVE BALANCE",IF(AND(B24="TRF",COUNTIFS($C$2:$C$400,C24,$D$2:$D$400,D24)<2),"TRANSFER UNMATCHED",IF(AND(MAX(G24,H24)>=100,IFERROR(IF(G24>0,G24>5*(SUMIFS($G$2:$G$400,$D$2:$D$400,D24)-G24)/(COUNTIFS($D$2:$D$400,D24,$G$2:$G$400,">0")-1),H24>5*(SUMIFS($H$2:$H$400,$D$2:$D$400,D24)-H24)/(COUNTIFS($D$2:$D$400,D24,$H$2:$H$400,">0")-1)),FALSE)),"UNUSUAL QTY","OK")))))) -> OK | N24: =IF(AND(L24<>"OK",K24=Weekly_Report!$C$4),COUNTIFS($L$2:L24,"<>OK",$K$2:K24,Weekly_Report!$C$4),"")
A25: 46310 | B25: DN | C25: DN-8809 | D25: HW-6003 | E25: =IFERROR(INDEX(Items!$B$2:$B$19,MATCH(D25,Items!$A$2:$A$19,0)),"? not on Items") -> Strapping seals (1000) | F25: Annex | G25: 0 | H25: 22 | I25: Manaz | J25: =IFERROR(INDEX(IF(F25="Main",Items!$D$2:$D$19,Items!$E$2:$E$19),MATCH(D25,Items!$A$2:$A$19,0)),0)+SUMIFS($G$2:G25,$D$2:D25,D25,$F$2:F25,F25)-SUMIFS($H$2:H25,$D$2:D25,D25,$F$2:F25,F25) -> 51 | K25: =A25-WEEKDAY(A25,3) -> 46307 | L25: =IF(C25="","MISSING DOC NO",IF(ISNA(MATCH(D25,Items!$A$2:$A$19,0)),"UNKNOWN SKU",IF(COUNTIFS($C$2:$C$400,C25,$D$2:$D$400,D25,$F$2:$F$400,F25,$G$2:$G$400,G25,$H$2:$H$400,H25)>1,"DUPLICATE ENTRY",IF(J25<0,"NEGATIVE BALANCE",IF(AND(B25="TRF",COUNTIFS($C$2:$C$400,C25,$D$2:$D$400,D25)<2),"TRANSFER UNMATCHED",IF(AND(MAX(G25,H25)>=100,IFERROR(IF(G25>0,G25>5*(SUMIFS($G$2:$G$400,$D$2:$D$400,D25)-G25)/(COUNTIFS($D$2:$D$400,D25,$G$2:$G$400,">0")-1),H25>5*(SUMIFS($H$2:$H$400,$D$2:$D$400,D25)-H25)/(COUNTIFS($D$2:$D$400,D25,$H$2:$H$400,">0")-1)),FALSE)),"UNUSUAL QTY","OK")))))) -> OK | N25: =IF(AND(L25<>"OK",K25=Weekly_Report!$C$4),COUNTIFS($L$2:L25,"<>OK",$K$2:K25,Weekly_Report!$C$4),"")
A26: 46310 | B26: TRF | C26: TRF-305 | D26: LB-4002 | E26: =IFERROR(INDEX(Items!$B$2:$B$19,MATCH(D26,Items!$A$2:$A$19,0)),"? not on Items") -> Barcode ribbon 110mm | F26: Main | G26: 0 | H26: 30 | I26: Priya | J26: =IFERROR(INDEX(IF(F26="Main",Items!$D$2:$D$19,Items!$E$2:$E$19),MATCH(D26,Items!$A$2:$A$19,0)),0)+SUMIFS($G$2:G26,$D$2:D26,D26,$F$2:F26,F26)-SUMIFS($H$2:H26,$D$2:D26,D26,$F$2:F26,F26) -> 76 | K26: =A26-WEEKDAY(A26,3) -> 46307 | L26: =IF(C26="","MISSING DOC NO",IF(ISNA(MATCH(D26,Items!$A$2:$A$19,0)),"UNKNOWN SKU",IF(COUNTIFS($C$2:$C$400,C26,$D$2:$D$400,D26,$F$2:$F$400,F26,$G$2:$G$400,G26,$H$2:$H$400,H26)>1,"DUPLICATE ENTRY",IF(J26<0,"NEGATIVE BALANCE",IF(AND(B26="TRF",COUNTIFS($C$2:$C$400,C26,$D$2:$D$400,D26)<2),"TRANSFER UNMATCHED",IF(AND(MAX(G26,H26)>=100,IFERROR(IF(G26>0,G26>5*(SUMIFS($G$2:$G$400,$D$2:$D$400,D26)-G26)/(COUNTIFS($D$2:$D$400,D26,$G$2:$G$400,">0")-1),H26>5*(SUMIFS($H$2:$H$400,$D$2:$D$400,D26)-H26)/(COUNTIFS($D$2:$D$400,D26,$H$2:$H$400,">0")-1)),FALSE)),"UNUSUAL QTY","OK")))))) -> OK | M26: To Annex | N26: =IF(AND(L26<>"OK",K26=Weekly_Report!$C$4),COUNTIFS($L$2:L26,"<>OK",$K$2:K26,Weekly_Report!$C$4),"")
A27: 46310 | B27: TRF | C27: TRF-305 | D27: LB-4002 | E27: =IFERROR(INDEX(Items!$B$2:$B$19,MATCH(D27,Items!$A$2:$A$19,0)),"? not on Items") -> Barcode ribbon 110mm | F27: Annex | G27: 30 | H27: 0 | I27: Priya | J27: =IFERROR(INDEX(IF(F27="Main",Items!$D$2:$D$19,Items!$E$2:$E$19),MATCH(D27,Items!$A$2:$A$19,0)),0)+SUMIFS($G$2:G27,$D$2:D27,D27,$F$2:F27,F27)-SUMIFS($H$2:H27,$D$2:D27,D27,$F$2:F27,F27) -> 100 | K27: =A27-WEEKDAY(A27,3) -> 46307 | L27: =IF(C27="","MISSING DOC NO",IF(ISNA(MATCH(D27,Items!$A$2:$A$19,0)),"UNKNOWN SKU",IF(COUNTIFS($C$2:$C$400,C27,$D$2:$D$400,D27,$F$2:$F$400,F27,$G$2:$G$400,G27,$H$2:$H$400,H27)>1,"DUPLICATE ENTRY",IF(J27<0,"NEGATIVE BALANCE",IF(AND(B27="TRF",COUNTIFS($C$2:$C$400,C27,$D$2:$D$400,D27)<2),"TRANSFER UNMATCHED",IF(AND(MAX(G27,H27)>=100,IFERROR(IF(G27>0,G27>5*(SUMIFS($G$2:$G$400,$D$2:$D$400,D27)-G27)/(COUNTIFS($D$2:$D$400,D27,$G$2:$G$400,">0")-1),H27>5*(SUMIFS($H$2:$H$400,$D$2:$D$400,D27)-H27)/(COUNTIFS($D$2:$D$400,D27,$H$2:$H$400,">0")-1)),FALSE)),"UNUSUAL QTY","OK")))))) -> OK | M27: From Main | N27: =IF(AND(L27<>"OK",K27=Weekly_Report!$C$4),COUNTIFS($L$2:L27,"<>OK",$K$2:K27,Weekly_Report!$C$4),"")
A28: 46310 | B28: DN | C28: DN-8810 | D28: PK-1002 | E28: =IFERROR(INDEX(Items!$B$2:$B$19,MATCH(D28,Items!$A$2:$A$19,0)),"? not on Items") -> Carton box 400x300x300 | F28: Annex | G28: 0 | H28: 29 | I28: Priya | J28: =IFERROR(INDEX(IF(F28="Main",Items!$D$2:$D$19,Items!$E$2:$E$19),MATCH(D28,Items!$A$2:$A$19,0)),0)+SUMIFS($G$2:G28,$D$2:D28,D28,$F$2:F28,F28)-SUMIFS($H$2:H28,$D$2:D28,D28,$F$2:F28,F28) -> 30 | K28: =A28-WEEKDAY(A28,3) -> 46307 | L28: =IF(C28="","MISSING DOC NO",IF(ISNA(MATCH(D28,Items!$A$2:$A$19,0)),"UNKNOWN SKU",IF(COUNTIFS($C$2:$C$400,C28,$D$2:$D$400,D28,$F$2:$F$400,F28,$G$2:$G$400,G28,$H$2:$H$400,H28)>1,"DUPLICATE ENTRY",IF(J28<0,"NEGATIVE BALANCE",IF(AND(B28="TRF",COUNTIFS($C$2:$C$400,C28,$D$2:$D$400,D28)<2),"TRANSFER UNMATCHED",IF(AND(MAX(G28,H28)>=100,IFERROR(IF(G28>0,G28>5*(SUMIFS($G$2:$G$400,$D$2:$D$400,D28)-G28)/(COUNTIFS($D$2:$D$400,D28,$G$2:$G$400,">0")-1),H28>5*(SUMIFS($H$2:$H$400,$D$2:$D$400,D28)-H28)/(COUNTIFS($D$2:$D$400,D28,$H$2:$H$400,">0")-1)),FALSE)),"UNUSUAL QTY","OK")))))) -> OK | N28: =IF(AND(L28<>"OK",K28=Weekly_Report!$C$4),COUNTIFS($L$2:L28,"<>OK",$K$2:K28,Weekly_Report!$C$4),"")
A29: 46310 | B29: DN | C29: DN-8811 | D29: CL-5002 | E29: =IFERROR(INDEX(Items!$B$2:$B$19,MATCH(D29,Items!$A$2:$A$19,0)),"? not on Items") -> Industrial wipes | F29: Annex | G29: 0 | H29: 7 | I29: Ravi | J29: =IFERROR(INDEX(IF(F29="Main",Items!$D$2:$D$19,Items!$E$2:$E$19),MATCH(D29,Items!$A$2:$A$19,0)),0)+SUMIFS($G$2:G29,$D$2:D29,D29,$F$2:F29,F29)-SUMIFS($H$2:H29,$D$2:D29,D29,$F$2:F29,F29) -> 18 | K29: =A29-WEEKDAY(A29,3) -> 46307 | L29: =IF(C29="","MISSING DOC NO",IF(ISNA(MATCH(D29,Items!$A$2:$A$19,0)),"UNKNOWN SKU",IF(COUNTIFS($C$2:$C$400,C29,$D$2:$D$400,D29,$F$2:$F$400,F29,$G$2:$G$400,G29,$H$2:$H$400,H29)>1,"DUPLICATE ENTRY",IF(J29<0,"NEGATIVE BALANCE",IF(AND(B29="TRF",COUNTIFS($C$2:$C$400,C29,$D$2:$D$400,D29)<2),"TRANSFER UNMATCHED",IF(AND(MAX(G29,H29)>=100,IFERROR(IF(G29>0,G29>5*(SUMIFS($G$2:$G$400,$D$2:$D$400,D29)-G29)/(COUNTIFS($D$2:$D$400,D29,$G$2:$G$400,">0")-1),H29>5*(SUMIFS($H$2:$H$400,$D$2:$D$400,D29)-H29)/(COUNTIFS($D$2:$D$400,D29,$H$2:$H$400,">0")-1)),FALSE)),"UNUSUAL QTY","OK")))))) -> OK | N29: =IF(AND(L29<>"OK",K29=Weekly_Report!$C$4),COUNTIFS($L$2:L29,"<>OK",$K$2:K29,Weekly_Report!$C$4),"")
A30: 46311 | B30: TRF | C30: TRF-306 | D30: PK-1003 | E30: =IFERROR(INDEX(Items!$B$2:$B$19,MATCH(D30,Items!$A$2:$A$19,0)),"? not on Items") -> Stretch film 500mm | F30: Main | G30: 0 | H30: 10 | I30: Ravi | J30: =IFERROR(INDEX(IF(F30="Main",Items!$D$2:$D$19,Items!$E$2:$E$19),MATCH(D30,Items!$A$2:$A$19,0)),0)+SUMIFS($G$2:G30,$D$2:D30,D30,$F$2:F30,F30)-SUMIFS($H$2:H30,$D$2:D30,D30,$F$2:F30,F30) -> 128 | K30: =A30-WEEKDAY(A30,3) -> 46307 | L30: =IF(C30="","MISSING DOC NO",IF(ISNA(MATCH(D30,Items!$A$2:$A$19,0)),"UNKNOWN SKU",IF(COUNTIFS($C$2:$C$400,C30,$D$2:$D$400,D30,$F$2:$F$400,F30,$G$2:$G$400,G30,$H$2:$H$400,H30)>1,"DUPLICATE ENTRY",IF(J30<0,"NEGATIVE BALANCE",IF(AND(B30="TRF",COUNTIFS($C$2:$C$400,C30,$D$2:$D$400,D30)<2),"TRANSFER UNMATCHED",IF(AND(MAX(G30,H30)>=100,IFERROR(IF(G30>0,G30>5*(SUMIFS($G$2:$G$400,$D$2:$D$400,D30)-G30)/(COUNTIFS($D$2:$D$400,D30,$G$2:$G$400,">0")-1),H30>5*(SUMIFS($H$2:$H$400,$D$2:$D$400,D30)-H30)/(COUNTIFS($D$2:$D$400,D30,$H$2:$H$400,">0")-1)),FALSE)),"UNUSUAL QTY","OK")))))) -> OK | M30: To Annex | N30: =IF(AND(L30<>"OK",K30=Weekly_Report!$C$4),COUNTIFS($L$2:L30,"<>OK",$K$2:K30,Weekly_Report!$C$4),"")
A31: 46311 | B31: TRF | C31: TRF-306 | D31: PK-1003 | E31: =IFERROR(INDEX(Items!$B$2:$B$19,MATCH(D31,Items!$A$2:$A$19,0)),"? not on Items") -> Stretch film 500mm | F31: Annex | G31: 10 | H31: 0 | I31: Ravi | J31: =IFERROR(INDEX(IF(F31="Main",Items!$D$2:$D$19,Items!$E$2:$E$19),MATCH(D31,Items!$A$2:$A$19,0)),0)+SUMIFS($G$2:G31,$D$2:D31,D31,$F$2:F31,F31)-SUMIFS($H$2:H31,$D$2:D31,D31,$F$2:F31,F31) -> 45 | K31: =A31-WEEKDAY(A31,3) -> 46307 | L31: =IF(C31="","MISSING DOC NO",IF(ISNA(MATCH(D31,Items!$A$2:$A$19,0)),"UNKNOWN SKU",IF(COUNTIFS($C$2:$C$400,C31,$D$2:$D$400,D31,$F$2:$F$400,F31,$G$2:$G$400,G31,$H$2:$H$400,H31)>1,"DUPLICATE ENTRY",IF(J31<0,"NEGATIVE BALANCE",IF(AND(B31="TRF",COUNTIFS($C$2:$C$400,C31,$D$2:$D$400,D31)<2),"TRANSFER UNMATCHED",IF(AND(MAX(G31,H31)>=100,IFERROR(IF(G31>0,G31>5*(SUMIFS($G$2:$G$400,$D$2:$D$400,D31)-G31)/(COUNTIFS($D$2:$D$400,D31,$G$2:$G$400,">0")-1),H31>5*(SUMIFS($H$2:$H$400,$D$2:$D$400,D31)-H31)/(COUNTIFS($D$2:$D$400,D31,$H$2:$H$400,">0")-1)),FALSE)),"UNUSUAL QTY","OK")))))) -> OK | M31: From Main | N31: =IF(AND(L31<>"OK",K31=Weekly_Report!$C$4),COUNTIFS($L$2:L31,"<>OK",$K$2:K31,Weekly_Report!$C$4),"")
A32: 46311 | B32: DN | C32: DN-8812 | D32: PK-1004 | E32: =IFERROR(INDEX(Items!$B$2:$B$19,MATCH(D32,Items!$A$2:$A$19,0)),"? not on Items") -> Packing tape 48mm | F32: Main | G32: 0 | H32: 4 | I32: Manaz | J32: =IFERROR(INDEX(IF(F32="Main",Items!$D$2:$D$19,Items!$E$2:$E$19),MATCH(D32,Items!$A$2:$A$19,0)),0)+SUMIFS($G$2:G32,$D$2:D32,D32,$F$2:F32,F32)-SUMIFS($H$2:H32,$D$2:D32,D32,$F$2:F32,F32) -> 330 | K32: =A32-WEEKDAY(A32,3) -> 46307 | L32: =IF(C32="","MISSING DOC NO",IF(ISNA(MATCH(D32,Items!$A$2:$A$19,0)),"UNKNOWN SKU",IF(COUNTIFS($C$2:$C$400,C32,$D$2:$D$400,D32,$F$2:$F$400,F32,$G$2:$G$400,G32,$H$2:$H$400,H32)>1,"DUPLICATE ENTRY",IF(J32<0,"NEGATIVE BALANCE",IF(AND(B32="TRF",COUNTIFS($C$2:$C$400,C32,$D$2:$D$400,D32)<2),"TRANSFER UNMATCHED",IF(AND(MAX(G32,H32)>=100,IFERROR(IF(G32>0,G32>5*(SUMIFS($G$2:$G$400,$D$2:$D$400,D32)-G32)/(COUNTIFS($D$2:$D$400,D32,$G$2:$G$400,">0")-1),H32>5*(SUMIFS($H$2:$H$400,$D$2:$D$400,D32)-H32)/(COUNTIFS($D$2:$D$400,D32,$H$2:$H$400,">0")-1)),FALSE)),"UNUSUAL QTY","OK")))))) -> OK | N32: =IF(AND(L32<>"OK",K32=Weekly_Report!$C$4),COUNTIFS($L$2:L32,"<>OK",$K$2:K32,Weekly_Report!$C$4),"")
A33: 46311 | B33: DN | C33: DN-8813 | D33: PK-1005 | E33: =IFERROR(INDEX(Items!$B$2:$B$19,MATCH(D33,Items!$A$2:$A$19,0)),"? not on Items") -> Bubble wrap 1m x 50m | F33: Main | G33: 0 | H33: 8 | I33: Ravi | J33: =IFERROR(INDEX(IF(F33="Main",Items!$D$2:$D$19,Items!$E$2:$E$19),MATCH(D33,Items!$A$2:$A$19,0)),0)+SUMIFS($G$2:G33,$D$2:D33,D33,$F$2:F33,F33)-SUMIFS($H$2:H33,$D$2:D33,D33,$F$2:F33,F33) -> 253 | K33: =A33-WEEKDAY(A33,3) -> 46307 | L33: =IF(C33="","MISSING DOC NO",IF(ISNA(MATCH(D33,Items!$A$2:$A$19,0)),"UNKNOWN SKU",IF(COUNTIFS($C$2:$C$400,C33,$D$2:$D$400,D33,$F$2:$F$400,F33,$G$2:$G$400,G33,$H$2:$H$400,H33)>1,"DUPLICATE ENTRY",IF(J33<0,"NEGATIVE BALANCE",IF(AND(B33="TRF",COUNTIFS($C$2:$C$400,C33,$D$2:$D$400,D33)<2),"TRANSFER UNMATCHED",IF(AND(MAX(G33,H33)>=100,IFERROR(IF(G33>0,G33>5*(SUMIFS($G$2:$G$400,$D$2:$D$400,D33)-G33)/(COUNTIFS($D$2:$D$400,D33,$G$2:$G$400,">0")-1),H33>5*(SUMIFS($H$2:$H$400,$D$2:$D$400,D33)-H33)/(COUNTIFS($D$2:$D$400,D33,$H$2:$H$400,">0")-1)),FALSE)),"UNUSUAL QTY","OK")))))) -> OK | N33: =IF(AND(L33<>"OK",K33=Weekly_Report!$C$4),COUNTIFS($L$2:L33,"<>OK",$K$2:K33,Weekly_Report!$C$4),"")
A34: 46311 | B34: DN | C34: DN-8814 | D34: PL-2002 | E34: =IFERROR(INDEX(Items!$B$2:$B$19,MATCH(D34,Items!$A$2:$A$19,0)),"? not on Items") -> Wooden pallet 1200x800 | F34: Annex | G34: 0 | H34: 22 | I34: Manaz | J34: =IFERROR(INDEX(IF(F34="Main",Items!$D$2:$D$19,Items!$E$2:$E$19),MATCH(D34,Items!$A$2:$A$19,0)),0)+SUMIFS($G$2:G34,$D$2:D34,D34,$F$2:F34,F34)-SUMIFS($H$2:H34,$D$2:D34,D34,$F$2:F34,F34) -> 5 | K34: =A34-WEEKDAY(A34,3) -> 46307 | L34: =IF(C34="","MISSING DOC NO",IF(ISNA(MATCH(D34,Items!$A$2:$A$19,0)),"UNKNOWN SKU",IF(COUNTIFS($C$2:$C$400,C34,$D$2:$D$400,D34,$F$2:$F$400,F34,$G$2:$G$400,G34,$H$2:$H$400,H34)>1,"DUPLICATE ENTRY",IF(J34<0,"NEGATIVE BALANCE",IF(AND(B34="TRF",COUNTIFS($C$2:$C$400,C34,$D$2:$D$400,D34)<2),"TRANSFER UNMATCHED",IF(AND(MAX(G34,H34)>=100,IFERROR(IF(G34>0,G34>5*(SUMIFS($G$2:$G$400,$D$2:$D$400,D34)-G34)/(COUNTIFS($D$2:$D$400,D34,$G$2:$G$400,">0")-1),H34>5*(SUMIFS($H$2:$H$400,$D$2:$D$400,D34)-H34)/(COUNTIFS($D$2:$D$400,D34,$H$2:$H$400,">0")-1)),FALSE)),"UNUSUAL QTY","OK")))))) -> OK | N34: =IF(AND(L34<>"OK",K34=Weekly_Report!$C$4),COUNTIFS($L$2:L34,"<>OK",$K$2:K34,Weekly_Report!$C$4),"")
A35: 46311 | B35: DN | C35: DN-8815 | D35: HW-6003 | E35: =IFERROR(INDEX(Items!$B$2:$B$19,MATCH(D35,Items!$A$2:$A$19,0)),"? not on Items") -> Strapping seals (1000) | F35: Main | G35: 0 | H35: 10 | I35: Manaz | J35: =IFERROR(INDEX(IF(F35="Main",Items!$D$2:$D$19,Items!$E$2:$E$19),MATCH(D35,Items!$A$2:$A$19,0)),0)+SUMIFS($G$2:G35,$D$2:D35,D35,$F$2:F35,F35)-SUMIFS($H$2:H35,$D$2:D35,D35,$F$2:F35,F35) -> 117 | K35: =A35-WEEKDAY(A35,3) -> 46307 | L35: =IF(C35="","MISSING DOC NO",IF(ISNA(MATCH(D35,Items!$A$2:$A$19,0)),"UNKNOWN SKU",IF(COUNTIFS($C$2:$C$400,C35,$D$2:$D$400,D35,$F$2:$F$400,F35,$G$2:$G$400,G35,$H$2:$H$400,H35)>1,"DUPLICATE ENTRY",IF(J35<0,"NEGATIVE BALANCE",IF(AND(B35="TRF",COUNTIFS($C$2:$C$400,C35,$D$2:$D$400,D35)<2),"TRANSFER UNMATCHED",IF(AND(MAX(G35,H35)>=100,IFERROR(IF(G35>0,G35>5*(SUMIFS($G$2:$G$400,$D$2:$D$400,D35)-G35)/(COUNTIFS($D$2:$D$400,D35,$G$2:$G$400,">0")-1),H35>5*(SUMIFS($H$2:$H$400,$D$2:$D$400,D35)-H35)/(COUNTIFS($D$2:$D$400,D35,$H$2:$H$400,">0")-1)),FALSE)),"UNUSUAL QTY","OK")))))) -> OK | N35: =IF(AND(L35<>"OK",K35=Weekly_Report!$C$4),COUNTIFS($L$2:L35,"<>OK",$K$2:K35,Weekly_Report!$C$4),"")
A36: 46312 | B36: GRN | C36: GRN-5108 | D36: PK-1001 | E36: =IFERROR(INDEX(Items!$B$2:$B$19,MATCH(D36,Items!$A$2:$A$19,0)),"? not on Items") -> Carton box 600x400x400 | F36: Main | G36: 48 | H36: 0 | I36: Priya | J36: =IFERROR(INDEX(IF(F36="Main",Items!$D$2:$D$19,Items!$E$2:$E$19),MATCH(D36,Items!$A$2:$A$19,0)),0)+SUMIFS($G$2:G36,$D$2:D36,D36,$F$2:F36,F36)-SUMIFS($H$2:H36,$D$2:D36,D36,$F$2:F36,F36) -> 311 | K36: =A36-WEEKDAY(A36,3) -> 46307 | L36: =IF(C36="","MISSING DOC NO",IF(ISNA(MATCH(D36,Items!$A$2:$A$19,0)),"UNKNOWN SKU",IF(COUNTIFS($C$2:$C$400,C36,$D$2:$D$400,D36,$F$2:$F$400,F36,$G$2:$G$400,G36,$H$2:$H$400,H36)>1,"DUPLICATE ENTRY",IF(J36<0,"NEGATIVE BALANCE",IF(AND(B36="TRF",COUNTIFS($C$2:$C$400,C36,$D$2:$D$400,D36)<2),"TRANSFER UNMATCHED",IF(AND(MAX(G36,H36)>=100,IFERROR(IF(G36>0,G36>5*(SUMIFS($G$2:$G$400,$D$2:$D$400,D36)-G36)/(COUNTIFS($D$2:$D$400,D36,$G$2:$G$400,">0")-1),H36>5*(SUMIFS($H$2:$H$400,$D$2:$D$400,D36)-H36)/(COUNTIFS($D$2:$D$400,D36,$H$2:$H$400,">0")-1)),FALSE)),"UNUSUAL QTY","OK")))))) -> OK | N36: =IF(AND(L36<>"OK",K36=Weekly_Report!$C$4),COUNTIFS($L$2:L36,"<>OK",$K$2:K36,Weekly_Report!$C$4),"")
A37: 46312 | B37: DN | C37: DN-8816 | D37: SF-3002 | E37: =IFERROR(INDEX(Items!$B$2:$B$19,MATCH(D37,Items!$A$2:$A$19,0)),"? not on Items") -> Hi-vis vest | F37: Main | G37: 0 | H37: 37 | I37: Priya | J37: =IFERROR(INDEX(IF(F37="Main",Items!$D$2:$D$19,Items!$E$2:$E$19),MATCH(D37,Items!$A$2:$A$19,0)),0)+SUMIFS($G$2:G37,$D$2:D37,D37,$F$2:F37,F37)-SUMIFS($H$2:H37,$D$2:D37,D37,$F$2:F37,F37) -> 245 | K37: =A37-WEEKDAY(A37,3) -> 46307 | L37: =IF(C37="","MISSING DOC NO",IF(ISNA(MATCH(D37,Items!$A$2:$A$19,0)),"UNKNOWN SKU",IF(COUNTIFS($C$2:$C$400,C37,$D$2:$D$400,D37,$F$2:$F$400,F37,$G$2:$G$400,G37,$H$2:$H$400,H37)>1,"DUPLICATE ENTRY",IF(J37<0,"NEGATIVE BALANCE",IF(AND(B37="TRF",COUNTIFS($C$2:$C$400,C37,$D$2:$D$400,D37)<2),"TRANSFER UNMATCHED",IF(AND(MAX(G37,H37)>=100,IFERROR(IF(G37>0,G37>5*(SUMIFS($G$2:$G$400,$D$2:$D$400,D37)-G37)/(COUNTIFS($D$2:$D$400,D37,$G$2:$G$400,">0")-1),H37>5*(SUMIFS($H$2:$H$400,$D$2:$D$400,D37)-H37)/(COUNTIFS($D$2:$D$400,D37,$H$2:$H$400,">0")-1)),FALSE)),"UNUSUAL QTY","OK")))))) -> OK | N37: =IF(AND(L37<>"OK",K37=Weekly_Report!$C$4),COUNTIFS($L$2:L37,"<>OK",$K$2:K37,Weekly_Report!$C$4),"")
A38: 46312 | B38: DN | C38: DN-8817 | D38: PK-1005 | E38: =IFERROR(INDEX(Items!$B$2:$B$19,MATCH(D38,Items!$A$2:$A$19,0)),"? not on Items") -> Bubble wrap 1m x 50m | F38: Annex | G38: 0 | H38: 9 | I38: Manaz | J38: =IFERROR(INDEX(IF(F38="Main",Items!$D$2:$D$19,Items!$E$2:$E$19),MATCH(D38,Items!$A$2:$A$19,0)),0)+SUMIFS($G$2:G38,$D$2:D38,D38,$F$2:F38,F38)-SUMIFS($H$2:H38,$D$2:D38,D38,$F$2:F38,F38) -> 75 | K38: =A38-WEEKDAY(A38,3) -> 46307 | L38: =IF(C38="","MISSING DOC NO",IF(ISNA(MATCH(D38,Items!$A$2:$A$19,0)),"UNKNOWN SKU",IF(COUNTIFS($C$2:$C$400,C38,$D$2:$D$400,D38,$F$2:$F$400,F38,$G$2:$G$400,G38,$H$2:$H$400,H38)>1,"DUPLICATE ENTRY",IF(J38<0,"NEGATIVE BALANCE",IF(AND(B38="TRF",COUNTIFS($C$2:$C$400,C38,$D$2:$D$400,D38)<2),"TRANSFER UNMATCHED",IF(AND(MAX(G38,H38)>=100,IFERROR(IF(G38>0,G38>5*(SUMIFS($G$2:$G$400,$D$2:$D$400,D38)-G38)/(COUNTIFS($D$2:$D$400,D38,$G$2:$G$400,">0")-1),H38>5*(SUMIFS($H$2:$H$400,$D$2:$D$400,D38)-H38)/(COUNTIFS($D$2:$D$400,D38,$H$2:$H$400,">0")-1)),FALSE)),"UNUSUAL QTY","OK")))))) -> OK | N38: =IF(AND(L38<>"OK",K38=Weekly_Report!$C$4),COUNTIFS($L$2:L38,"<>OK",$K$2:K38,Weekly_Report!$C$4),"")
A39: 46312 | B39: DN | C39: DN-8818 | D39: SF-3002 | E39: =IFERROR(INDEX(Items!$B$2:$B$19,MATCH(D39,Items!$A$2:$A$19,0)),"? not on Items") -> Hi-vis vest | F39: Annex | G39: 0 | H39: 18 | I39: Manaz | J39: =IFERROR(INDEX(IF(F39="Main",Items!$D$2:$D$19,Items!$E$2:$E$19),MATCH(D39,Items!$A$2:$A$19,0)),0)+SUMIFS($G$2:G39,$D$2:D39,D39,$F$2:F39,F39)-SUMIFS($H$2:H39,$D$2:D39,D39,$F$2:F39,F39) -> 35 | K39: =A39-WEEKDAY(A39,3) -> 46307 | L39: =IF(C39="","MISSING DOC NO",IF(ISNA(MATCH(D39,Items!$A$2:$A$19,0)),"UNKNOWN SKU",IF(COUNTIFS($C$2:$C$400,C39,$D$2:$D$400,D39,$F$2:$F$400,F39,$G$2:$G$400,G39,$H$2:$H$400,H39)>1,"DUPLICATE ENTRY",IF(J39<0,"NEGATIVE BALANCE",IF(AND(B39="TRF",COUNTIFS($C$2:$C$400,C39,$D$2:$D$400,D39)<2),"TRANSFER UNMATCHED",IF(AND(MAX(G39,H39)>=100,IFERROR(IF(G39>0,G39>5*(SUMIFS($G$2:$G$400,$D$2:$D$400,D39)-G39)/(COUNTIFS($D$2:$D$400,D39,$G$2:$G$400,">0")-1),H39>5*(SUMIFS($H$2:$H$400,$D$2:$D$400,D39)-H39)/(COUNTIFS($D$2:$D$400,D39,$H$2:$H$400,">0")-1)),FALSE)),"UNUSUAL QTY","OK")))))) -> OK | N39: =IF(AND(L39<>"OK",K39=Weekly_Report!$C$4),COUNTIFS($L$2:L39,"<>OK",$K$2:K39,Weekly_Report!$C$4),"")
A40: 46312 | B40: DN | C40: DN-8819 | D40: ST-7002 | E40: =IFERROR(INDEX(Items!$B$2:$B$19,MATCH(D40,Items!$A$2:$A$19,0)),"? not on Items") -> Shelf bin large | F40: Annex | G40: 0 | H40: 18 | I40: Priya | J40: =IFERROR(INDEX(IF(F40="Main",Items!$D$2:$D$19,Items!$E$2:$E$19),MATCH(D40,Items!$A$2:$A$19,0)),0)+SUMIFS($G$2:G40,$D$2:D40,D40,$F$2:F40,F40)-SUMIFS($H$2:H40,$D$2:D40,D40,$F$2:F40,F40) -> 10 | K40: =A40-WEEKDAY(A40,3) -> 46307 | L40: =IF(C40="","MISSING DOC NO",IF(ISNA(MATCH(D40,Items!$A$2:$A$19,0)),"UNKNOWN SKU",IF(COUNTIFS($C$2:$C$400,C40,$D$2:$D$400,D40,$F$2:$F$400,F40,$G$2:$G$400,G40,$H$2:$H$400,H40)>1,"DUPLICATE ENTRY",IF(J40<0,"NEGATIVE BALANCE",IF(AND(B40="TRF",COUNTIFS($C$2:$C$400,C40,$D$2:$D$400,D40)<2),"TRANSFER UNMATCHED",IF(AND(MAX(G40,H40)>=100,IFERROR(IF(G40>0,G40>5*(SUMIFS($G$2:$G$400,$D$2:$D$400,D40)-G40)/(COUNTIFS($D$2:$D$400,D40,$G$2:$G$400,">0")-1),H40>5*(SUMIFS($H$2:$H$400,$D$2:$D$400,D40)-H40)/(COUNTIFS($D$2:$D$400,D40,$H$2:$H$400,">0")-1)),FALSE)),"UNUSUAL QTY","OK")))))) -> OK | N40: =IF(AND(L40<>"OK",K40=Weekly_Report!$C$4),COUNTIFS($L$2:L40,"<>OK",$K$2:K40,Weekly_Report!$C$4),"")
...

Sheet Balance
A1: Stock on hand by SKU and location (live)
A3: SKU | B3: Description | C3: Unit | D3: Opening Main | E3: In Main | F3: Out Main | G3: On Hand Main | H3: Opening Annex | I3: In Annex | J3: Out Annex | K3: On Hand Annex | L3: Total On Hand | M3: Reorder Level | N3: Status | O3: Open Flags
A4: =Items!A2 -> PK-1001 | B4: =Items!B2 -> Carton box 600x400x400 | C4: =Items!C2 -> pcs | D4: =Items!D2 -> 225 | E4: =SUMIFS(Movements!$G$2:$G$400,Movements!$D$2:$D$400,A4,Movements!$F$2:$F$400,"Main") -> 120 | F4: =SUMIFS(Movements!$H$2:$H$400,Movements!$D$2:$D$400,A4,Movements!$F$2:$F$400,"Main") -> 23 | G4: =D4+E4-F4 -> 322 | H4: =Items!E2 -> 19 | I4: =SUMIFS(Movements!$G$2:$G$400,Movements!$D$2:$D$400,A4,Movements!$F$2:$F$400,"Annex") -> 10 | J4: =SUMIFS(Movements!$H$2:$H$400,Movements!$D$2:$D$400,A4,Movements!$F$2:$F$400,"Annex") -> 0 | K4: =H4+I4-J4 -> 29 | L4: =G4+K4 -> 351 | M4: =Items!F2 -> 40 | N4: =IF(MIN(G4,K4)<0,"NEGATIVE",IF(L4<=M4,"BELOW REORDER","OK")) -> OK | O4: =COUNTIFS(Movements!$D$2:$D$400,A4,Movements!$L$2:$L$400,"<>OK") -> 0
A5: =Items!A3 -> PK-1002 | B5: =Items!B3 -> Carton box 400x300x300 | C5: =Items!C3 -> pcs | D5: =Items!D3 -> 262 | E5: =SUMIFS(Movements!$G$2:$G$400,Movements!$D$2:$D$400,A5,Movements!$F$2:$F$400,"Main") -> 24 | F5: =SUMIFS(Movements!$H$2:$H$400,Movements!$D$2:$D$400,A5,Movements!$F$2:$F$400,"Main") -> 0 | G5: =D5+E5-F5 -> 286 | H5: =Items!E3 -> 83 | I5: =SUMIFS(Movements!$G$2:$G$400,Movements!$D$2:$D$400,A5,Movements!$F$2:$F$400,"Annex") -> 0 | J5: =SUMIFS(Movements!$H$2:$H$400,Movements!$D$2:$D$400,A5,Movements!$F$2:$F$400,"Annex") -> 53 | K5: =H5+I5-J5 -> 30 | L5: =G5+K5 -> 316 | M5: =Items!F3 -> 100 | N5: =IF(MIN(G5,K5)<0,"NEGATIVE",IF(L5<=M5,"BELOW REORDER","OK")) -> OK | O5: =COUNTIFS(Movements!$D$2:$D$400,A5,Movements!$L$2:$L$400,"<>OK") -> 0
A6: =Items!A4 -> PK-1003 | B6: =Items!B4 -> Stretch film 500mm | C6: =Items!C4 -> roll | D6: =Items!D4 -> 84 | E6: =SUMIFS(Movements!$G$2:$G$400,Movements!$D$2:$D$400,A6,Movements!$F$2:$F$400,"Main") -> 180 | F6: =SUMIFS(Movements!$H$2:$H$400,Movements!$D$2:$D$400,A6,Movements!$F$2:$F$400,"Main") -> 70 | G6: =D6+E6-F6 -> 194 | H6: =Items!E4 -> 9 | I6: =SUMIFS(Movements!$G$2:$G$400,Movements!$D$2:$D$400,A6,Movements!$F$2:$F$400,"Annex") -> 40 | J6: =SUMIFS(Movements!$H$2:$H$400,Movements!$D$2:$D$400,A6,Movements!$F$2:$F$400,"Annex") -> 44 | K6: =H6+I6-J6 -> 5 | L6: =G6+K6 -> 199 | M6: =Items!F4 -> 50 | N6: =IF(MIN(G6,K6)<0,"NEGATIVE",IF(L6<=M6,"BELOW REORDER","OK")) -> OK | O6: =COUNTIFS(Movements!$D$2:$D$400,A6,Movements!$L$2:$L$400,"<>OK") -> 0
A7: =Items!A5 -> PK-1004 | B7: =Items!B5 -> Packing tape 48mm | C7: =Items!C5 -> roll | D7: =Items!D5 -> 334 | E7: =SUMIFS(Movements!$G$2:$G$400,Movements!$D$2:$D$400,A7,Movements!$F$2:$F$400,"Main") -> 984 | F7: =SUMIFS(Movements!$H$2:$H$400,Movements!$D$2:$D$400,A7,Movements!$F$2:$F$400,"Main") -> 12 | G7: =D7+E7-F7 -> 1306 | H7: =Items!E5 -> 12 | I7: =SUMIFS(Movements!$G$2:$G$400,Movements!$D$2:$D$400,A7,Movements!$F$2:$F$400,"Annex") -> 0 | J7: =SUMIFS(Movements!$H$2:$H$400,Movements!$D$2:$D$400,A7,Movements!$F$2:$F$400,"Annex") -> 0 | K7: =H7+I7-J7 -> 12 | L7: =G7+K7 -> 1318 | M7: =Items!F5 -> 60 | N7: =IF(MIN(G7,K7)<0,"NEGATIVE",IF(L7<=M7,"BELOW REORDER","OK")) -> OK | O7: =COUNTIFS(Movements!$D$2:$D$400,A7,Movements!$L$2:$L$400,"<>OK") -> 1
A8: =Items!A6 -> PK-1005 | B8: =Items!B6 -> Bubble wrap 1m x 50m | C8: =Items!C6 -> roll | D8: =Items!D6 -> 247 | E8: =SUMIFS(Movements!$G$2:$G$400,Movements!$D$2:$D$400,A8,Movements!$F$2:$F$400,"Main") -> 24 | F8: =SUMIFS(Movements!$H$2:$H$400,Movements!$D$2:$D$400,A8,Movements!$F$2:$F$400,"Main") -> 52 | G8: =D8+E8-F8 -> 219 | H8: =Items!E6 -> 74 | I8: =SUMIFS(Movements!$G$2:$G$400,Movements!$D$2:$D$400,A8,Movements!$F$2:$F$400,"Annex") -> 10 | J8: =SUMIFS(Movements!$H$2:$H$400,Movements!$D$2:$D$400,A8,Movements!$F$2:$F$400,"Annex") -> 48 | K8: =H8+I8-J8 -> 36 | L8: =G8+K8 -> 255 | M8: =Items!F6 -> 80 | N8: =IF(MIN(G8,K8)<0,"NEGATIVE",IF(L8<=M8,"BELOW REORDER","OK")) -> OK | O8: =COUNTIFS(Movements!$D$2:$D$400,A8,Movements!$L$2:$L$400,"<>OK") -> 0
A9: =Items!A7 -> PL-2001 | B9: =Items!B7 -> Plastic pallet 1200x1000 | C9: =Items!C7 -> pcs | D9: =Items!D7 -> 89 | E9: =SUMIFS(Movements!$G$2:$G$400,Movements!$D$2:$D$400,A9,Movements!$F$2:$F$400,"Main") -> 60 | F9: =SUMIFS(Movements!$H$2:$H$400,Movements!$D$2:$D$400,A9,Movements!$F$2:$F$400,"Main") -> 20 | G9: =D9+E9-F9 -> 129 | H9: =Items!E7 -> 116 | I9: =SUMIFS(Movements!$G$2:$G$400,Movements!$D$2:$D$400,A9,Movements!$F$2:$F$400,"Annex") -> 0 | J9: =SUMIFS(Movements!$H$2:$H$400,Movements!$D$2:$D$400,A9,Movements!$F$2:$F$400,"Annex") -> 0 | K9: =H9+I9-J9 -> 116 | L9: =G9+K9 -> 245 | M9: =Items!F7 -> 50 | N9: =IF(MIN(G9,K9)<0,"NEGATIVE",IF(L9<=M9,"BELOW REORDER","OK")) -> OK | O9: =COUNTIFS(Movements!$D$2:$D$400,A9,Movements!$L$2:$L$400,"<>OK") -> 1
A10: =Items!A8 -> PL-2002 | B10: =Items!B8 -> Wooden pallet 1200x800 | C10: =Items!C8 -> pcs | D10: =Items!D8 -> 319 | E10: =SUMIFS(Movements!$G$2:$G$400,Movements!$D$2:$D$400,A10,Movements!$F$2:$F$400,"Main") -> 48 | F10: =SUMIFS(Movements!$H$2:$H$400,Movements!$D$2:$D$400,A10,Movements!$F$2:$F$400,"Main") -> 50 | G10: =D10+E10-F10 -> 317 | H10: =Items!E8 -> 27 | I10: =SUMIFS(Movements!$G$2:$G$400,Movements!$D$2:$D$400,A10,Movements!$F$2:$F$400,"Annex") -> 0 | J10: =SUMIFS(Movements!$H$2:$H$400,Movements!$D$2:$D$400,A10,Movements!$F$2:$F$400,"Annex") -> 22 | K10: =H10+I10-J10 -> 5 | L10: =G10+K10 -> 322 | M10: =Items!F8 -> 100 | N10: =IF(MIN(G10,K10)<0,"NEGATIVE",IF(L10<=M10,"BELOW REORDER","OK")) -> OK | O10: =COUNTIFS(Movements!$D$2:$D$400,A10,Movements!$L$2:$L$400,"<>OK") -> 0
A11: =Items!A9 -> SF-3001 | B11: =Items!B9 -> Safety gloves (pair) | C11: =Items!C9 -> pair | D11: =Items!D9 -> 79 | E11: =SUMIFS(Movements!$G$2:$G$400,Movements!$D$2:$D$400,A11,Movements!$F$2:$F$400,"Main") -> 100 | F11: =SUMIFS(Movements!$H$2:$H$400,Movements!$D$2:$D$400,A11,Movements!$F$2:$F$400,"Main") -> 67 | G11: =D11+E11-F11 -> 112 | H11: =Items!E9 -> 11 | I11: =SUMIFS(Movements!$G$2:$G$400,Movements!$D$2:$D$400,A11,Movements!$F$2:$F$400,"Annex") -> 0 | J11: =SUMIFS(Movements!$H$2:$H$400,Movements!$D$2:$D$400,A11,Movements!$F$2:$F$400,"Annex") -> 0 | K11: =H11+I11-J11 -> 11 | L11: =G11+K11 -> 123 | M11: =Items!F9 -> 40 | N11: =IF(MIN(G11,K11)<0,"NEGATIVE",IF(L11<=M11,"BELOW REORDER","OK")) -> OK | O11: =COUNTIFS(Movements!$D$2:$D$400,A11,Movements!$L$2:$L$400,"<>OK") -> 1
A12: =Items!A10 -> SF-3002 | B12: =Items!B10 -> Hi-vis vest | C12: =Items!C10 -> pcs | D12: =Items!D10 -> 282 | E12: =SUMIFS(Movements!$G$2:$G$400,Movements!$D$2:$D$400,A12,Movements!$F$2:$F$400,"Main") -> 0 | F12: =SUMIFS(Movements!$H$2:$H$400,Movements!$D$2:$D$400,A12,Movements!$F$2:$F$400,"Main") -> 73 | G12: =D12+E12-F12 -> 209 | H12: =Items!E10 -> 53 | I12: =SUMIFS(Movements!$G$2:$G$400,Movements!$D$2:$D$400,A12,Movements!$F$2:$F$400,"Annex") -> 10 | J12: =SUMIFS(Movements!$H$2:$H$400,Movements!$D$2:$D$400,A12,Movements!$F$2:$F$400,"Annex") -> 58 | K12: =H12+I12-J12 -> 5 | L12: =G12+K12 -> 214 | M12: =Items!F10 -> 100 | N12: =IF(MIN(G12,K12)<0,"NEGATIVE",IF(L12<=M12,"BELOW REORDER","OK")) -> OK | O12: =COUNTIFS(Movements!$D$2:$D$400,A12,Movements!$L$2:$L$400,"<>OK") -> 0
A13: =Items!A11 -> LB-4001 | B13: =Items!B11 -> Thermal label 100x150 | C13: =Items!C11 -> roll | D13: =Items!D11 -> 95 | E13: =SUMIFS(Movements!$G$2:$G$400,Movements!$D$2:$D$400,A13,Movements!$F$2:$F$400,"Main") -> 0 | F13: =SUMIFS(Movements!$H$2:$H$400,Movements!$D$2:$D$400,A13,Movements!$F$2:$F$400,"Main") -> 0 | G13: =D13+E13-F13 -> 95 | H13: =Items!E11 -> 30 | I13: =SUMIFS(Movements!$G$2:$G$400,Movements!$D$2:$D$400,A13,Movements!$F$2:$F$400,"Annex") -> 0 | J13: =SUMIFS(Movements!$H$2:$H$400,Movements!$D$2:$D$400,A13,Movements!$F$2:$F$400,"Annex") -> 25 | K13: =H13+I13-J13 -> 5 | L13: =G13+K13 -> 100 | M13: =Items!F11 -> 60 | N13: =IF(MIN(G13,K13)<0,"NEGATIVE",IF(L13<=M13,"BELOW REORDER","OK")) -> OK | O13: =COUNTIFS(Movements!$D$2:$D$400,A13,Movements!$L$2:$L$400,"<>OK") -> 0
A14: =Items!A12 -> LB-4002 | B14: =Items!B12 -> Barcode ribbon 110mm | C14: =Items!C12 -> roll | D14: =Items!D12 -> 106 | E14: =SUMIFS(Movements!$G$2:$G$400,Movements!$D$2:$D$400,A14,Movements!$F$2:$F$400,"Main") -> 0 | F14: =SUMIFS(Movements!$H$2:$H$400,Movements!$D$2:$D$400,A14,Movements!$F$2:$F$400,"Main") -> 30 | G14: =D14+E14-F14 -> 76 | H14: =Items!E12 -> 70 | I14: =SUMIFS(Movements!$G$2:$G$400,Movements!$D$2:$D$400,A14,Movements!$F$2:$F$400,"Annex") -> 30 | J14: =SUMIFS(Movements!$H$2:$H$400,Movements!$D$2:$D$400,A14,Movements!$F$2:$F$400,"Annex") -> 0 | K14: =H14+I14-J14 -> 100 | L14: =G14+K14 -> 176 | M14: =Items!F12 -> 100 | N14: =IF(MIN(G14,K14)<0,"NEGATIVE",IF(L14<=M14,"BELOW REORDER","OK")) -> OK | O14: =COUNTIFS(Movements!$D$2:$D$400,A14,Movements!$L$2:$L$400,"<>OK") -> 0
A15: =Items!A13 -> CL-5001 | B15: =Items!B13 -> Floor cleaner 5L | C15: =Items!C13 -> can | D15: =Items!D13 -> 277 | E15: =SUMIFS(Movements!$G$2:$G$400,Movements!$D$2:$D$400,A15,Movements!$F$2:$F$400,"Main") -> 36 | F15: =SUMIFS(Movements!$H$2:$H$400,Movements!$D$2:$D$400,A15,Movements!$F$2:$F$400,"Main") -> 28 | G15: =D15+E15-F15 -> 285 | H15: =Items!E13 -> 7 | I15: =SUMIFS(Movements!$G$2:$G$400,Movements!$D$2:$D$400,A15,Movements!$F$2:$F$400,"Annex") -> 0 | J15: =SUMIFS(Movements!$H$2:$H$400,Movements!$D$2:$D$400,A15,Movements!$F$2:$F$400,"Annex") -> 2 | K15: =H15+I15-J15 -> 5 | L15: =G15+K15 -> 290 | M15: =Items!F13 -> 50 | N15: =IF(MIN(G15,K15)<0,"NEGATIVE",IF(L15<=M15,"BELOW REORDER","OK")) -> OK | O15: =COUNTIFS(Movements!$D$2:$D$400,A15,Movements!$L$2:$L$400,"<>OK") -> 0
... A21: =Items!A19 -> ST-7002 | B21: =Items!B19 -> Shelf bin large | C21: =Items!C19 -> pcs | D21: =Items!D19 -> 85 | E21: =SUMIFS(Movements!$G$2:$G$400,Movements!$D$2:$D$400,A21,Movements!$F$2:$F$400,"Main") -> 48 | F21: =SUMIFS(Movements!$H$2:$H$400,Movements!$D$2:$D$400,A21,Movements!$F$2:$F$400,"Main") -> 0 | G21: =D21+E21-F21 -> 133 | H21: =Items!E19 -> 28 | I21: =SUMIFS(Movements!$G$2:$G$400,Movements!$D$2:$D$400,A21,Movements!$F$2:$F$400,"Annex") -> 0 | J21: =SUMIFS(Movements!$H$2:$H$400,Movements!$D$2:$D$400,A21,Movements!$F$2:$F$400,"Annex") -> 43 | K21: =H21+I21-J21 -> -15 | L21: =G21+K21 -> 118 | M21: =Items!F19 -> 40 | N21: =IF(MIN(G21,K21)<0,"NEGATIVE",IF(L21<=M21,"BELOW REORDER","OK")) -> NEGATIVE | O21: =COUNTIFS(Movements!$D$2:$D$400,A21,Movements!$L$2:$L$400,"<>OK") -> 1
A22: Total | D22: =SUM(D4:D21) -> 3838 | E22: =SUM(E4:E21) -> 1956 | F22: =SUM(F4:F21) -> 670 | G22: =SUM(G4:G21) -> 5124 | H22: =SUM(H4:H21) -> 831 | I22: =SUM(I4:I21) -> 160 | J22: =SUM(J4:J21) -> 412 | K22: =SUM(K4:K21) -> 579 | L22: =SUM(L4:L21) -> 5703 | O22: =SUM(O4:O21) -> 6

Sheet Weekly_Report
A1: Weekly Stock Report
A2: Sample warehouse - change the week in C4 and everything below updates.
B4: Week starting (Mon): | C4: 46314 | D4: ="to "&TEXT(C4+6,"DD-MMM-YYYY") -> to 25-Oct-2026
A6: Movement lines entered | C6: Units received | E6: Units dispatched
A7: =COUNTIFS(Movements!$K$2:$K$400,C4) -> 49 | C7: =SUMIFS(Movements!$G$2:$G$400,Movements!$K$2:$K$400,C4,Movements!$B$2:$B$400,"GRN") -> 1620 | E7: =SUMIFS(Movements!$H$2:$H$400,Movements!$K$2:$K$400,C4,Movements!$B$2:$B$400,"DN") -> 573
A8: Units transferred | C8: Discrepancies to chase | E8: SKUs at/below reorder
A9: =SUMIFS(Movements!$H$2:$H$400,Movements!$K$2:$K$400,C4,Movements!$B$2:$B$400,"TRF") -> 80 | C9: =COUNTIFS(Movements!$K$2:$K$400,C4,Movements!$L$2:$L$400,"<>OK") -> 7 | E9: =COUNTIF(Balance!$N$4:$N$21,"BELOW REORDER")+COUNTIF(Balance!$N$4:$N$21,"NEGATIVE") -> 1
A11: SKU | B11: Description | C11: Opening (week start) | D11: In | E11: Out | F11: Closing (week end) | G11: Status Now | H11: Flags This Week
A12: =Items!A2 -> PK-1001 | B12: =Items!B2 -> Carton box 600x400x400 | C12: =Items!D2+Items!E2+SUMIFS(Movements!$G$2:$G$400,Movements!$D$2:$D$400,A12,Movements!$A$2:$A$400,"<"&$C$4)-SUMIFS(Movements!$H$2:$H$400,Movements!$D$2:$D$400,A12,Movements!$A$2:$A$400,"<"&$C$4) -> 340 | D12: =SUMIFS(Movements!$G$2:$G$400,Movements!$D$2:$D$400,A12,Movements!$K$2:$K$400,$C$4,Movements!$B$2:$B$400,"<>TRF") -> 24 | E12: =SUMIFS(Movements!$H$2:$H$400,Movements!$D$2:$D$400,A12,Movements!$K$2:$K$400,$C$4,Movements!$B$2:$B$400,"<>TRF") -> 13 | F12: =C12+SUMIFS(Movements!$G$2:$G$400,Movements!$D$2:$D$400,A12,Movements!$K$2:$K$400,$C$4)-SUMIFS(Movements!$H$2:$H$400,Movements!$D$2:$D$400,A12,Movements!$K$2:$K$400,$C$4) -> 351 | G12: =INDEX(Balance!$N$4:$N$21,MATCH(A12,Balance!$A$4:$A$21,0)) -> OK | H12: =COUNTIFS(Movements!$D$2:$D$400,A12,Movements!$K$2:$K$400,$C$4,Movements!$L$2:$L$400,"<>OK") -> 0
A13: =Items!A3 -> PK-1002 | B13: =Items!B3 -> Carton box 400x300x300 | C13: =Items!D3+Items!E3+SUMIFS(Movements!$G$2:$G$400,Movements!$D$2:$D$400,A13,Movements!$A$2:$A$400,"<"&$C$4)-SUMIFS(Movements!$H$2:$H$400,Movements!$D$2:$D$400,A13,Movements!$A$2:$A$400,"<"&$C$4) -> 292 | D13: =SUMIFS(Movements!$G$2:$G$400,Movements!$D$2:$D$400,A13,Movements!$K$2:$K$400,$C$4,Movements!$B$2:$B$400,"<>TRF") -> 24 | E13: =SUMIFS(Movements!$H$2:$H$400,Movements!$D$2:$D$400,A13,Movements!$K$2:$K$400,$C$4,Movements!$B$2:$B$400,"<>TRF") -> 0 | F13: =C13+SUMIFS(Movements!$G$2:$G$400,Movements!$D$2:$D$400,A13,Movements!$K$2:$K$400,$C$4)-SUMIFS(Movements!$H$2:$H$400,Movements!$D$2:$D$400,A13,Movements!$K$2:$K$400,$C$4) -> 316 | G13: =INDEX(Balance!$N$4:$N$21,MATCH(A13,Balance!$A$4:$A$21,0)) -> OK | H13: =COUNTIFS(Movements!$D$2:$D$400,A13,Movements!$K$2:$K$400,$C$4,Movements!$L$2:$L$400,"<>OK") -> 0
A14: =Items!A4 -> PK-1003 | B14: =Items!B4 -> Stretch film 500mm | C14: =Items!D4+Items!E4+SUMIFS(Movements!$G$2:$G$400,Movements!$D$2:$D$400,A14,Movements!$A$2:$A$400,"<"&$C$4)-SUMIFS(Movements!$H$2:$H$400,Movements!$D$2:$D$400,A14,Movements!$A$2:$A$400,"<"&$C$4) -> 173 | D14: =SUMIFS(Movements!$G$2:$G$400,Movements!$D$2:$D$400,A14,Movements!$K$2:$K$400,$C$4,Movements!$B$2:$B$400,"<>TRF") -> 96 | E14: =SUMIFS(Movements!$H$2:$H$400,Movements!$D$2:$D$400,A14,Movements!$K$2:$K$400,$C$4,Movements!$B$2:$B$400,"<>TRF") -> 70 | F14: =C14+SUMIFS(Movements!$G$2:$G$400,Movements!$D$2:$D$400,A14,Movements!$K$2:$K$400,$C$4)-SUMIFS(Movements!$H$2:$H$400,Movements!$D$2:$D$400,A14,Movements!$K$2:$K$400,$C$4) -> 199 | G14: =INDEX(Balance!$N$4:$N$21,MATCH(A14,Balance!$A$4:$A$21,0)) -> OK | H14: =COUNTIFS(Movements!$D$2:$D$400,A14,Movements!$K$2:$K$400,$C$4,Movements!$L$2:$L$400,"<>OK") -> 0
