Workbook

Sheet Items
A1: SKU | B1: Description | C1: Unit | D1: Opening Main | E1: Opening Annex | F1: Reorder Level
A2: PK-1001 | B2: Carton box 600x400x400 | C2: pcs | D2: 225 | E2: 19 | F2: 40
A3: PK-1002 | B3: Carton box 400x300x300 | C3: pcs | D3: 262 | E3: 83 | F3: 100
A4: PK-1003 | B4: Stretch film 500mm | C4: roll | D4: 84 | E4: 9 | F4: 50
A5: PK-1004 | B5: Packing tape 48mm | C5: roll | D5: 334 | E5: 12 | F5: 60
A6: PK-1005 | B6: Bubble wrap 1m x 50m | C6: roll | D6: 247 | E6: 74 | F6: 80
A7: PL-2001 | B7: Plastic pallet 1200x1000 | C7: pcs | D7: 89 | E7: 116 | F7: 50
A8: PL-2002 | B8: Wooden pallet 1200x800 | C8: pcs | D8: 319 | E8: 27 | F8: 100
A9: SF-3001 | B9: Safety gloves (pair) | C9: pair | D9: 79 | E9: 11 | F9: 40
A10: SF-3002 | B10: Hi-vis vest | C10: pcs | D10: 282 | E10: 53 | F10: 100
A11: LB-4001 | B11: Thermal label 100x150 | C11: roll | D11: 95 | E11: 30 | F11: 60
A12: LB-4002 | B12: Barcode ribbon 110mm | C12: roll | D12: 106 | E12: 70 | F12: 100
A13: CL-5001 | B13: Floor cleaner 5L | C13: can | D13: 277 | E13: 7 | F13: 50
... A19: ST-7002 | B19: Shelf bin large | C19: pcs | D19: 85 | E19: 28 | F19: 40

Sheet Movements
A1: Date | B1: Doc Type | C1: Doc No | D1: SKU | E1: Description | F1: Location | G1: Qty In | H1: Qty Out | I1: Entered By | J1: Running Balance (SKU @ Location) | K1: Week Starting | L1: Flag | M1: Comment | N1: Flag # (report helper)
A2: 46307 | B2: GRN | C2: GRN-5101 | D2: PK-1003 | E2: =IFERROR(INDEX(Items!$B$2:$B$19,MATCH(D2,Items!$A$2:$A$19,0)),"? not on Items") -> Stretch film 500mm | F2: Main | G2: 36 | H2: 0 | I2: Ravi | J2: =IFERROR(INDEX(IF(F2="Main",Items!$D$2:$D$19,Items!$E$2:$E$19),MATCH(D2,Items!$A$2:$A$19,0)),0)+SUMIFS($G$2:G2,$D$2:D2,D2,$F$2:F2,F2)-SUMIFS($H$2:H2,$D$2:D2,D2,$F$2:F2,F2) -> 120 | K2: =A2-WEEKDAY(A2,3) -> 46307 | L2: =IF(C2="","MISSING DOC NO",IF(ISNA(MATCH(D2,Items!$A$2:$A$19,0)),"UNKNOWN SKU",IF(COUNTIFS($C$2:$C$400,C2,$D$2:$D$400,D2,$F$2:$F$400,F2,$G$2:$G$400,G2,$H$2:$H$400,H2)>1,"DUPLICATE ENTRY",IF(J2<0,"NEGATIVE BALANCE",IF(AND(B2="TRF",COUNTIFS($C$2:$C$400,C2,$D$2:$D$400,D2)<2),"TRANSFER UNMATCHED",IF(AND(MAX(G2,H2)>=100,IFERROR(IF(G2>0,G2>5*(SUMIFS($G$2:$G$400,$D$2:$D$400,D2)-G2)/(COUNTIFS($D$2:$D$400,D2,$G$2:$G$400,">0")-1),H2>5*(SUMIFS($H$2:$H$400,$D$2:$D$400,D2)-H2)/(COUNTIFS($D$2:$D$400,D2,$H$2:$H$400,">0")-1)),FALSE)),"UNUSUAL QTY","OK")))))) -> OK | N2: =IF(AND(L2<>"OK",K2=Weekly_Report!$C$4),COUNTIFS($L$2:L2,"<>OK",$K$2:K2,Weekly_Report!$C$4),"")
A3: 46307 | B3: DN | C3: DN-8801 | D3: PK-1002 | E3: =IFERROR(INDEX(Items!$B$2:$B$19,MATCH(D3,Items!$A$2:$A$19,0)),"? not on Items") -> Carton box 400x300x300 | F3: Annex | G3: 0 | H3: 24 | I3: Ravi | J3: =IFERROR(INDEX(IF(F3="Main",Items!$D$2:$D$19,Items!$E$2:$E$19),MATCH(D3,Items!$A$2:$A$19,0)),0)+SUMIFS($G$2:G3,$D$2:D3,D3,$F$2:F3,F3)-SUMIFS($H$2:H3,$D$2:D3,D3,$F$2:F3,F3) -> 59 | K3: =A3-WEEKDAY(A3,3) -> 46307 | L3: =IF(C3="","MISSING DOC NO",IF(ISNA(MATCH(D3,Items!$A$2:$A$19,0)),"UNKNOWN SKU",IF(COUNTIFS($C$2:$C$400,C3,$D$2:$D$400,D3,$F$2:$F$400,F3,$G$2:$G$400,G3,$H$2:$H$400,H3)>1,"DUPLICATE ENTRY",IF(J3<0,"NEGATIVE BALANCE",IF(AND(B3="TRF",COUNTIFS($C$2:$C$400,C3,$D$2:$D$400,D3)<2),"TRANSFER UNMATCHED",IF(AND(MAX(G3,H3)>=100,IFERROR(IF(G3>0,G3>5*(SUMIFS($G$2:$G$400,$D$2:$D$400,D3)-G3)/(COUNTIFS($D$2:$D$400,D3,$G$2:$G$400,">0")-1),H3>5*(SUMIFS($H$2:$H$400,$D$2:$D$400,D3)-H3)/(COUNTIFS($D$2:$D$400,D3,$H$2:$H$400,">0")-1)),FALSE)),"UNUSUAL QTY","OK")))))) -> OK | N3: =IF(AND(L3<>"OK",K3=Weekly_Report!$C$4),COUNTIFS($L$2:L3,"<>OK",$K$2:K3,Weekly_Report!$C$4),"")
A4: 46307 | B4: DN | C4: DN-8802 | D4: HW-6002 | E4: =IFERROR(INDEX(Items!$B$2:$B$19,MATCH(D4,Items!$A$2:$A$19,0)),"? not on Items") -> Strapping band 12mm | F4: Annex | G4: 0 | H4: 23 | I4: Ravi | J4: =IFERROR(INDEX(IF(F4="Main",Items!$D$2:$D$19,Items!$E$2:$E$19),MATCH(D4,Items!$A$2:$A$19,0)),0)+SUMIFS($G$2:G4,$D$2:D4,D4,$F$2:F4,F4)-SUMIFS($H$2:H4,$D$2:D4,D4,$F$2:F4,F4) -> 51 | K4: =A4-WEEKDAY(A4,3) -> 46307 | L4: =IF(C4="","MISSING DOC NO",IF(ISNA(MATCH(D4,Items!$A$2:$A$19,0)),"UNKNOWN SKU",IF(COUNTIFS($C$2:$C$400,C4,$D$2:$D$400,D4,$F$2:$F$400,F4,$G$2:$G$400,G4,$H$2:$H$400,H4)>1,"DUPLICATE ENTRY",IF(J4<0,"NEGATIVE BALANCE",IF(AND(B4="TRF",COUNTIFS($C$2:$C$400,C4,$D$2:$D$400,D4)<2),"TRANSFER UNMATCHED",IF(AND(MAX(G4,H4)>=100,IFERROR(IF(G4>0,G4>5*(SUMIFS($G$2:$G$400,$D$2:$D$400,D4)-G4)/(COUNTIFS($D$2:$D$400,D4,$G$2:$G$400,">0")-1),H4>5*(SUMIFS($H$2:$H$400,$D$2:$D$400,D4)-H4)/(COUNTIFS($D$2:$D$400,D4,$H$2:$H$400,">0")-1)),FALSE)),"UNUSUAL QTY","OK")))))) -> OK | N4: =IF(AND(L4<>"OK",K4=Weekly_Report!$C$4),COUNTIFS($L$2:L4,"<>OK",$K$2:K4,Weekly_Report!$C$4),"")
A5: 46307 | B5: DN | C5: DN-8803 | D5: SF-3001 | E5: =IFERROR(INDEX(Items!$B$2:$B$19,MATCH(D5,Items!$A$2:$A$19,0)),"? not on Items") -> Safety gloves (pair) | F5: Main | G5: 0 | H5: 9 | I5: Priya | J5: =IFERROR(INDEX(IF(F5="Main",Items!$D$2:$D$19,Items!$E$2:$E$19),MATCH(D5,Items!$A$2:$A$19,0)),0)+SUMIFS($G$2:G5,$D$2:D5,D5,$F$2:F5,F5)-SUMIFS($H$2:H5,$D$2:D5,D5,$F$2:F5,F5) -> 70 | K5: =A5-WEEKDAY(A5,3) -> 46307 | L5: =IF(C5="","MISSING DOC NO",IF(ISNA(MATCH(D5,Items!$A$2:$A$19,0)),"UNKNOWN SKU",IF(COUNTIFS($C$2:$C$400,C5,$D$2:$D$400,D5,$F$2:$F$400,F5,$G$2:$G$400,G5,$H$2:$H$400,H5)>1,"DUPLICATE ENTRY",IF(J5<0,"NEGATIVE BALANCE",IF(AND(B5="TRF",COUNTIFS($C$2:$C$400,C5,$D$2:$D$400,D5)<2),"TRANSFER UNMATCHED",IF(AND(MAX(G5,H5)>=100,IFERROR(IF(G5>0,G5>5*(SUMIFS($G$2:$G$400,$D$2:$D$400,D5)-G5)/(COUNTIFS($D$2:$D$400,D5,$G$2:$G$400,">0")-1),H5>5*(SUMIFS($H$2:$H$400,$D$2:$D$400,D5)-H5)/(COUNTIFS($D$2:$D$400,D5,$H$2:$H$400,">0")-1)),FALSE)),"UNUSUAL QTY","OK")))))) -> OK | N5: =IF(AND(L5<>"OK",K5=Weekly_Report!$C$4),COUNTIFS($L$2:L5,"<>OK",$K$2:K5,Weekly_Report!$C$4),"")
A6: 46307 | B6: DN | C6: DN-8804 | D6: LB-4001 | E6: =IFERROR(INDEX(Items!$B$2:$B$19,MATCH(D6,Items!$A$2:$A$19,0)),"? not on Items") -> Thermal label 100x150 | F6: Annex | G6: 0 | H6: 22 | I6: Ravi | J6: =IFERROR(INDEX(IF(F6="Main",Items!$D$2:$D$19,Items!$E$2:$E$19),MATCH(D6,Items!$A$2:$A$19,0)),0)+SUMIFS($G$2:G6,$D$2:D6,D6,$F$2:F6,F6)-SUMIFS($H$2:H6,$D$2:D6,D6,$F$2:F6,F6) -> 8 | K6: =A6-WEEKDAY(A6,3) -> 46307 | L6: =IF(C6="","MISSING DOC NO",IF(ISNA(MATCH(D6,Items!$A$2:$A$19,0)),"UNKNOWN SKU",IF(COUNTIFS($C$2:$C$400,C6,$D$2:$D$400,D6,$F$2:$F$400,F6,$G$2:$G$400,G6,$H$2:$H$400,H6)>1,"DUPLICATE ENTRY",IF(J6<0,"NEGATIVE BALANCE",IF(AND(B6="TRF",COUNTIFS($C$2:$C$400,C6,$D$2:$D$400,D6)<2),"TRANSFER UNMATCHED",IF(AND(MAX(G6,H6)>=100,IFERROR(IF(G6>0,G6>5*(SUMIFS($G$2:$G$400,$D$2:$D$400,D6)-G6)/(COUNTIFS($D$2:$D$400,D6,$G$2:$G$400,">0")-1),H6>5*(SUMIFS($H$2:$H$400,$D$2:$D$400,D6)-H6)/(COUNTIFS($D$2:$D$400,D6,$H$2:$H$400,">0")-1)),FALSE)),"UNUSUAL QTY","OK")))))) -> OK | N6: =IF(AND(L6<>"OK",K6=Weekly_Report!$C$4),COUNTIFS($L$2:L6,"<>OK",$K$2:K6,Weekly_Report!$C$4),"")
A7: 46308 | B7: GRN | C7: GRN-5102 | D7: PK-1003 | E7: =IFERROR(INDEX(Items!$B$2:$B$19,MATCH(D7,Items!$A$2:$A$19,0)),"? not on Items") -> Stretch film 500mm | F7: Main | G7: 48 | H7: 0 | I7: Priya | J7: =IFERROR(INDEX(IF(F7="Main",Items!$D$2:$D$19,Items!$E$2:$E$19),MATCH(D7,Items!$A$2:$A$19,0)),0)+SUMIFS($G$2:G7,$D$2:D7,D7,$F$2:F7,F7)-SUMIFS($H$2:H7,$D$2:D7,D7,$F$2:F7,F7) -> 168 | K7: =A7-WEEKDAY(A7,3) -> 46307 | L7: =IF(C7="","MISSING DOC NO",IF(ISNA(MATCH(D7,Items!$A$2:$A$19,0)),"UNKNOWN SKU",IF(COUNTIFS($C$2:$C$400,C7,$D$2:$D$400,D7,$F$2:$F$400,F7,$G$2:$G$400,G7,$H$2:$H$400,H7)>1,"DUPLICATE ENTRY",IF(J7<0,"NEGATIVE BALANCE",IF(AND(B7="TRF",COUNTIFS($C$2:$C$400,C7,$D$2:$D$400,D7)<2),"TRANSFER UNMATCHED",IF(AND(MAX(G7,H7)>=100,IFERROR(IF(G7>0,G7>5*(SUMIFS($G$2:$G$400,$D$2:$D$400,D7)-G7)/(COUNTIFS($D$2:$D$400,D7,$G$2:$G$400,">0")-1),H7>5*(SUMIFS($H$2:$H$400,$D$2:$D$400,D7)-H7)/(COUNTIFS($D$2:$D$400,D7,$H$2:$H$400,">0")-1)),FALSE)),"UNUSUAL QTY","OK")))))) -> OK | N7: =IF(AND(L7<>"OK",K7=Weekly_Report!$C$4),COUNTIFS($L$2:L7,"<>OK",$K$2:K7,Weekly_Report!$C$4),"")
A8: 46308 | B8: GRN | C8: GRN-5103 | D8: HW-6002 | E8: =IFERROR(INDEX(Items!$B$2:$B$19,MATCH(D8,Items!$A$2:$A$19,0)),"? not on Items") -> Strapping band 12mm | F8: Main | G8: 48 | H8: 0 | I8: Ravi | J8: =IFERROR(INDEX(IF(F8="Main",Items!$D$2:$D$19,Items!$E$2:$E$19),MATCH(D8,Items!$A$2:$A$19,0)),0)+SUMIFS($G$2:G8,$D$2:D8,D8,$F$2:F8,F8)-SUMIFS($H$2:H8,$D$2:D8,D8,$F$2:F8,F8) -> 429 | K8: =A8-WEEKDAY(A8,3) -> 46307 | L8: =IF(C8="","MISSING DOC NO",IF(ISNA(MATCH(D8,Items!$A$2:$A$19,0)),"UNKNOWN SKU",IF(COUNTIFS($C$2:$C$400,C8,$D$2:$D$400,D8,$F$2:$F$400,F8,$G$2:$G$400,G8,$H$2:$H$400,H8)>1,"DUPLICATE ENTRY",IF(J8<0,"NEGATIVE BALANCE",IF(AND(B8="TRF",COUNTIFS($C$2:$C$400,C8,$D$2:$D$400,D8)<2),"TRANSFER UNMATCHED",IF(AND(MAX(G8,H8)>=100,IFERROR(IF(G8>0,G8>5*(SUMIFS($G$2:$G$400,$D$2:$D$400,D8)-G8)/(COUNTIFS($D$2:$D$400,D8,$G$2:$G$400,">0")-1),H8>5*(SUMIFS($H$2:$H$400,$D$2:$D$400,D8)-H8)/(COUNTIFS($D$2:$D$400,D8,$H$2:$H$400,">0")-1)),FALSE)),"UNUSUAL QTY","OK")))))) -> OK | N8: =IF(AND(L8<>"OK",K8=Weekly_Report!$C$4),COUNTIFS($L$2:L8,"<>OK",$K$2:K8,Weekly_Report!$C$4),"")
A9: 46308 | B9: TRF | C9: TRF-301 | D9: PK-1005 | E9: =IFERROR(INDEX(Items!$B$2:$B$19,MATCH(D9,Items!$A$2:$A$19,0)),"? not on Items") -> Bubble wrap 1m x 50m | F9: Main | G9: 0 | H9: 10 | I9: Ravi | J9: =IFERROR(INDEX(IF(F9="Main",Items!$D$2:$D$19,Items!$E$2:$E$19),MATCH(D9,Items!$A$2:$A$19,0)),0)+SUMIFS($G$2:G9,$D$2:D9,D9,$F$2:F9,F9)-SUMIFS($H$2:H9,$D$2:D9,D9,$F$2:F9,F9) -> 237 | K9: =A9-WEEKDAY(A9,3) -> 46307 | L9: =IF(C9="","MISSING DOC NO",IF(ISNA(MATCH(D9,Items!$A$2:$A$19,0)),"UNKNOWN SKU",IF(COUNTIFS($C$2:$C$400,C9,$D$2:$D$400,D9,$F$2:$F$400,F9,$G$2:$G$400,G9,$H$2:$H$400,H9)>1,"DUPLICATE ENTRY",IF(J9<0,"NEGATIVE BALANCE",IF(AND(B9="TRF",COUNTIFS($C$2:$C$400,C9,$D$2:$D$400,D9)<2),"TRANSFER UNMATCHED",IF(AND(MAX(G9,H9)>=100,IFERROR(IF(G9>0,G9>5*(SUMIFS($G$2:$G$400,$D$2:$D$400,D9)-G9)/(COUNTIFS($D$2:$D$400,D9,$G$2:$G$400,">0")-1),H9>5*(SUMIFS($H$2:$H$400,$D$2:$D$400,D9)-H9)/(COUNTIFS($D$2:$D$400,D9,$H$2:$H$400,">0")-1)),FALSE)),"UNUSUAL QTY","OK")))))) -> OK | M9: To Annex | N9: =IF(AND(L9<>"OK",K9=Weekly_Report!$C$4),COUNTIFS($L$2:L9,"<>OK",$K$2:K9,Weekly_Report!$C$4),"")
A10: 46308 | B10: TRF | C10: TRF-301 | D10: PK-1005 | E10: =IFERROR(INDEX(Items!$B$2:$B$19,MATCH(D10,Items!$A$2:$A$19,0)),"? not on Items") -> Bubble wrap 1m x 50m | F10: Annex | G10: 10 | H10: 0 | I10: Ravi | J10: =IFERROR(INDEX(IF(F10="Main",Items!$D$2:$D$19,Items!$E$2:$E$19),MATCH(D10,Items!$A$2:$A$19,0)),0)+SUMIFS($G$2:G10,$D$2:D10,D10,$F$2:F10,F10)-SUMIFS($H$2:H10,$D$2:D10,D10,$F$2:F10,F10) -> 84 | K10: =A10-WEEKDAY(A10,3) -> 46307 | L10: =IF(C10="","MISSING DOC NO",IF(ISNA(MATCH(D10,Items!$A$2:$A$19,0)),"UNKNOWN SKU",IF(COUNTIFS($C$2:$C$400,C10,$D$2:$D$400,D10,$F$2:$F$400,F10,$G$2:$G$400,G10,$H$2:$H$400,H10)>1,"DUPLICATE ENTRY",IF(J10<0,"NEGATIVE BALANCE",IF(AND(B10="TRF",COUNTIFS($C$2:$C$400,C10,$D$2:$D$400,D10)<2),"TRANSFER UNMATCHED",IF(AND(MAX(G10,H10)>=100,IFERROR(IF(G10>0,G10>5*(SUMIFS($G$2:$G$400,$D$2:$D$400,D10)-G10)/(COUNTIFS($D$2:$D$400,D10,$G$2:$G$400,">0")-1),H10>5*(SUMIFS($H$2:$H$400,$D$2:$D$400,D10)-H10)/(COUNTIFS($D$2:$D$400,D10,$H$2:$H$400,">0")-1)),FALSE)),"UNUSUAL QTY","OK")))))) -> OK | M10: From Main | N10: =IF(AND(L10<>"OK",K10=Weekly_Report!$C$4),COUNTIFS($L$2:L10,"<>OK",$K$2:K10,Weekly_Report!$C$4),"")
A11: 46308 | B11: DN | C11: DN-8805 | D11: PK-1003 | E11: =IFERROR(INDEX(Items!$B$2:$B$19,MATCH(D11,Items!$A$2:$A$19,0)),"? not on Items") -> Stretch film 500mm | F11: Annex | G11: 0 | H11: 4 | I11: Priya | J11: =IFERROR(INDEX(IF(F11="Main",Items!$D$2:$D$19,Items!$E$2:$E$19),MATCH(D11,Items!$A$2:$A$19,0)),0)+SUMIFS($G$2:G11,$D$2:D11,D11,$F$2:F11,F11)-SUMIFS($H$2:H11,$D$2:D11,D11,$F$2:F11,F11) -> 5 | K11: =A11-WEEKDAY(A11,3) -> 46307 | L11: =IF(C11="","MISSING DOC NO",IF(ISNA(MATCH(D11,Items!$A$2:$A$19,0)),"UNKNOWN SKU",IF(COUNTIFS($C$2:$C$400,C11,$D$2:$D$400,D11,$F$2:$F$400,F11,$G$2:$G$400,G11,$H$2:$H$400,H11)>1,"DUPLICATE ENTRY",IF(J11<0,"NEGATIVE BALANCE",IF(AND(B11="TRF",COUNTIFS($C$2:$C$400,C11,$D$2:$D$400,D11)<2),"TRANSFER UNMATCHED",IF(AND(MAX(G11,H11)>=100,IFERROR(IF(G11>0,G11>5*(SUMIFS($G$2:$G$400,$D$2:$D$400,D11)-G11)/(COUNTIFS($D$2:$D$400,D11,$G$2:$G$400,">0")-1),H11>5*(SUMIFS($H$2:$H$400,$D$2:$D$400,D11)-H11)/(COUNTIFS($D$2:$D$400,D11,$H$2:$H$400,">0")-1)),FALSE)),"UNUSUAL QTY","OK")))))) -> OK | N11: =IF(AND(L11<>"OK",K11=Weekly_Report!$C$4),COUNTIFS($L$2:L11,"<>OK",$K$2:K11,Weekly_Report!$C$4),"")
A12: 46308 | B12: DN | C12: DN-8806 | D12: CL-5001 | E12: =IFERROR(INDEX(Items!$B$2:$B$19,MATCH(D12,Items!$A$2:$A$19,0)),"? not on Items") -> Floor cleaner 5L | F12: Annex | G12: 0 | H12: 2 | I12: Priya | J12: =IFERROR(INDEX(IF(F12="Main",Items!$D$2:$D$19,Items!$E$2:$E$19),MATCH(D12,Items!$A$2:$A$19,0)),0)+SUMIFS($G$2:G12,$D$2:D12,D12,$F$2:F12,F12)-SUMIFS($H$2:H12,$D$2:D12,D12,$F$2:F12,F12) -> 5 | K12: =A12-WEEKDAY(A12,3) -> 46307 | L12: =IF(C12="","MISSING DOC NO",IF(ISNA(MATCH(D12,Items!$A$2:$A$19,0)),"UNKNOWN SKU",IF(COUNTIFS($C$2:$C$400,C12,$D$2:$D$400,D12,$F$2:$F$400,F12,$G$2:$G$400,G12,$H$2:$H$400,H12)>1,"DUPLICATE ENTRY",IF(J12<0,"NEGATIVE BALANCE",IF(AND(B12="TRF",COUNTIFS($C$2:$C$400,C12,$D$2:$D$400,D12)<2),"TRANSFER UNMATCHED",IF(AND(MAX(G12,H12)>=100,IFERROR(IF(G12>0,G12>5*(SUMIFS($G$2:$G$400,$D$2:$D$400,D12)-G12)/(COUNTIFS($D$2:$D$400,D12,$G$2:$G$400,">0")-1),H12>5*(SUMIFS($H$2:$H$400,$D$2:$D$400,D12)-H12)/(COUNTIFS($D$2:$D$400,D12,$H$2:$H$400,">0")-1)),FALSE)),"UNUSUAL QTY","OK")))))) -> OK | N12: =IF(AND(L12<>"OK",K12=Weekly_Report!$C$4),COUNTIFS($L$2:L12,"<>OK",$K$2:K12,Weekly_Report!$C$4),"")
A13: 46308 | B13: TRF | C13: TRF-302 | D13: PK-1003 | E13: =IFERROR(INDEX(Items!$B$2:$B$19,MATCH(D13,Items!$A$2:$A$19,0)),"? not on Items") -> Stretch film 500mm | F13: Main | G13: 0 | H13: 30 | I13: Ravi | J13: =IFERROR(INDEX(IF(F13="Main",Items!$D$2:$D$19,Items!$E$2:$E$19),MATCH(D13,Items!$A$2:$A$19,0)),0)+SUMIFS($G$2:G13,$D$2:D13,D13,$F$2:F13,F13)-SUMIFS($H$2:H13,$D$2:D13,D13,$F$2:F13,F13) -> 138 | K13: =A13-WEEKDAY(A13,3) -> 46307 | L13: =IF(C13="","MISSING DOC NO",IF(ISNA(MATCH(D13,Items!$A$2:$A$19,0)),"UNKNOWN SKU",IF(COUNTIFS($C$2:$C$400,C13,$D$2:$D$400,D13,$F$2:$F$400,F13,$G$2:$G$400,G13,$H$2:$H$400,H13)>1,"DUPLICATE ENTRY",IF(J13<0,"NEGATIVE BALANCE",IF(AND(B13="TRF",COUNTIFS($C$2:$C$400,C13,$D$2:$D$400,D13)<2),"TRANSFER UNMATCHED",IF(AND(MAX(G13,H13)>=100,IFERROR(IF(G13>0,G13>5*(SUMIFS($G$2:$G$400,$D$2:$D$400,D13)-G13)/(COUNTIFS($D$2:$D$400,D13,$G$2:$G$400,">0")-1),H13>5*(SUMIFS($H$2:$H$400,$D$2:$D$400,D13)-H13)/(COUNTIFS($D$2:$D$400,D13,$H$2:$H$400,">0")-1)),FALSE)),"UNUSUAL QTY","OK")))))) -> OK | M13: To Annex | N13: =IF(AND(L13<>"OK",K13=Weekly_Report!$C$4),COUNTIFS($L$2:L13,"<>OK",$K$2:K13,Weekly_Report!$C$4),"")
A14: 46308 | B14: TRF | C14: TRF-302 | D14: PK-1003 | E14: =IFERROR(INDEX(Items!$B$2:$B$19,MATCH(D14,Items!$A$2:$A$19,0)),"? not on Items") -> Stretch film 500mm | F14: Annex | G14: 30 | H14: 0 | I14: Ravi | J14: =IFERROR(INDEX(IF(F14="Main",Items!$D$2:$D$19,Items!$E$2:$E$19),MATCH(D14,Items!$A$2:$A$19,0)),0)+SUMIFS($G$2:G14,$D$2:D14,D14,$F$2:F14,F14)-SUMIFS($H$2:H14,$D$2:D14,D14,$F$2:F14,F14) -> 35 | K14: =A14-WEEKDAY(A14,3) -> 46307 | L14: =IF(C14="","MISSING DOC NO",IF(ISNA(MATCH(D14,Items!$A$2:$A$19,0)),"UNKNOWN SKU",IF(COUNTIFS($C$2:$C$400,C14,$D$2:$D$400,D14,$F$2:$F$400,F14,$G$2:$G$400,G14,$H$2:$H$400,H14)>1,"DUPLICATE ENTRY",IF(J14<0,"NEGATIVE BALANCE",IF(AND(B14="TRF",COUNTIFS($C$2:$C$400,C14,$D$2:$D$400,D14)<2),"TRANSFER UNMATCHED",IF(AND(MAX(G14,H14)>=100,IFERROR(IF(G14>0,G14>5*(SUMIFS($G$2:$G$400,$D$2:$D$400,D14)-G14)/(COUNTIFS($D$2:$D$400,D14,$G$2:$G$400,">0")-1),H14>5*(SUMIFS($H$2:$H$400,$D$2:$D$400,D14)-H14)/(COUNTIFS($D$2:$D$400,D14,$H$2:$H$400,">0")-1)),FALSE)),"UNUSUAL QTY","OK")))))) -> OK | M14: From Main | N14: =IF(AND(L14<>"OK",K14=Weekly_Report!$C$4),COUNTIFS($L$2:L14,"<>OK",$K$2:K14,Weekly_Report!$C$4),"")
A15: 46308 | B15: TRF | C15: TRF-303 | D15: PK-1001 | E15: =IFERROR(INDEX(Items!$B$2:$B$19,MATCH(D15,Items!$A$2:$A$19,0)),"? not on Items") -> Carton box 600x400x400 | F15: Main | G15: 0 | H15: 10 | I15: Ravi | J15: =IFERROR(INDEX(IF(F15="Main",Items!$D$2:$D$19,Items!$E$2:$E$19),MATCH(D15,Items!$A$2:$A$19,0)),0)+SUMIFS($G$2:G15,$D$2:D15,D15,$F$2:F15,F15)-SUMIFS($H$2:H15,$D$2:D15,D15,$F$2:F15,F15) -> 215 | K15: =A15-WEEKDAY(A15,3) -> 46307 | L15: =IF(C15="","MISSING DOC NO",IF(ISNA(MATCH(D15,Items!$A$2:$A$19,0)),"UNKNOWN SKU",IF(COUNTIFS($C$2:$C$400,C15,$D$2:$D$400,D15,$F$2:$F$400,F15,$G$2:$G$400,G15,$H$2:$H$400,H15)>1,"DUPLICATE ENTRY",IF(J15<0,"NEGATIVE BALANCE",IF(AND(B15="TRF",COUNTIFS($C$2:$C$400,C15,$D$2:$D$400,D15)<2),"TRANSFER UNMATCHED",IF(AND(MAX(G15,H15)>=100,IFERROR(IF(G15>0,G15>5*(SUMIFS($G$2:$G$400,$D$2:$D$400,D15)-G15)/(COUNTIFS($D$2:$D$400,D15,$G$2:$G$400,">0")-1),H15>5*(SUMIFS($H$2:$H$400,$D$2:$D$400,D15)-H15)/(COUNTIFS($D$2:$D$400,D15,$H$2:$H$400,">0")-1)),FALSE)),"UNUSUAL QTY","OK")))))) -> OK | M15: To Annex | N15: =IF(AND(L15<>"OK",K15=Weekly_Report!$C$4),COUNTIFS($L$2:L15,"<>OK",$K$2:K15,Weekly_Report!$C$4),"")
A16: 46308 | B16: TRF | C16: TRF-303 | D16: PK-1001 | E16: =IFERROR(INDEX(Items!$B$2:$B$19,MATCH(D16,Items!$A$2:$A$19,0)),"? not on Items") -> Carton box 600x400x400 | F16: Annex | G16: 10 | H16: 0 | I16: Ravi | J16: =IFERROR(INDEX(IF(F16="Main",Items!$D$2:$D$19,Items!$E$2:$E$19),MATCH(D16,Items!$A$2:$A$19,0)),0)+SUMIFS($G$2:G16,$D$2:D16,D16,$F$2:F16,F16)-SUMIFS($H$2:H16,$D$2:D16,D16,$F$2:F16,F16) -> 29 | K16: =A16-WEEKDAY(A16,3) -> 46307 | L16: =IF(C16="","MISSING DOC NO",IF(ISNA(MATCH(D16,Items!$A$2:$A$19,0)),"UNKNOWN SKU",IF(COUNTIFS($C$2:$C$400,C16,$D$2:$D$400,D16,$F$2:$F$400,F16,$G$2:$G$400,G16,$H$2:$H$400,H16)>1,"DUPLICATE ENTRY",IF(J16<0,"NEGATIVE BALANCE",IF(AND(B16="TRF",COUNTIFS($C$2:$C$400,C16,$D$2:$D$400,D16)<2),"TRANSFER UNMATCHED",IF(AND(MAX(G16,H16)>=100,IFERROR(IF(G16>0,G16>5*(SUMIFS($G$2:$G$400,$D$2:$D$400,D16)-G16)/(COUNTIFS($D$2:$D$400,D16,$G$2:$G$400,">0")-1),H16>5*(SUMIFS($H$2:$H$400,$D$2:$D$400,D16)-H16)/(COUNTIFS($D$2:$D$400,D16,$H$2:$H$400,">0")-1)),FALSE)),"UNUSUAL QTY","OK")))))) -> OK | M16: From Main | N16: =IF(AND(L16<>"OK",K16=Weekly_Report!$C$4),COUNTIFS($L$2:L16,"<>OK",$K$2:K16,Weekly_Report!$C$4),"")
A17: 46309 | B17: GRN | C17: GRN-5104 | D17: HW-6003 | E17: =IFERROR(INDEX(Items!$B$2:$B$19,MATCH(D17,Items!$A$2:$A$19,0)),"? not on Items") -> Strapping seals (1000) | F17: Main | G17: 36 | H17: 0 | I17: Ravi | J17: =IFERROR(INDEX(IF(F17="Main",Items!$D$2:$D$19,Items!$E$2:$E$19),MATCH(D17,Items!$A$2:$A$19,0)),0)+SUMIFS($G$2:G17,$D$2:D17,D17,$F$2:F17,F17)-SUMIFS($H$2:H17,$D$2:D17,D17,$F$2:F17,F17) -> 127 | K17: =A17-WEEKDAY(A17,3) -> 46307 | L17: =IF(C17="","MISSING DOC NO",IF(ISNA(MATCH(D17,Items!$A$2:$A$19,0)),"UNKNOWN SKU",IF(COUNTIFS($C$2:$C$400,C17,$D$2:$D$400,D17,$F$2:$F$400,F17,$G$2:$G$400,G17,$H$2:$H$400,H17)>1,"DUPLICATE ENTRY",IF(J17<0,"NEGATIVE BALANCE",IF(AND(B17="TRF",COUNTIFS($C$2:$C$400,C17,$D$2:$D$400,D17)<2),"TRANSFER UNMATCHED",IF(AND(MAX(G17,H17)>=100,IFERROR(IF(G17>0,G17>5*(SUMIFS($G$2:$G$400,$D$2:$D$400,D17)-G17)/(COUNTIFS($D$2:$D$400,D17,$G$2:$G$400,">0")-1),H17>5*(SUMIFS($H$2:$H$400,$D$2:$D$400,D17)-H17)/(COUNTIFS($D$2:$D$400,D17,$H$2:$H$400,">0")-1)),FALSE)),"UNUSUAL QTY","OK")))))) -> OK | N17: =IF(AND(L17<>"OK",K17=Weekly_Report!$C$4),COUNTIFS($L$2:L17,"<>OK",$K$2:K17,Weekly_Report!$C$4),"")
A18: 46309 | B18: GRN | C18: GRN-5105 | D18: ST-7002 | E18: =IFERROR(INDEX(Items!$B$2:$B$19,MATCH(D18,Items!$A$2:$A$19,0)),"? not on Items") -> Shelf bin large | F18: Main | G18: 48 | H18: 0 | I18: Ravi | J18: =IFERROR(INDEX(IF(F18="Main",Items!$D$2:$D$19,Items!$E$2:$E$19),MATCH(D18,Items!$A$2:$A$19,0)),0)+SUMIFS($G$2:G18,$D$2:D18,D18,$F$2:F18,F18)-SUMIFS($H$2:H18,$D$2:D18,D18,$F$2:F18,F18) -> 133 | K18: =A18-WEEKDAY(A18,3) -> 46307 | L18: =IF(C18="","MISSING DOC NO",IF(ISNA(MATCH(D18,Items!$A$2:$A$19,0)),"UNKNOWN SKU",IF(COUNTIFS($C$2:$C$400,C18,$D$2:$D$400,D18,$F$2:$F$400,F18,$G$2:$G$400,G18,$H$2:$H$400,H18)>1,"DUPLICATE ENTRY",IF(J18<0,"NEGATIVE BALANCE",IF(AND(B18="TRF",COUNTIFS($C$2:$C$400,C18,$D$2:$D$400,D18)<2),"TRANSFER UNMATCHED",IF(AND(MAX(G18,H18)>=100,IFERROR(IF(G18>0,G18>5*(SUMIFS($G$2:$G$400,$D$2:$D$400,D18)-G18)/(COUNTIFS($D$2:$D$400,D18,$G$2:$G$400,">0")-1),H18>5*(SUMIFS($H$2:$H$400,$D$2:$D$400,D18)-H18)/(COUNTIFS($D$2:$D$400,D18,$H$2:$H$400,">0")-1)),FALSE)),"UNUSUAL QTY","OK")))))) -> OK | N18: =IF(AND(L18<>"OK",K18=Weekly_Report!$C$4),COUNTIFS($L$2:L18,"<>OK",$K$2:K18,Weekly_Report!$C$4),"")
A19: 46309 | B19: DN | C19: DN-8807 | D19: SF-3001 | E19: =IFERROR(INDEX(Items!$B$2:$B$19,MATCH(D19,Items!$A$2:$A$19,0)),"? not on Items") -> Safety gloves (pair) | F19: Main | G19: 0 | H19: 14 | I19: Ravi | J19: =IFERROR(INDEX(IF(F19="Main",Items!$D$2:$D$19,Items!$E$2:$E$19),MATCH(D19,Items!$A$2:$A$19,0)),0)+SUMIFS($G$2:G19,$D$2:D19,D19,$F$2:F19,F19)-SUMIFS($H$2:H19,$D$2:D19,D19,$F$2:F19,F19) -> 56 | K19: =A19-WEEKDAY(A19,3) -> 46307 | L19: =IF(C19="","MISSING DOC NO",IF(ISNA(MATCH(D19,Items!$A$2:$A$19,0)),"UNKNOWN SKU",IF(COUNTIFS($C$2:$C$400,C19,$D$2:$D$400,D19,$F$2:$F$400,F19,$G$2:$G$400,G19,$H$2:$H$400,H19)>1,"DUPLICATE ENTRY",IF(J19<0,"NEGATIVE BALANCE",IF(AND(B19="TRF",COUNTIFS($C$2:$C$400,C19,$D$2:$D$400,D19)<2),"TRANSFER UNMATCHED",IF(AND(MAX(G19,H19)>=100,IFERROR(IF(G19>0,G19>5*(SUMIFS($G$2:$G$400,$D$2:$D$400,D19)-G19)/(COUNTIFS($D$2:$D$400,D19,$G$2:$G$400,">0")-1),H19>5*(SUMIFS($H$2:$H$400,$D$2:$D$400,D19)-H19)/(COUNTIFS($D$2:$D$400,D19,$H$2:$H$400,">0")-1)),FALSE)),"UNUSUAL QTY","OK")))))) -> OK | N19: =IF(AND(L19<>"OK",K19=Weekly_Report!$C$4),COUNTIFS($L$2:L19,"<>OK",$K$2:K19,Weekly_Report!$C$4),"")
A20: 46309 | B20: DN | C20: DN-8808 | D20: HW-6002 | E20: =IFERROR(INDEX(Items!$B$2:$B$19,MATCH(D20,Items!$A$2:$A$19,0)),"? not on Items") -> Strapping band 12mm | F20: Main | G20: 0 | H20: 31 | I20: Ravi | J20: =IFERROR(INDEX(IF(F20="Main",Items!$D$2:$D$19,Items!$E$2:$E$19),MATCH(D20,Items!$A$2:$A$19,0)),0)+SUMIFS($G$2:G20,$D$2:D20,D20,$F$2:F20,F20)-SUMIFS($H$2:H20,$D$2:D20,D20,$F$2:F20,F20) -> 398 | K20: =A20-WEEKDAY(A20,3) -> 46307 | L20: =IF(C20="","MISSING DOC NO",IF(ISNA(MATCH(D20,Items!$A$2:$A$19,0)),"UNKNOWN SKU",IF(COUNTIFS($C$2:$C$400,C20,$D$2:$D$400,D20,$F$2:$F$400,F20,$G$2:$G$400,G20,$H$2:$H$400,H20)>1,"DUPLICATE ENTRY",IF(J20<0,"NEGATIVE BALANCE",IF(AND(B20="TRF",COUNTIFS($C$2:$C$400,C20,$D$2:$D$400,D20)<2),"TRANSFER UNMATCHED",IF(AND(MAX(G20,H20)>=100,IFERROR(IF(G20>0,G20>5*(SUMIFS($G$2:$G$400,$D$2:$D$400,D20)-G20)/(COUNTIFS($D$2:$D$400,D20,$G$2:$G$400,">0")-1),H20>5*(SUMIFS($H$2:$H$400,$D$2:$D$400,D20)-H20)/(COUNTIFS($D$2:$D$400,D20,$H$2:$H$400,">0")-1)),FALSE)),"UNUSUAL QTY","OK")))))) -> OK | N20: =IF(AND(L20<>"OK",K20=Weekly_Report!$C$4),COUNTIFS($L$2:L20,"<>OK",$K$2:K20,Weekly_Report!$C$4),"")
A21: 46309 | B21: TRF | C21: TRF-304 | D21: CL-5002 | E21: =IFERROR(INDEX(Items!$B$2:$B$19,MATCH(D21,Items!$A$2:$A$19,0)),"? not on Items") -> Industrial wipes | F21: Main | G21: 0 | H21: 10 | I21: Manaz | J21: =IFERROR(INDEX(IF(F21="Main",Items!$D$2:$D$19,Items!$E$2:$E$19),MATCH(D21,Items!$A$2:$A$19,0)),0)+SUMIFS($G$2:G21,$D$2:D21,D21,$F$2:F21,F21)-SUMIFS($H$2:H21,$D$2:D21,D21,$F$2:F21,F21) -> 339 | K21: =A21-WEEKDAY(A21,3) -> 46307 | L21: =IF(C21="","MISSING DOC NO",IF(ISNA(MATCH(D21,Items!$A$2:$A$19,0)),"UNKNOWN SKU",IF(COUNTIFS($C$2:$C$400,C21,$D$2:$D$400,D21,$F$2:$F$400,F21,$G$2:$G$400,G21,$H$2:$H$400,H21)>1,"DUPLICATE ENTRY",IF(J21<0,"NEGATIVE BALANCE",IF(AND(B21="TRF",COUNTIFS($C$2:$C$400,C21,$D$2:$D$400,D21)<2),"TRANSFER UNMATCHED",IF(AND(MAX(G21,H21)>=100,IFERROR(IF(G21>0,G21>5*(SUMIFS($G$2:$G$400,$D$2:$D$400,D21)-G21)/(COUNTIFS($D$2:$D$400,D21,$G$2:$G$400,">0")-1),H21>5*(SUMIFS($H$2:$H$400,$D$2:$D$400,D21)-H21)/(COUNTIFS($D$2:$D$400,D21,$H$2:$H$400,">0")-1)),FALSE)),"UNUSUAL QTY","OK")))))) -> OK | M21: To Annex | N21: =IF(AND(L21<>"OK",K21=Weekly_Report!$C$4),COUNTIFS($L$2:L21,"<>OK",$K$2:K21,Weekly_Report!$C$4),"")
A22: 46309 | B22: TRF | C22: TRF-304 | D22: CL-5002 | E22: =IFERROR(INDEX(Items!$B$2:$B$19,MATCH(D22,Items!$A$2:$A$19,0)),"? not on Items") -> Industrial wipes | F22: Annex | G22: 10 | H22: 0 | I22: Manaz | J22: =IFERROR(INDEX(IF(F22="Main",Items!$D$2:$D$19,Items!$E$2:$E$19),MATCH(D22,Items!$A$2:$A$19,0)),0)+SUMIFS($G$2:G22,$D$2:D22,D22,$F$2:F22,F22)-SUMIFS($H$2:H22,$D$2:D22,D22,$F$2:F22,F22) -> 25 | K22: =A22-WEEKDAY(A22,3) -> 46307 | L22: =IF(C22="","MISSING DOC NO",IF(ISNA(MATCH(D22,Items!$A$2:$A$19,0)),"UNKNOWN SKU",IF(COUNTIFS($C$2:$C$400,C22,$D$2:$D$400,D22,$F$2:$F$400,F22,$G$2:$G$400,G22,$H$2:$H$400,H22)>1,"DUPLICATE ENTRY",IF(J22<0,"NEGATIVE BALANCE",IF(AND(B22="TRF",COUNTIFS($C$2:$C$400,C22,$D$2:$D$400,D22)<2),"TRANSFER UNMATCHED",IF(AND(MAX(G22,H22)>=100,IFERROR(IF(G22>0,G22>5*(SUMIFS($G$2:$G$400,$D$2:$D$400,D22)-G22)/(COUNTIFS($D$2:$D$400,D22,$G$2:$G$400,">0")-1),H22>5*(SUMIFS($H$2:$H$400,$D$2:$D$400,D22)-H22)/(COUNTIFS($D$2:$D$400,D22,$H$2:$H$400,">0")-1)),FALSE)),"UNUSUAL QTY","OK")))))) -> OK | M22: From Main | N22: =IF(AND(L22<>"OK",K22=Weekly_Report!$C$4),COUNTIFS($L$2:L22,"<>OK",$K$2:K22,Weekly_Report!$C$4),"")
A23: 46310 | B23: GRN | C23: GRN-5106 | D23: PK-1005 | E23: =IFERROR(INDEX(Items!$B$2:$B$19,MATCH(D23,Items!$A$2:$A$19,0)),"? not on Items") -> Bubble wrap 1m x 50m | F23: Main | G23: 24 | H23: 0 | I23: Manaz | J23: =IFERROR(INDEX(IF(F23="Main",Items!$D$2:$D$19,Items!$E$2:$E$19),MATCH(D23,Items!$A$2:$A$19,0)),0)+SUMIFS($G$2:G23,$D$2:D23,D23,$F$2:F23,F23)-SUMIFS($H$2:H23,$D$2:D23,D23,$F$2:F23,F23) -> 261 | K23: =A23-WEEKDAY(A23,3) -> 46307 | L23: =IF(C23="","MISSING DOC NO",IF(ISNA(MATCH(D23,Items!$A$2:$A$19,0)),"UNKNOWN SKU",IF(COUNTIFS($C$2:$C$400,C23,$D$2:$D$400,D23,$F$2:$F$400,F23,$G$2:$G$400,G23,$H$2:$H$400,H23)>1,"DUPLICATE ENTRY",IF(J23<0,"NEGATIVE BALANCE",IF(AND(B23="TRF",COUNTIFS($C$2:$C$400,C23,$D$2:$D$400,D23)<2),"TRANSFER UNMATCHED",IF(AND(MAX(G23,H23)>=100,IFERROR(IF(G23>0,G23>5*(SUMIFS($G$2:$G$400,$D$2:$D$400,D23)-G23)/(COUNTIFS($D$2:$D$400,D23,$G$2:$G$400,">0")-1),H23>5*(SUMIFS($H$2:$H$400,$D$2:$D$400,D23)-H23)/(COUNTIFS($D$2:$D$400,D23,$H$2:$H$400,">0")-1)),FALSE)),"UNUSUAL QTY","OK")))))) -> OK | N23: =IF(AND(L23<>"OK",K23=Weekly_Report!$C$4),COUNTIFS($L$2:L23,"<>OK",$K$2:K23,Weekly_Report!$C$4),"")
A24: 46310 | B24: GRN | C24: GRN-5107 | D24: PK-1001 | E24: =IFERROR(INDEX(Items!$B$2:$B$19,MATCH(D24,Items!$A$2:$A$19,0)),"? not on Items") -> Carton box 600x400x400 | F24: Main | G24: 48 | H24: 0 | I24: Priya | J24: =IFERROR(INDEX(IF(F24="Main",Items!$D$2:$D$19,Items!$E$2:$E$19),MATCH(D24,Items!$A$2:$A$19,0)),0)+SUMIFS($G$2:G24,$D$2:D24,D24,$F$2:F24,F24)-SUMIFS($H$2:H24,$D$2:D24,D24,$F$2:F24,F24) -> 263 | K24: =A24-WEEKDAY(A24,3) -> 46307 | L24: =IF(C24="","MISSING DOC NO",IF(ISNA(MATCH(D24,Items!$A$2:$A$19,0)),"UNKNOWN SKU",IF(COUNTIFS($C$2:$C$400,C24,$D$2:$D$400,D24,$F$2:$F$400,F24,$G$2:$G$400,G24,$H$2:$H$400,H24)>1,"DUPLICATE ENTRY",IF(J24<0,"NEGATIVE BALANCE",IF(AND(B24="TRF",COUNTIFS($C$2:$C$400,C24,$D$2:$D$400,D24)<2),"TRANSFER UNMATCHED",IF(AND(MAX(G24,H24)>=100,IFERROR(IF(G24>0,G24>5*(SUMIFS($G$2:$G$400,$D$2:$D$400,D24)-G24)/(COUNTIFS($D$2:$D$400,D24,$G$2:$G$400,">0")-1),H24>5*(SUMIFS($H$2:$H$400,$D$2:$D$400,D24)-H24)/(COUNTIFS($D$2:$D$400,D24,$H$2:$H$400,">0")-1)),FALSE)),"UNUSUAL QTY","OK")))))) -> OK | N24: =IF(AND(L24<>"OK",K24=Weekly_Report!$C$4),COUNTIFS($L$2:L24,"<>OK",$K$2:K24,Weekly_Report!$C$4),"")
A25: 46310 | B25: DN | C25: DN-8809 | D25: HW-6003 | E25: =IFERROR(INDEX(Items!$B$2:$B$19,MATCH(D25,Items!$A$2:$A$19,0)),"? not on Items") -> Strapping seals (1000) | F25: Annex | G25: 0 | H25: 22 | I25: Manaz | J25: =IFERROR(INDEX(IF(F25="Main",Items!$D$2:$D$19,Items!$E$2:$E$19),MATCH(D25,Items!$A$2:$A$19,0)),0)+SUMIFS($G$2:G25,$D$2:D25,D25,$F$2:F25,F25)-SUMIFS($H$2:H25,$D$2:D25,D25,$F$2:F25,F25) -> 51 | K25: =A25-WEEKDAY(A25,3) -> 46307 | L25: =IF(C25="","MISSING DOC NO",IF(ISNA(MATCH(D25,Items!$A$2:$A$19,0)),"UNKNOWN SKU",IF(COUNTIFS($C$2:$C$400,C25,$D$2:$D$400,D25,$F$2:$F$400,F25,$G$2:$G$400,G25,$H$2:$H$400,H25)>1,"DUPLICATE ENTRY",IF(J25<0,"NEGATIVE BALANCE",IF(AND(B25="TRF",COUNTIFS($C$2:$C$400,C25,$D$2:$D$400,D25)<2),"TRANSFER UNMATCHED",IF(AND(MAX(G25,H25)>=100,IFERROR(IF(G25>0,G25>5*(SUMIFS($G$2:$G$400,$D$2:$D$400,D25)-G25)/(COUNTIFS($D$2:$D$400,D25,$G$2:$G$400,">0")-1),H25>5*(SUMIFS($H$2:$H$400,$D$2:$D$400,D25)-H25)/(COUNTIFS($D$2:$D$400,D25,$H$2:$H$400,">0")-1)),FALSE)),"UNUSUAL QTY","OK")))))) -> OK | N25: =IF(AND(L25<>"OK",K25=Weekly_Report!$C$4),COUNTIFS($L$2:L25,"<>OK",$K$2:K25,Weekly_Report!$C$4),"")
A26: 46310 | B26: TRF | C26: TRF-305 | D26: LB-4002 | E26: =IFERROR(INDEX(Items!$B$2:$B$19,MATCH(D26,Items!$A$2:$A$19,0)),"? not on Items") -> Barcode ribbon 110mm | F26: Main | G26: 0 | H26: 30 | I26: Priya | J26: =IFERROR(INDEX(IF(F26="Main",Items!$D$2:$D$19,Items!$E$2:$E$19),MATCH(D26,Items!$A$2:$A$19,0)),0)+SUMIFS($G$2:G26,$D$2:D26,D26,$F$2:F26,F26)-SUMIFS($H$2:H26,$D$2:D26,D26,$F$2:F26,F26) -> 76 | K26: =A26-WEEKDAY(A26,3) -> 46307 | L26: =IF(C26="","MISSING DOC NO",IF(ISNA(MATCH(D26,Items!$A$2:$A$19,0)),"UNKNOWN SKU",IF(COUNTIFS($C$2:$C$400,C26,$D$2:$D$400,D26,$F$2:$F$400,F26,$G$2:$G$400,G26,$H$2:$H$400,H26)>1,"DUPLICATE ENTRY",IF(J26<0,"NEGATIVE BALANCE",IF(AND(B26="TRF",COUNTIFS($C$2:$C$400,C26,$D$2:$D$400,D26)<2),"TRANSFER UNMATCHED",IF(AND(MAX(G26,H26)>=100,IFERROR(IF(G26>0,G26>5*(SUMIFS($G$2:$G$400,$D$2:$D$400,D26)-G26)/(COUNTIFS($D$2:$D$400,D26,$G$2:$G$400,">0")-1),H26>5*(SUMIFS($H$2:$H$400,$D$2:$D$400,D26)-H26)/(COUNTIFS($D$2:$D$400,D26,$H$2:$H$400,">0")-1)),FALSE)),"UNUSUAL QTY","OK")))))) -> OK | M26: To Annex | N26: =IF(AND(L26<>"OK",K26=Weekly_Report!$C$4),COUNTIFS($L$2:L26,"<>OK",$K$2:K26,Weekly_Report!$C$4),"")
A27: 46310 | B27: TRF | C27: TRF-305 | D27: LB-4002 | E27: =IFERROR(INDEX(Items!$B$2:$B$19,MATCH(D27,Items!$A$2:$A$19,0)),"? not on Items") -> Barcode ribbon 110mm | F27: Annex | G27: 30 | H27: 0 | I27: Priya | J27: =IFERROR(INDEX(IF(F27="Main",Items!$D$2:$D$19,Items!$E$2:$E$19),MATCH(D27,Items!$A$2:$A$19,0)),0)+SUMIFS($G$2:G27,$D$2:D27,D27,$F$2:F27,F27)-SUMIFS($H$2:H27,$D$2:D27,D27,$F$2:F27,F27) -> 100 | K27: =A27-WEEKDAY(A27,3) -> 46307 | L27: =IF(C27="","MISSING DOC NO",IF(ISNA(MATCH(D27,Items!$A$2:$A$19,0)),"UNKNOWN SKU",IF(COUNTIFS($C$2:$C$400,C27,$D$2:$D$400,D27,$F$2:$F$400,F27,$G$2:$G$400,G27,$H$2:$H$400,H27)>1,"DUPLICATE ENTRY",IF(J27<0,"NEGATIVE BALANCE",IF(AND(B27="TRF",COUNTIFS($C$2:$C$400,C27,$D$2:$D$400,D27)<2),"TRANSFER UNMATCHED",IF(AND(MAX(G27,H27)>=100,IFERROR(IF(G27>0,G27>5*(SUMIFS($G$2:$G$400,$D$2:$D$400,D27)-G27)/(COUNTIFS($D$2:$D$400,D27,$G$2:$G$400,">0")-1),H27>5*(SUMIFS($H$2:$H$400,$D$2:$D$400,D27)-H27)/(COUNTIFS($D$2:$D$400,D27,$H$2:$H$400,">0")-1)),FALSE)),"UNUSUAL QTY","OK")))))) -> OK | M27: From Main | N27: =IF(AND(L27<>"OK",K27=Weekly_Report!$C$4),COUNTIFS($L$2:L27,"<>OK",$K$2:K27,Weekly_Report!$C$4),"")
A28: 46310 | B28: DN | C28: DN-8810 | D28: PK-1002 | E28: =IFERROR(INDEX(Items!$B$2:$B$19,MATCH(D28,Items!$A$2:$A$19,0)),"? not on Items") -> Carton box 400x300x300 | F28: Annex | G28: 0 | H28: 29 | I28: Priya | J28: =IFERROR(INDEX(IF(F28="Main",Items!$D$2:$D$19,Items!$E$2:$E$19),MATCH(D28,Items!$A$2:$A$19,0)),0)+SUMIFS($G$2:G28,$D$2:D28,D28,$F$2:F28,F28)-SUMIFS($H$2:H28,$D$2:D28,D28,$F$2:F28,F28) -> 30 | K28: =A28-WEEKDAY(A28,3) -> 46307 | L28: =IF(C28="","MISSING DOC NO",IF(ISNA(MATCH(D28,Items!$A$2:$A$19,0)),"UNKNOWN SKU",IF(COUNTIFS($C$2:$C$400,C28,$D$2:$D$400,D28,$F$2:$F$400,F28,$G$2:$G$400,G28,$H$2:$H$400,H28)>1,"DUPLICATE ENTRY",IF(J28<0,"NEGATIVE BALANCE",IF(AND(B28="TRF",COUNTIFS($C$2:$C$400,C28,$D$2:$D$400,D28)<2),"TRANSFER UNMATCHED",IF(AND(MAX(G28,H28)>=100,IFERROR(IF(G28>0,G28>5*(SUMIFS($G$2:$G$400,$D$2:$D$400,D28)-G28)/(COUNTIFS($D$2:$D$400,D28,$G$2:$G$400,">0")-1),H28>5*(SUMIFS($H$2:$H$400,$D$2:$D$400,D28)-H28)/(COUNTIFS($D$2:$D$400,D28,$H$2:$H$400,">0")-1)),FALSE)),"UNUSUAL QTY","OK")))))) -> OK | N28: =IF(AND(L28<>"OK",K28=Weekly_Report!$C$4),COUNTIFS($L$2:L28,"<>OK",$K$2:K28,Weekly_Report!$C$4),"")
A29: 46310 | B29: DN | C29: DN-8811 | D29: CL-5002 | E29: =IFERROR(INDEX(Items!$B$2:$B$19,MATCH(D29,Items!$A$2:$A$19,0)),"? not on Items") -> Industrial wipes | F29: Annex | G29: 0 | H29: 7 | I29: Ravi | J29: =IFERROR(INDEX(IF(F29="Main",Items!$D$2:$D$19,Items!$E$2:$E$19),MATCH(D29,Items!$A$2:$A$19,0)),0)+SUMIFS($G$2:G29,$D$2:D29,D29,$F$2:F29,F29)-SUMIFS($H$2:H29,$D$2:D29,D29,$F$2:F29,F29) -> 18 | K29: =A29-WEEKDAY(A29,3) -> 46307 | L29: =IF(C29="","MISSING DOC NO",IF(ISNA(MATCH(D29,Items!$A$2:$A$19,0)),"UNKNOWN SKU",IF(COUNTIFS($C$2:$C$400,C29,$D$2:$D$400,D29,$F$2:$F$400,F29,$G$2:$G$400,G29,$H$2:$H$400,H29)>1,"DUPLICATE ENTRY",IF(J29<0,"NEGATIVE BALANCE",IF(AND(B29="TRF",COUNTIFS($C$2:$C$400,C29,$D$2:$D$400,D29)<2),"TRANSFER UNMATCHED",IF(AND(MAX(G29,H29)>=100,IFERROR(IF(G29>0,G29>5*(SUMIFS($G$2:$G$400,$D$2:$D$400,D29)-G29)/(COUNTIFS($D$2:$D$400,D29,$G$2:$G$400,">0")-1),H29>5*(SUMIFS($H$2:$H$400,$D$2:$D$400,D29)-H29)/(COUNTIFS($D$2:$D$400,D29,$H$2:$H$400,">0")-1)),FALSE)),"UNUSUAL QTY","OK")))))) -> OK | N29: =IF(AND(L29<>"OK",K29=Weekly_Report!$C$4),COUNTIFS($L$2:L29,"<>OK",$K$2:K29,Weekly_Report!$C$4),"")
A30: 46311 | B30: TRF | C30: TRF-306 | D30: PK-1003 | E30: =IFERROR(INDEX(Items!$B$2:$B$19,MATCH(D30,Items!$A$2:$A$19,0)),"? not on Items") -> Stretch film 500mm | F30: Main | G30: 0 | H30: 10 | I30: Ravi | J30: =IFERROR(INDEX(IF(F30="Main",Items!$D$2:$D$19,Items!$E$2:$E$19),MATCH(D30,Items!$A$2:$A$19,0)),0)+SUMIFS($G$2:G30,$D$2:D30,D30,$F$2:F30,F30)-SUMIFS($H$2:H30,$D$2:D30,D30,$F$2:F30,F30) -> 128 | K30: =A30-WEEKDAY(A30,3) -> 46307 | L30: =IF(C30="","MISSING DOC NO",IF(ISNA(MATCH(D30,Items!$A$2:$A$19,0)),"UNKNOWN SKU",IF(COUNTIFS($C$2:$C$400,C30,$D$2:$D$400,D30,$F$2:$F$400,F30,$G$2:$G$400,G30,$H$2:$H$400,H30)>1,"DUPLICATE ENTRY",IF(J30<0,"NEGATIVE BALANCE",IF(AND(B30="TRF",COUNTIFS($C$2:$C$400,C30,$D$2:$D$400,D30)<2),"TRANSFER UNMATCHED",IF(AND(MAX(G30,H30)>=100,IFERROR(IF(G30>0,G30>5*(SUMIFS($G$2:$G$400,$D$2:$D$400,D30)-G30)/(COUNTIFS($D$2:$D$400,D30,$G$2:$G$400,">0")-1),H30>5*(SUMIFS($H$2:$H$400,$D$2:$D$400,D30)-H30)/(COUNTIFS($D$2:$D$400,D30,$H$2:$H$400,">0")-1)),FALSE)),"UNUSUAL QTY","OK")))))) -> OK | M30: To Annex | N30: =IF(AND(L30<>"OK",K30=Weekly_Report!$C$4),COUNTIFS($L$2:L30,"<>OK",$K$2:K30,Weekly_Report!$C$4),"")
A31: 46311 | B31: TRF | C31: TRF-306 | D31: PK-1003 | E31: =IFERROR(INDEX(Items!$B$2:$B$19,MATCH(D31,Items!$A$2:$A$19,0)),"? not on Items") -> Stretch film 500mm | F31: Annex | G31: 10 | H31: 0 | I31: Ravi | J31: =IFERROR(INDEX(IF(F31="Main",Items!$D$2:$D$19,Items!$E$2:$E$19),MATCH(D31,Items!$A$2:$A$19,0)),0)+SUMIFS($G$2:G31,$D$2:D31,D31,$F$2:F31,F31)-SUMIFS($H$2:H31,$D$2:D31,D31,$F$2:F31,F31) -> 45 | K31: =A31-WEEKDAY(A31,3) -> 46307 | L31: =IF(C31="","MISSING DOC NO",IF(ISNA(MATCH(D31,Items!$A$2:$A$19,0)),"UNKNOWN SKU",IF(COUNTIFS($C$2:$C$400,C31,$D$2:$D$400,D31,$F$2:$F$400,F31,$G$2:$G$400,G31,$H$2:$H$400,H31)>1,"DUPLICATE ENTRY",IF(J31<0,"NEGATIVE BALANCE",IF(AND(B31="TRF",COUNTIFS($C$2:$C$400,C31,$D$2:$D$400,D31)<2),"TRANSFER UNMATCHED",IF(AND(MAX(G31,H31)>=100,IFERROR(IF(G31>0,G31>5*(SUMIFS($G$2:$G$400,$D$2:$D$400,D31)-G31)/(COUNTIFS($D$2:$D$400,D31,$G$2:$G$400,">0")-1),H31>5*(SUMIFS($H$2:$H$400,$D$2:$D$400,D31)-H31)/(COUNTIFS($D$2:$D$400,D31,$H$2:$H$400,">0")-1)),FALSE)),"UNUSUAL QTY","OK")))))) -> OK | M31: From Main | N31: =IF(AND(L31<>"OK",K31=Weekly_Report!$C$4),COUNTIFS($L$2:L31,"<>OK",$K$2:K31,Weekly_Report!$C$4),"")
A32: 46311 | B32: DN | C32: DN-8812 | D32: PK-1004 | E32: =IFERROR(INDEX(Items!$B$2:$B$19,MATCH(D32,Items!$A$2:$A$19,0)),"? not on Items") -> Packing tape 48mm | F32: Main | G32: 0 | H32: 4 | I32: Manaz | J32: =IFERROR(INDEX(IF(F32="Main",Items!$D$2:$D$19,Items!$E$2:$E$19),MATCH(D32,Items!$A$2:$A$19,0)),0)+SUMIFS($G$2:G32,$D$2:D32,D32,$F$2:F32,F32)-SUMIFS($H$2:H32,$D$2:D32,D32,$F$2:F32,F32) -> 330 | K32: =A32-WEEKDAY(A32,3) -> 46307 | L32: =IF(C32="","MISSING DOC NO",IF(ISNA(MATCH(D32,Items!$A$2:$A$19,0)),"UNKNOWN SKU",IF(COUNTIFS($C$2:$C$400,C32,$D$2:$D$400,D32,$F$2:$F$400,F32,$G$2:$G$400,G32,$H$2:$H$400,H32)>1,"DUPLICATE ENTRY",IF(J32<0,"NEGATIVE BALANCE",IF(AND(B32="TRF",COUNTIFS($C$2:$C$400,C32,$D$2:$D$400,D32)<2),"TRANSFER UNMATCHED",IF(AND(MAX(G32,H32)>=100,IFERROR(IF(G32>0,G32>5*(SUMIFS($G$2:$G$400,$D$2:$D$400,D32)-G32)/(COUNTIFS($D$2:$D$400,D32,$G$2:$G$400,">0")-1),H32>5*(SUMIFS($H$2:$H$400,$D$2:$D$400,D32)-H32)/(COUNTIFS($D$2:$D$400,D32,$H$2:$H$400,">0")-1)),FALSE)),"UNUSUAL QTY","OK")))))) -> OK | N32: =IF(AND(L32<>"OK",K32=Weekly_Report!$C$4),COUNTIFS($L$2:L32,"<>OK",$K$2:K32,Weekly_Report!$C$4),"")
A33: 46311 | B33: DN | C33: DN-8813 | D33: PK-1005 | E33: =IFERROR(INDEX(Items!$B$2:$B$19,MATCH(D33,Items!$A$2:$A$19,0)),"? not on Items") -> Bubble wrap 1m x 50m | F33: Main | G33: 0 | H33: 8 | I33: Ravi | J33: =IFERROR(INDEX(IF(F33="Main",Items!$D$2:$D$19,Items!$E$2:$E$19),MATCH(D33,Items!$A$2:$A$19,0)),0)+SUMIFS($G$2:G33,$D$2:D33,D33,$F$2:F33,F33)-SUMIFS($H$2:H33,$D$2:D33,D33,$F$2:F33,F33) -> 253 | K33: =A33-WEEKDAY(A33,3) -> 46307 | L33: =IF(C33="","MISSING DOC NO",IF(ISNA(MATCH(D33,Items!$A$2:$A$19,0)),"UNKNOWN SKU",IF(COUNTIFS($C$2:$C$400,C33,$D$2:$D$400,D33,$F$2:$F$400,F33,$G$2:$G$400,G33,$H$2:$H$400,H33)>1,"DUPLICATE ENTRY",IF(J33<0,"NEGATIVE BALANCE",IF(AND(B33="TRF",COUNTIFS($C$2:$C$400,C33,$D$2:$D$400,D33)<2),"TRANSFER UNMATCHED",IF(AND(MAX(G33,H33)>=100,IFERROR(IF(G33>0,G33>5*(SUMIFS($G$2:$G$400,$D$2:$D$400,D33)-G33)/(COUNTIFS($D$2:$D$400,D33,$G$2:$G$400,">0")-1),H33>5*(SUMIFS($H$2:$H$400,$D$2:$D$400,D33)-H33)/(COUNTIFS($D$2:$D$400,D33,$H$2:$H$400,">0")-1)),FALSE)),"UNUSUAL QTY","OK")))))) -> OK | N33: =IF(AND(L33<>"OK",K33=Weekly_Report!$C$4),COUNTIFS($L$2:L33,"<>OK",$K$2:K33,Weekly_Report!$C$4),"")
A34: 46311 | B34: DN | C34: DN-8814 | D34: PL-2002 | E34: =IFERROR(INDEX(Items!$B$2:$B$19,MATCH(D34,Items!$A$2:$A$19,0)),"? not on Items") -> Wooden pallet 1200x800 | F34: Annex | G34: 0 | H34: 22 | I34: Manaz | J34: =IFERROR(INDEX(IF(F34="Main",Items!$D$2:$D$19,Items!$E$2:$E$19),MATCH(D34,Items!$A$2:$A$19,0)),0)+SUMIFS($G$2:G34,$D$2:D34,D34,$F$2:F34,F34)-SUMIFS($H$2:H34,$D$2:D34,D34,$F$2:F34,F34) -> 5 | K34: =A34-WEEKDAY(A34,3) -> 46307 | L34: =IF(C34="","MISSING DOC NO",IF(ISNA(MATCH(D34,Items!$A$2:$A$19,0)),"UNKNOWN SKU",IF(COUNTIFS($C$2:$C$400,C34,$D$2:$D$400,D34,$F$2:$F$400,F34,$G$2:$G$400,G34,$H$2:$H$400,H34)>1,"DUPLICATE ENTRY",IF(J34<0,"NEGATIVE BALANCE",IF(AND(B34="TRF",COUNTIFS($C$2:$C$400,C34,$D$2:$D$400,D34)<2),"TRANSFER UNMATCHED",IF(AND(MAX(G34,H34)>=100,IFERROR(IF(G34>0,G34>5*(SUMIFS($G$2:$G$400,$D$2:$D$400,D34)-G34)/(COUNTIFS($D$2:$D$400,D34,$G$2:$G$400,">0")-1),H34>5*(SUMIFS($H$2:$H$400,$D$2:$D$400,D34)-H34)/(COUNTIFS($D$2:$D$400,D34,$H$2:$H$400,">0")-1)),FALSE)),"UNUSUAL QTY","OK")))))) -> OK | N34: =IF(AND(L34<>"OK",K34=Weekly_Report!$C$4),COUNTIFS($L$2:L34,"<>OK",$K$2:K34,Weekly_Report!$C$4),"")
A35: 46311 | B35: DN | C35: DN-8815 | D35: HW-6003 | E35: =IFERROR(INDEX(Items!$B$2:$B$19,MATCH(D35,Items!$A$2:$A$19,0)),"? not on Items") -> Strapping seals (1000) | F35: Main | G35: 0 | H35: 10 | I35: Manaz | J35: =IFERROR(INDEX(IF(F35="Main",Items!$D$2:$D$19,Items!$E$2:$E$19),MATCH(D35,Items!$A$2:$A$19,0)),0)+SUMIFS($G$2:G35,$D$2:D35,D35,$F$2:F35,F35)-SUMIFS($H$2:H35,$D$2:D35,D35,$F$2:F35,F35) -> 117 | K35: =A35-WEEKDAY(A35,3) -> 46307 | L35: =IF(C35="","MISSING DOC NO",IF(ISNA(MATCH(D35,Items!$A$2:$A$19,0)),"UNKNOWN SKU",IF(COUNTIFS($C$2:$C$400,C35,$D$2:$D$400,D35,$F$2:$F$400,F35,$G$2:$G$400,G35,$H$2:$H$400,H35)>1,"DUPLICATE ENTRY",IF(J35<0,"NEGATIVE BALANCE",IF(AND(B35="TRF",COUNTIFS($C$2:$C$400,C35,$D$2:$D$400,D35)<2),"TRANSFER UNMATCHED",IF(AND(MAX(G35,H35)>=100,IFERROR(IF(G35>0,G35>5*(SUMIFS($G$2:$G$400,$D$2:$D$400,D35)-G35)/(COUNTIFS($D$2:$D$400,D35,$G$2:$G$400,">0")-1),H35>5*(SUMIFS($H$2:$H$400,$D$2:$D$400,D35)-H35)/(COUNTIFS($D$2:$D$400,D35,$H$2:$H$400,">0")-1)),FALSE)),"UNUSUAL QTY","OK")))))) -> OK | N35: =IF(AND(L35<>"OK",K35=Weekly_Report!$C$4),COUNTIFS($L$2:L35,"<>OK",$K$2:K35,Weekly_Report!$C$4),"")
A36: 46312 | B36: GRN | C36: GRN-5108 | D36: PK-1001 | E36: =IFERROR(INDEX(Items!$B$2:$B$19,MATCH(D36,Items!$A$2:$A$19,0)),"? not on Items") -> Carton box 600x400x400 | F36: Main | G36: 48 | H36: 0 | I36: Priya | J36: =IFERROR(INDEX(IF(F36="Main",Items!$D$2:$D$19,Items!$E$2:$E$19),MATCH(D36,Items!$A$2:$A$19,0)),0)+SUMIFS($G$2:G36,$D$2:D36,D36,$F$2:F36,F36)-SUMIFS($H$2:H36,$D$2:D36,D36,$F$2:F36,F36) -> 311 | K36: =A36-WEEKDAY(A36,3) -> 46307 | L36: =IF(C36="","MISSING DOC NO",IF(ISNA(MATCH(D36,Items!$A$2:$A$19,0)),"UNKNOWN SKU",IF(COUNTIFS($C$2:$C$400,C36,$D$2:$D$400,D36,$F$2:$F$400,F36,$G$2:$G$400,G36,$H$2:$H$400,H36)>1,"DUPLICATE ENTRY",IF(J36<0,"NEGATIVE BALANCE",IF(AND(B36="TRF",COUNTIFS($C$2:$C$400,C36,$D$2:$D$400,D36)<2),"TRANSFER UNMATCHED",IF(AND(MAX(G36,H36)>=100,IFERROR(IF(G36>0,G36>5*(SUMIFS($G$2:$G$400,$D$2:$D$400,D36)-G36)/(COUNTIFS($D$2:$D$400,D36,$G$2:$G$400,">0")-1),H36>5*(SUMIFS($H$2:$H$400,$D$2:$D$400,D36)-H36)/(COUNTIFS($D$2:$D$400,D36,$H$2:$H$400,">0")-1)),FALSE)),"UNUSUAL QTY","OK")))))) -> OK | N36: =IF(AND(L36<>"OK",K36=Weekly_Report!$C$4),COUNTIFS($L$2:L36,"<>OK",$K$2:K36,Weekly_Report!$C$4),"")
A37: 46312 | B37: DN | C37: DN-8816 | D37: SF-3002 | E37: =IFERROR(INDEX(Items!$B$2:$B$19,MATCH(D37,Items!$A$2:$A$19,0)),"? not on Items") -> Hi-vis vest | F37: Main | G37: 0 | H37: 37 | I37: Priya | J37: =IFERROR(INDEX(IF(F37="Main",Items!$D$2:$D$19,Items!$E$2:$E$19),MATCH(D37,Items!$A$2:$A$19,0)),0)+SUMIFS($G$2:G37,$D$2:D37,D37,$F$2:F37,F37)-SUMIFS($H$2:H37,$D$2:D37,D37,$F$2:F37,F37) -> 245 | K37: =A37-WEEKDAY(A37,3) -> 46307 | L37: =IF(C37="","MISSING DOC NO",IF(ISNA(MATCH(D37,Items!$A$2:$A$19,0)),"UNKNOWN SKU",IF(COUNTIFS($C$2:$C$400,C37,$D$2:$D$400,D37,$F$2:$F$400,F37,$G$2:$G$400,G37,$H$2:$H$400,H37)>1,"DUPLICATE ENTRY",IF(J37<0,"NEGATIVE BALANCE",IF(AND(B37="TRF",COUNTIFS($C$2:$C$400,C37,$D$2:$D$400,D37)<2),"TRANSFER UNMATCHED",IF(AND(MAX(G37,H37)>=100,IFERROR(IF(G37>0,G37>5*(SUMIFS($G$2:$G$400,$D$2:$D$400,D37)-G37)/(COUNTIFS($D$2:$D$400,D37,$G$2:$G$400,">0")-1),H37>5*(SUMIFS($H$2:$H$400,$D$2:$D$400,D37)-H37)/(COUNTIFS($D$2:$D$400,D37,$H$2:$H$400,">0")-1)),FALSE)),"UNUSUAL QTY","OK")))))) -> OK | N37: =IF(AND(L37<>"OK",K37=Weekly_Report!$C$4),COUNTIFS($L$2:L37,"<>OK",$K$2:K37,Weekly_Report!$C$4),"")
A38: 46312 | B38: DN | C38: DN-8817 | D38: PK-1005 | E38: =IFERROR(INDEX(Items!$B$2:$B$19,MATCH(D38,Items!$A$2:$A$19,0)),"? not on Items") -> Bubble wrap 1m x 50m | F38: Annex | G38: 0 | H38: 9 | I38: Manaz | J38: =IFERROR(INDEX(IF(F38="Main",Items!$D$2:$D$19,Items!$E$2:$E$19),MATCH(D38,Items!$A$2:$A$19,0)),0)+SUMIFS($G$2:G38,$D$2:D38,D38,$F$2:F38,F38)-SUMIFS($H$2:H38,$D$2:D38,D38,$F$2:F38,F38) -> 75 | K38: =A38-WEEKDAY(A38,3) -> 46307 | L38: =IF(C38="","MISSING DOC NO",IF(ISNA(MATCH(D38,Items!$A$2:$A$19,0)),"UNKNOWN SKU",IF(COUNTIFS($C$2:$C$400,C38,$D$2:$D$400,D38,$F$2:$F$400,F38,$G$2:$G$400,G38,$H$2:$H$400,H38)>1,"DUPLICATE ENTRY",IF(J38<0,"NEGATIVE BALANCE",IF(AND(B38="TRF",COUNTIFS($C$2:$C$400,C38,$D$2:$D$400,D38)<2),"TRANSFER UNMATCHED",IF(AND(MAX(G38,H38)>=100,IFERROR(IF(G38>0,G38>5*(SUMIFS($G$2:$G$400,$D$2:$D$400,D38)-G38)/(COUNTIFS($D$2:$D$400,D38,$G$2:$G$400,">0")-1),H38>5*(SUMIFS($H$2:$H$400,$D$2:$D$400,D38)-H38)/(COUNTIFS($D$2:$D$400,D38,$H$2:$H$400,">0")-1)),FALSE)),"UNUSUAL QTY","OK")))))) -> OK | N38: =IF(AND(L38<>"OK",K38=Weekly_Report!$C$4),COUNTIFS($L$2:L38,"<>OK",$K$2:K38,Weekly_Report!$C$4),"")
A39: 46312 | B39: DN | C39: DN-8818 | D39: SF-3002 | E39: =IFERROR(INDEX(Items!$B$2:$B$19,MATCH(D39,Items!$A$2:$A$19,0)),"? not on Items") -> Hi-vis vest | F39: Annex | G39: 0 | H39: 18 | I39: Manaz | J39: =IFERROR(INDEX(IF(F39="Main",Items!$D$2:$D$19,Items!$E$2:$E$19),MATCH(D39,Items!$A$2:$A$19,0)),0)+SUMIFS($G$2:G39,$D$2:D39,D39,$F$2:F39,F39)-SUMIFS($H$2:H39,$D$2:D39,D39,$F$2:F39,F39) -> 35 | K39: =A39-WEEKDAY(A39,3) -> 46307 | L39: =IF(C39="","MISSING DOC NO",IF(ISNA(MATCH(D39,Items!$A$2:$A$19,0)),"UNKNOWN SKU",IF(COUNTIFS($C$2:$C$400,C39,$D$2:$D$400,D39,$F$2:$F$400,F39,$G$2:$G$400,G39,$H$2:$H$400,H39)>1,"DUPLICATE ENTRY",IF(J39<0,"NEGATIVE BALANCE",IF(AND(B39="TRF",COUNTIFS($C$2:$C$400,C39,$D$2:$D$400,D39)<2),"TRANSFER UNMATCHED",IF(AND(MAX(G39,H39)>=100,IFERROR(IF(G39>0,G39>5*(SUMIFS($G$2:$G$400,$D$2:$D$400,D39)-G39)/(COUNTIFS($D$2:$D$400,D39,$G$2:$G$400,">0")-1),H39>5*(SUMIFS($H$2:$H$400,$D$2:$D$400,D39)-H39)/(COUNTIFS($D$2:$D$400,D39,$H$2:$H$400,">0")-1)),FALSE)),"UNUSUAL QTY","OK")))))) -> OK | N39: =IF(AND(L39<>"OK",K39=Weekly_Report!$C$4),COUNTIFS($L$2:L39,"<>OK",$K$2:K39,Weekly_Report!$C$4),"")
A40: 46312 | B40: DN | C40: DN-8819 | D40: ST-7002 | E40: =IFERROR(INDEX(Items!$B$2:$B$19,MATCH(D40,Items!$A$2:$A$19,0)),"? not on Items") -> Shelf bin large | F40: Annex | G40: 0 | H40: 18 | I40: Priya | J40: =IFERROR(INDEX(IF(F40="Main",Items!$D$2:$D$19,Items!$E$2:$E$19),MATCH(D40,Items!$A$2:$A$19,0)),0)+SUMIFS($G$2:G40,$D$2:D40,D40,$F$2:F40,F40)-SUMIFS($H$2:H40,$D$2:D40,D40,$F$2:F40,F40) -> 10 | K40: =A40-WEEKDAY(A40,3) -> 46307 | L40: =IF(C40="","MISSING DOC NO",IF(ISNA(MATCH(D40,Items!$A$2:$A$19,0)),"UNKNOWN SKU",IF(COUNTIFS($C$2:$C$400,C40,$D$2:$D$400,D40,$F$2:$F$400,F40,$G$2:$G$400,G40,$H$2:$H$400,H40)>1,"DUPLICATE ENTRY",IF(J40<0,"NEGATIVE BALANCE",IF(AND(B40="TRF",COUNTIFS($C$2:$C$400,C40,$D$2:$D$400,D40)<2),"TRANSFER UNMATCHED",IF(AND(MAX(G40,H40)>=100,IFERROR(IF(G40>0,G40>5*(SUMIFS($G$2:$G$400,$D$2:$D$400,D40)-G40)/(COUNTIFS($D$2:$D$400,D40,$G$2:$G$400,">0")-1),H40>5*(SUMIFS($H$2:$H$400,$D$2:$D$400,D40)-H40)/(COUNTIFS($D$2:$D$400,D40,$H$2:$H$400,">0")-1)),FALSE)),"UNUSUAL QTY","OK")))))) -> OK | N40: =IF(AND(L40<>"OK",K40=Weekly_Report!$C$4),COUNTIFS($L$2:L40,"<>OK",$K$2:K40,Weekly_Report!$C$4),"")
A41: 46312 | B41: DN | C41: DN-8820 | D41: PL-2002 | E41: =IFERROR(INDEX(Items!$B$2:$B$19,MATCH(D41,Items!$A$2:$A$19,0)),"? not on Items") -> Wooden pallet 1200x800 | F41: Main | G41: 0 | H41: 16 | I41: Ravi | J41: =IFERROR(INDEX(IF(F41="Main",Items!$D$2:$D$19,Items!$E$2:$E$19),MATCH(D41,Items!$A$2:$A$19,0)),0)+SUMIFS($G$2:G41,$D$2:D41,D41,$F$2:F41,F41)-SUMIFS($H$2:H41,$D$2:D41,D41,$F$2:F41,F41) -> 303 | K41: =A41-WEEKDAY(A41,3) -> 46307 | L41: =IF(C41="","MISSING DOC NO",IF(ISNA(MATCH(D41,Items!$A$2:$A$19,0)),"UNKNOWN SKU",IF(COUNTIFS($C$2:$C$400,C41,$D$2:$D$400,D41,$F$2:$F$400,F41,$G$2:$G$400,G41,$H$2:$H$400,H41)>1,"DUPLICATE ENTRY",IF(J41<0,"NEGATIVE BALANCE",IF(AND(B41="TRF",COUNTIFS($C$2:$C$400,C41,$D$2:$D$400,D41)<2),"TRANSFER UNMATCHED",IF(AND(MAX(G41,H41)>=100,IFERROR(IF(G41>0,G41>5*(SUMIFS($G$2:$G$400,$D$2:$D$400,D41)-G41)/(COUNTIFS($D$2:$D$400,D41,$G$2:$G$400,">0")-1),H41>5*(SUMIFS($H$2:$H$400,$D$2:$D$400,D41)-H41)/(COUNTIFS($D$2:$D$400,D41,$H$2:$H$400,">0")-1)),FALSE)),"UNUSUAL QTY","OK")))))) -> OK | N41: =IF(AND(L41<>"OK",K41=Weekly_Report!$C$4),COUNTIFS($L$2:L41,"<>OK",$K$2:K41,Weekly_Report!$C$4),"")
A42: 46312 | B42: DN | C42: DN-8821 | D42: ST-7001 | E42: =IFERROR(INDEX(Items!$B$2:$B$19,MATCH(D42,Items!$A$2:$A$19,0)),"? not on Items") -> Shelf bin small | F42: Main | G42: 0 | H42: 5 | I42: Priya | J42: =IFERROR(INDEX(IF(F42="Main",Items!$D$2:$D$19,Items!$E$2:$E$19),MATCH(D42,Items!$A$2:$A$19,0)),0)+SUMIFS($G$2:G42,$D$2:D42,D42,$F$2:F42,F42)-SUMIFS($H$2:H42,$D$2:D42,D42,$F$2:F42,F42) -> 354 | K42: =A42-WEEKDAY(A42,3) -> 46307 | L42: =IF(C42="","MISSING DOC NO",IF(ISNA(MATCH(D42,Items!$A$2:$A$19,0)),"UNKNOWN SKU",IF(COUNTIFS($C$2:$C$400,C42,$D$2:$D$400,D42,$F$2:$F$400,F42,$G$2:$G$400,G42,$H$2:$H$400,H42)>1,"DUPLICATE ENTRY",IF(J42<0,"NEGATIVE BALANCE",IF(AND(B42="TRF",COUNTIFS($C$2:$C$400,C42,$D$2:$D$400,D42)<2),"TRANSFER UNMATCHED",IF(AND(MAX(G42,H42)>=100,IFERROR(IF(G42>0,G42>5*(SUMIFS($G$2:$G$400,$D$2:$D$400,D42)-G42)/(COUNTIFS($D$2:$D$400,D42,$G$2:$G$400,">0")-1),H42>5*(SUMIFS($H$2:$H$400,$D$2:$D$400,D42)-H42)/(COUNTIFS($D$2:$D$400,D42,$H$2:$H$400,">0")-1)),FALSE)),"UNUSUAL QTY","OK")))))) -> OK | N42: =IF(AND(L42<>"OK",K42=Weekly_Report!$C$4),COUNTIFS($L$2:L42,"<>OK",$K$2:K42,Weekly_Report!$C$4),"")
A43: 46314 | B43: GRN | C43: GRN-5109 | D43: HW-6003 | E43: =IFERROR(INDEX(Items!$B$2:$B$19,MATCH(D43,Items!$A$2:$A$19,0)),"? not on Items") -> Strapping seals (1000) | F43: Main | G43: 100 | H43: 0 | I43: Priya | J43: =IFERROR(INDEX(IF(F43="Main",Items!$D$2:$D$19,Items!$E$2:$E$19),MATCH(D43,Items!$A$2:$A$19,0)),0)+SUMIFS($G$2:G43,$D$2:D43,D43,$F$2:F43,F43)-SUMIFS($H$2:H43,$D$2:D43,D43,$F$2:F43,F43) -> 217 | K43: =A43-WEEKDAY(A43,3) -> 46314 | L43: =IF(C43="","MISSING DOC NO",IF(ISNA(MATCH(D43,Items!$A$2:$A$19,0)),"UNKNOWN SKU",IF(COUNTIFS($C$2:$C$400,C43,$D$2:$D$400,D43,$F$2:$F$400,F43,$G$2:$G$400,G43,$H$2:$H$400,H43)>1,"DUPLICATE ENTRY",IF(J43<0,"NEGATIVE BALANCE",IF(AND(B43="TRF",COUNTIFS($C$2:$C$400,C43,$D$2:$D$400,D43)<2),"TRANSFER UNMATCHED",IF(AND(MAX(G43,H43)>=100,IFERROR(IF(G43>0,G43>5*(SUMIFS($G$2:$G$400,$D$2:$D$400,D43)-G43)/(COUNTIFS($D$2:$D$400,D43,$G$2:$G$400,">0")-1),H43>5*(SUMIFS($H$2:$H$400,$D$2:$D$400,D43)-H43)/(COUNTIFS($D$2:$D$400,D43,$H$2:$H$400,">0")-1)),FALSE)),"UNUSUAL QTY","OK")))))) -> OK | N43: =IF(AND(L43<>"OK",K43=Weekly_Report!$C$4),COUNTIFS($L$2:L43,"<>OK",$K$2:K43,Weekly_Report!$C$4),"")
... A63: 46316 | B63: DN | C63: DN-8834 | D63: PK-1004 | E63: =IFERROR(INDEX(Items!$B$2:$B$19,MATCH(D63,Items!$A$2:$A$19,0)),"? not on Items") -> Packing tape 48mm | F63: Main | G63: 0 | H63: 8 | I63: Priya | J63: =IFERROR(INDEX(IF(F63="Main",Items!$D$2:$D$19,Items!$E$2:$E$19),MATCH(D63,Items!$A$2:$A$19,0)),0)+SUMIFS($G$2:G63,$D$2:D63,D63,$F$2:F63,F63)-SUMIFS($H$2:H63,$D$2:D63,D63,$F$2:F63,F63) -> 322 | K63: =A63-WEEKDAY(A63,3) -> 46314 | L63: =IF(C63="","MISSING DOC NO",IF(ISNA(MATCH(D63,Items!$A$2:$A$19,0)),"UNKNOWN SKU",IF(COUNTIFS($C$2:$C$400,C63,$D$2:$D$400,D63,$F$2:$F$400,F63,$G$2:$G$400,G63,$H$2:$H$400,H63)>1,"DUPLICATE ENTRY",IF(J63<0,"NEGATIVE BALANCE",IF(AND(B63="TRF",COUNTIFS($C$2:$C$400,C63,$D$2:$D$400,D63)<2),"TRANSFER UNMATCHED",IF(AND(MAX(G63,H63)>=100,IFERROR(IF(G63>0,G63>5*(SUMIFS($G$2:$G$400,$D$2:$D$400,D63)-G63)/(COUNTIFS($D$2:$D$400,D63,$G$2:$G$400,">0")-1),H63>5*(SUMIFS($H$2:$H$400,$D$2:$D$400,D63)-H63)/(COUNTIFS($D$2:$D$400,D63,$H$2:$H$400,">0")-1)),FALSE)),"UNUSUAL QTY","OK")))))) -> OK | N63: =IF(AND(L63<>"OK",K63=Weekly_Report!$C$4),COUNTIFS($L$2:L63,"<>OK",$K$2:K63,Weekly_Report!$C$4),"")
A64: 46316 | B64: DN | C64: DN-8829 | D64: ST-7001 | E64: =IFERROR(INDEX(Items!$B$2:$B$19,MATCH(D64,Items!$A$2:$A$19,0)),"? not on Items") -> Shelf bin small | F64: Main | G64: 0 | H64: 38 | I64: Priya | J64: =IFERROR(INDEX(IF(F64="Main",Items!$D$2:$D$19,Items!$E$2:$E$19),MATCH(D64,Items!$A$2:$A$19,0)),0)+SUMIFS($G$2:G64,$D$2:D64,D64,$F$2:F64,F64)-SUMIFS($H$2:H64,$D$2:D64,D64,$F$2:F64,F64) -> 287 | K64: =A64-WEEKDAY(A64,3) -> 46314 | L64: =IF(C64="","MISSING DOC NO",IF(ISNA(MATCH(D64,Items!$A$2:$A$19,0)),"UNKNOWN SKU",IF(COUNTIFS($C$2:$C$400,C64,$D$2:$D$400,D64,$F$2:$F$400,F64,$G$2:$G$400,G64,$H$2:$H$400,H64)>1,"DUPLICATE ENTRY",IF(J64<0,"NEGATIVE BALANCE",IF(AND(B64="TRF",COUNTIFS($C$2:$C$400,C64,$D$2:$D$400,D64)<2),"TRANSFER UNMATCHED",IF(AND(MAX(G64,H64)>=100,IFERROR(IF(G64>0,G64>5*(SUMIFS($G$2:$G$400,$D$2:$D$400,D64)-G64)/(COUNTIFS($D$2:$D$400,D64,$G$2:$G$400,">0")-1),H64>5*(SUMIFS($H$2:$H$400,$D$2:$D$400,D64)-H64)/(COUNTIFS($D$2:$D$400,D64,$H$2:$H$400,">0")-1)),FALSE)),"UNUSUAL QTY","OK")))))) -> DUPLICATE ENTRY | M64: Re-keyed from scan | N64: =IF(AND(L64<>"OK",K64=Weekly_Report!$C$4),COUNTIFS($L$2:L64,"<>OK",$K$2:K64,Weekly_Report!$C$4),"") -> 2
A65: 46317 | B65: DN | C65: DN-8835 | D65: SF-3002 | E65: =IFERROR(INDEX(Items!$B$2:$B$19,MATCH(D65,Items!$A$2:$A$19,0)),"? not on Items") -> Hi-vis vest | F65: Annex | G65: 0 | H65: 30 | I65: Priya | J65: =IFERROR(INDEX(IF(F65="Main",Items!$D$2:$D$19,Items!$E$2:$E$19),MATCH(D65,Items!$A$2:$A$19,0)),0)+SUMIFS($G$2:G65,$D$2:D65,D65,$F$2:F65,F65)-SUMIFS($H$2:H65,$D$2:D65,D65,$F$2:F65,F65) -> 5 | K65: =A65-WEEKDAY(A65,3) -> 46314 | L65: =IF(C65="","MISSING DOC NO",IF(ISNA(MATCH(D65,Items!$A$2:$A$19,0)),"UNKNOWN SKU",IF(COUNTIFS($C$2:$C$400,C65,$D$2:$D$400,D65,$F$2:$F$400,F65,$G$2:$G$400,G65,$H$2:$H$400,H65)>1,"DUPLICATE ENTRY",IF(J65<0,"NEGATIVE BALANCE",IF(AND(B65="TRF",COUNTIFS($C$2:$C$400,C65,$D$2:$D$400,D65)<2),"TRANSFER UNMATCHED",IF(AND(MAX(G65,H65)>=100,IFERROR(IF(G65>0,G65>5*(SUMIFS($G$2:$G$400,$D$2:$D$400,D65)-G65)/(COUNTIFS($D$2:$D$400,D65,$G$2:$G$400,">0")-1),H65>5*(SUMIFS($H$2:$H$400,$D$2:$D$400,D65)-H65)/(COUNTIFS($D$2:$D$400,D65,$H$2:$H$400,">0")-1)),FALSE)),"UNUSUAL QTY","OK")))))) -> OK | N65: =IF(AND(L65<>"OK",K65=Weekly_Report!$C$4),COUNTIFS($L$2:L65,"<>OK",$K$2:K65,Weekly_Report!$C$4),"")
A66: 46317 | B66: DN | C66: DN-8836 | D66: SF-3001 | E66: =IFERROR(INDEX(Items!$B$2:$B$19,MATCH(D66,Items!$A$2:$A$19,0)),"? not on Items") -> Safety gloves (pair) | F66: Main | G66: 0 | H66: 32 | I66: Ravi | J66: =IFERROR(INDEX(IF(F66="Main",Items!$D$2:$D$19,Items!$E$2:$E$19),MATCH(D66,Items!$A$2:$A$19,0)),0)+SUMIFS($G$2:G66,$D$2:D66,D66,$F$2:F66,F66)-SUMIFS($H$2:H66,$D$2:D66,D66,$F$2:F66,F66) -> 24 | K66: =A66-WEEKDAY(A66,3) -> 46314 | L66: =IF(C66="","MISSING DOC NO",IF(ISNA(MATCH(D66,Items!$A$2:$A$19,0)),"UNKNOWN SKU",IF(COUNTIFS($C$2:$C$400,C66,$D$2:$D$400,D66,$F$2:$F$400,F66,$G$2:$G$400,G66,$H$2:$H$400,H66)>1,"DUPLICATE ENTRY",IF(J66<0,"NEGATIVE BALANCE",IF(AND(B66="TRF",COUNTIFS($C$2:$C$400,C66,$D$2:$D$400,D66)<2),"TRANSFER UNMATCHED",IF(AND(MAX(G66,H66)>=100,IFERROR(IF(G66>0,G66>5*(SUMIFS($G$2:$G$400,$D$2:$D$400,D66)-G66)/(COUNTIFS($D$2:$D$400,D66,$G$2:$G$400,">0")-1),H66>5*(SUMIFS($H$2:$H$400,$D$2:$D$400,D66)-H66)/(COUNTIFS($D$2:$D$400,D66,$H$2:$H$400,">0")-1)),FALSE)),"UNUSUAL QTY","OK")))))) -> OK | N66: =IF(AND(L66<>"OK",K66=Weekly_Report!$C$4),COUNTIFS($L$2:L66,"<>OK",$K$2:K66,Weekly_Report!$C$4),"")
A67: 46317 | B67: DN | C67: DN-8837 | D67: PK-1005 | E67: =IFERROR(INDEX(Items!$B$2:$B$19,MATCH(D67,Items!$A$2:$A$19,0)),"? not on Items") -> Bubble wrap 1m x 50m | F67: Annex | G67: 0 | H67: 24 | I67: Ravi | J67: =IFERROR(INDEX(IF(F67="Main",Items!$D$2:$D$19,Items!$E$2:$E$19),MATCH(D67,Items!$A$2:$A$19,0)),0)+SUMIFS($G$2:G67,$D$2:D67,D67,$F$2:F67,F67)-SUMIFS($H$2:H67,$D$2:D67,D67,$F$2:F67,F67) -> 36 | K67: =A67-WEEKDAY(A67,3) -> 46314 | L67: =IF(C67="","MISSING DOC NO",IF(ISNA(MATCH(D67,Items!$A$2:$A$19,0)),"UNKNOWN SKU",IF(COUNTIFS($C$2:$C$400,C67,$D$2:$D$400,D67,$F$2:$F$400,F67,$G$2:$G$400,G67,$H$2:$H$400,H67)>1,"DUPLICATE ENTRY",IF(J67<0,"NEGATIVE BALANCE",IF(AND(B67="TRF",COUNTIFS($C$2:$C$400,C67,$D$2:$D$400,D67)<2),"TRANSFER UNMATCHED",IF(AND(MAX(G67,H67)>=100,IFERROR(IF(G67>0,G67>5*(SUMIFS($G$2:$G$400,$D$2:$D$400,D67)-G67)/(COUNTIFS($D$2:$D$400,D67,$G$2:$G$400,">0")-1),H67>5*(SUMIFS($H$2:$H$400,$D$2:$D$400,D67)-H67)/(COUNTIFS($D$2:$D$400,D67,$H$2:$H$400,">0")-1)),FALSE)),"UNUSUAL QTY","OK")))))) -> OK | N67: =IF(AND(L67<>"OK",K67=Weekly_Report!$C$4),COUNTIFS($L$2:L67,"<>OK",$K$2:K67,Weekly_Report!$C$4),"")
A68: 46317 | B68: DN | C68: DN-8838 | D68: PK-1003 | E68: =IFERROR(INDEX(Items!$B$2:$B$19,MATCH(D68,Items!$A$2:$A$19,0)),"? not on Items") -> Stretch film 500mm | F68: Main | G68: 0 | H68: 17 | I68: Ravi | J68: =IFERROR(INDEX(IF(F68="Main",Items!$D$2:$D$19,Items!$E$2:$E$19),MATCH(D68,Items!$A$2:$A$19,0)),0)+SUMIFS($G$2:G68,$D$2:D68,D68,$F$2:F68,F68)-SUMIFS($H$2:H68,$D$2:D68,D68,$F$2:F68,F68) -> 166 | K68: =A68-WEEKDAY(A68,3) -> 46314 | L68: =IF(C68="","MISSING DOC NO",IF(ISNA(MATCH(D68,Items!$A$2:$A$19,0)),"UNKNOWN SKU",IF(COUNTIFS($C$2:$C$400,C68,$D$2:$D$400,D68,$F$2:$F$400,F68,$G$2:$G$400,G68,$H$2:$H$400,H68)>1,"DUPLICATE ENTRY",IF(J68<0,"NEGATIVE BALANCE",IF(AND(B68="TRF",COUNTIFS($C$2:$C$400,C68,$D$2:$D$400,D68)<2),"TRANSFER UNMATCHED",IF(AND(MAX(G68,H68)>=100,IFERROR(IF(G68>0,G68>5*(SUMIFS($G$2:$G$400,$D$2:$D$400,D68)-G68)/(COUNTIFS($D$2:$D$400,D68,$G$2:$G$400,">0")-1),H68>5*(SUMIFS($H$2:$H$400,$D$2:$D$400,D68)-H68)/(COUNTIFS($D$2:$D$400,D68,$H$2:$H$400,">0")-1)),FALSE)),"UNUSUAL QTY","OK")))))) -> OK | N68: =IF(AND(L68<>"OK",K68=Weekly_Report!$C$4),COUNTIFS($L$2:L68,"<>OK",$K$2:K68,Weekly_Report!$C$4),"")
A69: 46317 | B69: DN | C69: DN-8839 | D69: LB-4001 | E69: =IFERROR(INDEX(Items!$B$2:$B$19,MATCH(D69,Items!$A$2:$A$19,0)),"? not on Items") -> Thermal label 100x150 | F69: Annex | G69: 0 | H69: 3 | I69: Manaz | J69: =IFERROR(INDEX(IF(F69="Main",Items!$D$2:$D$19,Items!$E$2:$E$19),MATCH(D69,Items!$A$2:$A$19,0)),0)+SUMIFS($G$2:G69,$D$2:D69,D69,$F$2:F69,F69)-SUMIFS($H$2:H69,$D$2:D69,D69,$F$2:F69,F69) -> 5 | K69: =A69-WEEKDAY(A69,3) -> 46314 | L69: =IF(C69="","MISSING DOC NO",IF(ISNA(MATCH(D69,Items!$A$2:$A$19,0)),"UNKNOWN SKU",IF(COUNTIFS($C$2:$C$400,C69,$D$2:$D$400,D69,$F$2:$F$400,F69,$G$2:$G$400,G69,$H$2:$H$400,H69)>1,"DUPLICATE ENTRY",IF(J69<0,"NEGATIVE BALANCE",IF(AND(B69="TRF",COUNTIFS($C$2:$C$400,C69,$D$2:$D$400,D69)<2),"TRANSFER UNMATCHED",IF(AND(MAX(G69,H69)>=100,IFERROR(IF(G69>0,G69>5*(SUMIFS($G$2:$G$400,$D$2:$D$400,D69)-G69)/(COUNTIFS($D$2:$D$400,D69,$G$2:$G$400,">0")-1),H69>5*(SUMIFS($H$2:$H$400,$D$2:$D$400,D69)-H69)/(COUNTIFS($D$2:$D$400,D69,$H$2:$H$400,">0")-1)),FALSE)),"UNUSUAL QTY","OK")))))) -> OK | N69: =IF(AND(L69<>"OK",K69=Weekly_Report!$C$4),COUNTIFS($L$2:L69,"<>OK",$K$2:K69,Weekly_Report!$C$4),"")
A70: 46317 | B70: TRF | C70: TRF-307 | D70: SF-3002 | E70: =IFERROR(INDEX(Items!$B$2:$B$19,MATCH(D70,Items!$A$2:$A$19,0)),"? not on Items") -> Hi-vis vest | F70: Main | G70: 0 | H70: 10 | I70: Ravi | J70: =IFERROR(INDEX(IF(F70="Main",Items!$D$2:$D$19,Items!$E$2:$E$19),MATCH(D70,Items!$A$2:$A$19,0)),0)+SUMIFS($G$2:G70,$D$2:D70,D70,$F$2:F70,F70)-SUMIFS($H$2:H70,$D$2:D70,D70,$F$2:F70,F70) -> 209 | K70: =A70-WEEKDAY(A70,3) -> 46314 | L70: =IF(C70="","MISSING DOC NO",IF(ISNA(MATCH(D70,Items!$A$2:$A$19,0)),"UNKNOWN SKU",IF(COUNTIFS($C$2:$C$400,C70,$D$2:$D$400,D70,$F$2:$F$400,F70,$G$2:$G$400,G70,$H$2:$H$400,H70)>1,"DUPLICATE ENTRY",IF(J70<0,"NEGATIVE BALANCE",IF(AND(B70="TRF",COUNTIFS($C$2:$C$400,C70,$D$2:$D$400,D70)<2),"TRANSFER UNMATCHED",IF(AND(MAX(G70,H70)>=100,IFERROR(IF(G70>0,G70>5*(SUMIFS($G$2:$G$400,$D$2:$D$400,D70)-G70)/(COUNTIFS($D$2:$D$400,D70,$G$2:$G$400,">0")-1),H70>5*(SUMIFS($H$2:$H$400,$D$2:$D$400,D70)-H70)/(COUNTIFS($D$2:$D$400,D70,$H$2:$H$400,">0")-1)),FALSE)),"UNUSUAL QTY","OK")))))) -> OK | M70: To Annex | N70: =IF(AND(L70<>"OK",K70=Weekly_Report!$C$4),COUNTIFS($L$2:L70,"<>OK",$K$2:K70,Weekly_Report!$C$4),"")
A71: 46317 | B71: TRF | C71: TRF-307 | D71: SF-3002 | E71: =IFERROR(INDEX(Items!$B$2:$B$19,MATCH(D71,Items!$A$2:$A$19,0)),"? not on Items") -> Hi-vis vest | F71: Annex | G71: 10 | H71: 0 | I71: Ravi | J71: =IFERROR(INDEX(IF(F71="Main",Items!$D$2:$D$19,Items!$E$2:$E$19),MATCH(D71,Items!$A$2:$A$19,0)),0)+SUMIFS($G$2:G71,$D$2:D71,D71,$F$2:F71,F71)-SUMIFS($H$2:H71,$D$2:D71,D71,$F$2:F71,F71) -> 15 | K71: =A71-WEEKDAY(A71,3) -> 46314 | L71: =IF(C71="","MISSING DOC NO",IF(ISNA(MATCH(D71,Items!$A$2:$A$19,0)),"UNKNOWN SKU",IF(COUNTIFS($C$2:$C$400,C71,$D$2:$D$400,D71,$F$2:$F$400,F71,$G$2:$G$400,G71,$H$2:$H$400,H71)>1,"DUPLICATE ENTRY",IF(J71<0,"NEGATIVE BALANCE",IF(AND(B71="TRF",COUNTIFS($C$2:$C$400,C71,$D$2:$D$400,D71)<2),"TRANSFER UNMATCHED",IF(AND(MAX(G71,H71)>=100,IFERROR(IF(G71>0,G71>5*(SUMIFS($G$2:$G$400,$D$2:$D$400,D71)-G71)/(COUNTIFS($D$2:$D$400,D71,$G$2:$G$400,">0")-1),H71>5*(SUMIFS($H$2:$H$400,$D$2:$D$400,D71)-H71)/(COUNTIFS($D$2:$D$400,D71,$H$2:$H$400,">0")-1)),FALSE)),"UNUSUAL QTY","OK")))))) -> OK | M71: From Main | N71: =IF(AND(L71<>"OK",K71=Weekly_Report!$C$4),COUNTIFS($L$2:L71,"<>OK",$K$2:K71,Weekly_Report!$C$4),"")
A72: 46317 | B72: DN | D72: SF-3001 | E72: =IFERROR(INDEX(Items!$B$2:$B$19,MATCH(D72,Items!$A$2:$A$19,0)),"? not on Items") -> Safety gloves (pair) | F72: Main | G72: 0 | H72: 12 | I72: Ravi | J72: =IFERROR(INDEX(IF(F72="Main",Items!$D$2:$D$19,Items!$E$2:$E$19),MATCH(D72,Items!$A$2:$A$19,0)),0)+SUMIFS($G$2:G72,$D$2:D72,D72,$F$2:F72,F72)-SUMIFS($H$2:H72,$D$2:D72,D72,$F$2:F72,F72) -> 12 | K72: =A72-WEEKDAY(A72,3) -> 46314 | L72: =IF(C72="","MISSING DOC NO",IF(ISNA(MATCH(D72,Items!$A$2:$A$19,0)),"UNKNOWN SKU",IF(COUNTIFS($C$2:$C$400,C72,$D$2:$D$400,D72,$F$2:$F$400,F72,$G$2:$G$400,G72,$H$2:$H$400,H72)>1,"DUPLICATE ENTRY",IF(J72<0,"NEGATIVE BALANCE",IF(AND(B72="TRF",COUNTIFS($C$2:$C$400,C72,$D$2:$D$400,D72)<2),"TRANSFER UNMATCHED",IF(AND(MAX(G72,H72)>=100,IFERROR(IF(G72>0,G72>5*(SUMIFS($G$2:$G$400,$D$2:$D$400,D72)-G72)/(COUNTIFS($D$2:$D$400,D72,$G$2:$G$400,">0")-1),H72>5*(SUMIFS($H$2:$H$400,$D$2:$D$400,D72)-H72)/(COUNTIFS($D$2:$D$400,D72,$H$2:$H$400,">0")-1)),FALSE)),"UNUSUAL QTY","OK")))))) -> MISSING DOC NO | M72: Doc no. missing on slip | N72: =IF(AND(L72<>"OK",K72=Weekly_Report!$C$4),COUNTIFS($L$2:L72,"<>OK",$K$2:K72,Weekly_Report!$C$4),"") -> 3
A73: 46317 | B73: DN | C73: DN-8999 | D73: ST-7002 | E73: =IFERROR(INDEX(Items!$B$2:$B$19,MATCH(D73,Items!$A$2:$A$19,0)),"? not on Items") -> Shelf bin large | F73: Annex | G73: 0 | H73: 25 | I73: Priya | J73: =IFERROR(INDEX(IF(F73="Main",Items!$D$2:$D$19,Items!$E$2:$E$19),MATCH(D73,Items!$A$2:$A$19,0)),0)+SUMIFS($G$2:G73,$D$2:D73,D73,$F$2:F73,F73)-SUMIFS($H$2:H73,$D$2:D73,D73,$F$2:F73,F73) -> -15 | K73: =A73-WEEKDAY(A73,3) -> 46314 | L73: =IF(C73="","MISSING DOC NO",IF(ISNA(MATCH(D73,Items!$A$2:$A$19,0)),"UNKNOWN SKU",IF(COUNTIFS($C$2:$C$400,C73,$D$2:$D$400,D73,$F$2:$F$400,F73,$G$2:$G$400,G73,$H$2:$H$400,H73)>1,"DUPLICATE ENTRY",IF(J73<0,"NEGATIVE BALANCE",IF(AND(B73="TRF",COUNTIFS($C$2:$C$400,C73,$D$2:$D$400,D73)<2),"TRANSFER UNMATCHED",IF(AND(MAX(G73,H73)>=100,IFERROR(IF(G73>0,G73>5*(SUMIFS($G$2:$G$400,$D$2:$D$400,D73)-G73)/(COUNTIFS($D$2:$D$400,D73,$G$2:$G$400,">0")-1),H73>5*(SUMIFS($H$2:$H$400,$D$2:$D$400,D73)-H73)/(COUNTIFS($D$2:$D$400,D73,$H$2:$H$400,">0")-1)),FALSE)),"UNUSUAL QTY","OK")))))) -> NEGATIVE BALANCE | N73: =IF(AND(L73<>"OK",K73=Weekly_Report!$C$4),COUNTIFS($L$2:L73,"<>OK",$K$2:K73,Weekly_Report!$C$4),"") -> 4
A74: 46318 | B74: GRN | C74: GRN-5117 | D74: SF-3001 | E74: =IFERROR(INDEX(Items!$B$2:$B$19,MATCH(D74,Items!$A$2:$A$19,0)),"? not on Items") -> Safety gloves (pair) | F74: Main | G74: 100 | H74: 0 | I74: Ravi | J74: =IFERROR(INDEX(IF(F74="Main",Items!$D$2:$D$19,Items!$E$2:$E$19),MATCH(D74,Items!$A$2:$A$19,0)),0)+SUMIFS($G$2:G74,$D$2:D74,D74,$F$2:F74,F74)-SUMIFS($H$2:H74,$D$2:D74,D74,$F$2:F74,F74) -> 112 | K74: =A74-WEEKDAY(A74,3) -> 46314 | L74: =IF(C74="","MISSING DOC NO",IF(ISNA(MATCH(D74,Items!$A$2:$A$19,0)),"UNKNOWN SKU",IF(COUNTIFS($C$2:$C$400,C74,$D$2:$D$400,D74,$F$2:$F$400,F74,$G$2:$G$400,G74,$H$2:$H$400,H74)>1,"DUPLICATE ENTRY",IF(J74<0,"NEGATIVE BALANCE",IF(AND(B74="TRF",COUNTIFS($C$2:$C$400,C74,$D$2:$D$400,D74)<2),"TRANSFER UNMATCHED",IF(AND(MAX(G74,H74)>=100,IFERROR(IF(G74>0,G74>5*(SUMIFS($G$2:$G$400,$D$2:$D$400,D74)-G74)/(COUNTIFS($D$2:$D$400,D74,$G$2:$G$400,">0")-1),H74>5*(SUMIFS($H$2:$H$400,$D$2:$D$400,D74)-H74)/(COUNTIFS($D$2:$D$400,D74,$H$2:$H$400,">0")-1)),FALSE)),"UNUSUAL QTY","OK")))))) -> OK | N74: =IF(AND(L74<>"OK",K74=Weekly_Report!$C$4),COUNTIFS($L$2:L74,"<>OK",$K$2:K74,Weekly_Report!$C$4),"")
A75: 46318 | B75: GRN | C75: GRN-5199 | D75: PK-1004 | E75: =IFERROR(INDEX(Items!$B$2:$B$19,MATCH(D75,Items!$A$2:$A$19,0)),"? not on Items") -> Packing tape 48mm | F75: Main | G75: 960 | H75: 0 | I75: Manaz | J75: =IFERROR(INDEX(IF(F75="Main",Items!$D$2:$D$19,Items!$E$2:$E$19),MATCH(D75,Items!$A$2:$A$19,0)),0)+SUMIFS($G$2:G75,$D$2:D75,D75,$F$2:F75,F75)-SUMIFS($H$2:H75,$D$2:D75,D75,$F$2:F75,F75) -> 1282 | K75: =A75-WEEKDAY(A75,3) -> 46314 | L75: =IF(C75="","MISSING DOC NO",IF(ISNA(MATCH(D75,Items!$A$2:$A$19,0)),"UNKNOWN SKU",IF(COUNTIFS($C$2:$C$400,C75,$D$2:$D$400,D75,$F$2:$F$400,F75,$G$2:$G$400,G75,$H$2:$H$400,H75)>1,"DUPLICATE ENTRY",IF(J75<0,"NEGATIVE BALANCE",IF(AND(B75="TRF",COUNTIFS($C$2:$C$400,C75,$D$2:$D$400,D75)<2),"TRANSFER UNMATCHED",IF(AND(MAX(G75,H75)>=100,IFERROR(IF(G75>0,G75>5*(SUMIFS($G$2:$G$400,$D$2:$D$400,D75)-G75)/(COUNTIFS($D$2:$D$400,D75,$G$2:$G$400,">0")-1),H75>5*(SUMIFS($H$2:$H$400,$D$2:$D$400,D75)-H75)/(COUNTIFS($D$2:$D$400,D75,$H$2:$H$400,">0")-1)),FALSE)),"UNUSUAL QTY","OK")))))) -> UNUSUAL QTY | M75: Receipt shows 96? | N75: =IF(AND(L75<>"OK",K75=Weekly_Report!$C$4),COUNTIFS($L$2:L75,"<>OK",$K$2:K75,Weekly_Report!$C$4),"") -> 5
A76: 46318 | B76: TRF | C76: TRF-308 | D76: CL-5002 | E76: =IFERROR(INDEX(Items!$B$2:$B$19,MATCH(D76,Items!$A$2:$A$19,0)),"? not on Items") -> Industrial wipes | F76: Main | G76: 0 | H76: 30 | I76: Manaz | J76: =IFERROR(INDEX(IF(F76="Main",Items!$D$2:$D$19,Items!$E$2:$E$19),MATCH(D76,Items!$A$2:$A$19,0)),0)+SUMIFS($G$2:G76,$D$2:D76,D76,$F$2:F76,F76)-SUMIFS($H$2:H76,$D$2:D76,D76,$F$2:F76,F76) -> 309 | K76: =A76-WEEKDAY(A76,3) -> 46314 | L76: =IF(C76="","MISSING DOC NO",IF(ISNA(MATCH(D76,Items!$A$2:$A$19,0)),"UNKNOWN SKU",IF(COUNTIFS($C$2:$C$400,C76,$D$2:$D$400,D76,$F$2:$F$400,F76,$G$2:$G$400,G76,$H$2:$H$400,H76)>1,"DUPLICATE ENTRY",IF(J76<0,"NEGATIVE BALANCE",IF(AND(B76="TRF",COUNTIFS($C$2:$C$400,C76,$D$2:$D$400,D76)<2),"TRANSFER UNMATCHED",IF(AND(MAX(G76,H76)>=100,IFERROR(IF(G76>0,G76>5*(SUMIFS($G$2:$G$400,$D$2:$D$400,D76)-G76)/(COUNTIFS($D$2:$D$400,D76,$G$2:$G$400,">0")-1),H76>5*(SUMIFS($H$2:$H$400,$D$2:$D$400,D76)-H76)/(COUNTIFS($D$2:$D$400,D76,$H$2:$H$400,">0")-1)),FALSE)),"UNUSUAL QTY","OK")))))) -> OK | M76: To Annex | N76: =IF(AND(L76<>"OK",K76=Weekly_Report!$C$4),COUNTIFS($L$2:L76,"<>OK",$K$2:K76,Weekly_Report!$C$4),"")
A77: 46318 | B77: TRF | C77: TRF-308 | D77: CL-5002 | E77: =IFERROR(INDEX(Items!$B$2:$B$19,MATCH(D77,Items!$A$2:$A$19,0)),"? not on Items") -> Industrial wipes | F77: Annex | G77: 30 | H77: 0 | I77: Manaz | J77: =IFERROR(INDEX(IF(F77="Main",Items!$D$2:$D$19,Items!$E$2:$E$19),MATCH(D77,Items!$A$2:$A$19,0)),0)+SUMIFS($G$2:G77,$D$2:D77,D77,$F$2:F77,F77)-SUMIFS($H$2:H77,$D$2:D77,D77,$F$2:F77,F77) -> 48 | K77: =A77-WEEKDAY(A77,3) -> 46314 | L77: =IF(C77="","MISSING DOC NO",IF(ISNA(MATCH(D77,Items!$A$2:$A$19,0)),"UNKNOWN SKU",IF(COUNTIFS($C$2:$C$400,C77,$D$2:$D$400,D77,$F$2:$F$400,F77,$G$2:$G$400,G77,$H$2:$H$400,H77)>1,"DUPLICATE ENTRY",IF(J77<0,"NEGATIVE BALANCE",IF(AND(B77="TRF",COUNTIFS($C$2:$C$400,C77,$D$2:$D$400,D77)<2),"TRANSFER UNMATCHED",IF(AND(MAX(G77,H77)>=100,IFERROR(IF(G77>0,G77>5*(SUMIFS($G$2:$G$400,$D$2:$D$400,D77)-G77)/(COUNTIFS($D$2:$D$400,D77,$G$2:$G$400,">0")-1),H77>5*(SUMIFS($H$2:$H$400,$D$2:$D$400,D77)-H77)/(COUNTIFS($D$2:$D$400,D77,$H$2:$H$400,">0")-1)),FALSE)),"UNUSUAL QTY","OK")))))) -> OK | M77: From Main | N77: =IF(AND(L77<>"OK",K77=Weekly_Report!$C$4),COUNTIFS($L$2:L77,"<>OK",$K$2:K77,Weekly_Report!$C$4),"")
A78: 46318 | B78: DN | C78: DN-8840 | D78: CL-5002 | E78: =IFERROR(INDEX(Items!$B$2:$B$19,MATCH(D78,Items!$A$2:$A$19,0)),"? not on Items") -> Industrial wipes | F78: Annex | G78: 0 | H78: 24 | I78: Manaz | J78: =IFERROR(INDEX(IF(F78="Main",Items!$D$2:$D$19,Items!$E$2:$E$19),MATCH(D78,Items!$A$2:$A$19,0)),0)+SUMIFS($G$2:G78,$D$2:D78,D78,$F$2:F78,F78)-SUMIFS($H$2:H78,$D$2:D78,D78,$F$2:F78,F78) -> 24 | K78: =A78-WEEKDAY(A78,3) -> 46314 | L78: =IF(C78="","MISSING DOC NO",IF(ISNA(MATCH(D78,Items!$A$2:$A$19,0)),"UNKNOWN SKU",IF(COUNTIFS($C$2:$C$400,C78,$D$2:$D$400,D78,$F$2:$F$400,F78,$G$2:$G$400,G78,$H$2:$H$400,H78)>1,"DUPLICATE ENTRY",IF(J78<0,"NEGATIVE BALANCE",IF(AND(B78="TRF",COUNTIFS($C$2:$C$400,C78,$D$2:$D$400,D78)<2),"TRANSFER UNMATCHED",IF(AND(MAX(G78,H78)>=100,IFERROR(IF(G78>0,G78>5*(SUMIFS($G$2:$G$400,$D$2:$D$400,D78)-G78)/(COUNTIFS($D$2:$D$400,D78,$G$2:$G$400,">0")-1),H78>5*(SUMIFS($H$2:$H$400,$D$2:$D$400,D78)-H78)/(COUNTIFS($D$2:$D$400,D78,$H$2:$H$400,">0")-1)),FALSE)),"UNUSUAL QTY","OK")))))) -> OK | N78: =IF(AND(L78<>"OK",K78=Weekly_Report!$C$4),COUNTIFS($L$2:L78,"<>OK",$K$2:K78,Weekly_Report!$C$4),"")
A79: 46318 | B79: DN | C79: DN-8841 | D79: PK-1003 | E79: =IFERROR(INDEX(Items!$B$2:$B$19,MATCH(D79,Items!$A$2:$A$19,0)),"? not on Items") -> Stretch film 500mm | F79: Annex | G79: 0 | H79: 7 | I79: Manaz | J79: =IFERROR(INDEX(IF(F79="Main",Items!$D$2:$D$19,Items!$E$2:$E$19),MATCH(D79,Items!$A$2:$A$19,0)),0)+SUMIFS($G$2:G79,$D$2:D79,D79,$F$2:F79,F79)-SUMIFS($H$2:H79,$D$2:D79,D79,$F$2:F79,F79) -> 5 | K79: =A79-WEEKDAY(A79,3) -> 46314 | L79: =IF(C79="","MISSING DOC NO",IF(ISNA(MATCH(D79,Items!$A$2:$A$19,0)),"UNKNOWN SKU",IF(COUNTIFS($C$2:$C$400,C79,$D$2:$D$400,D79,$F$2:$F$400,F79,$G$2:$G$400,G79,$H$2:$H$400,H79)>1,"DUPLICATE ENTRY",IF(J79<0,"NEGATIVE BALANCE",IF(AND(B79="TRF",COUNTIFS($C$2:$C$400,C79,$D$2:$D$400,D79)<2),"TRANSFER UNMATCHED",IF(AND(MAX(G79,H79)>=100,IFERROR(IF(G79>0,G79>5*(SUMIFS($G$2:$G$400,$D$2:$D$400,D79)-G79)/(COUNTIFS($D$2:$D$400,D79,$G$2:$G$400,">0")-1),H79>5*(SUMIFS($H$2:$H$400,$D$2:$D$400,D79)-H79)/(COUNTIFS($D$2:$D$400,D79,$H$2:$H$400,">0")-1)),FALSE)),"UNUSUAL QTY","OK")))))) -> OK | N79: =IF(AND(L79<>"OK",K79=Weekly_Report!$C$4),COUNTIFS($L$2:L79,"<>OK",$K$2:K79,Weekly_Report!$C$4),"")
A80: 46318 | B80: DN | C80: DN-8842 | D80: HW-6002 | E80: =IFERROR(INDEX(Items!$B$2:$B$19,MATCH(D80,Items!$A$2:$A$19,0)),"? not on Items") -> Strapping band 12mm | F80: Annex | G80: 0 | H80: 25 | I80: Manaz | J80: =IFERROR(INDEX(IF(F80="Main",Items!$D$2:$D$19,Items!$E$2:$E$19),MATCH(D80,Items!$A$2:$A$19,0)),0)+SUMIFS($G$2:G80,$D$2:D80,D80,$F$2:F80,F80)-SUMIFS($H$2:H80,$D$2:D80,D80,$F$2:F80,F80) -> 26 | K80: =A80-WEEKDAY(A80,3) -> 46314 | L80: =IF(C80="","MISSING DOC NO",IF(ISNA(MATCH(D80,Items!$A$2:$A$19,0)),"UNKNOWN SKU",IF(COUNTIFS($C$2:$C$400,C80,$D$2:$D$400,D80,$F$2:$F$400,F80,$G$2:$G$400,G80,$H$2:$H$400,H80)>1,"DUPLICATE ENTRY",IF(J80<0,"NEGATIVE BALANCE",IF(AND(B80="TRF",COUNTIFS($C$2:$C$400,C80,$D$2:$D$400,D80)<2),"TRANSFER UNMATCHED",IF(AND(MAX(G80,H80)>=100,IFERROR(IF(G80>0,G80>5*(SUMIFS($G$2:$G$400,$D$2:$D$400,D80)-G80)/(COUNTIFS($D$2:$D$400,D80,$G$2:$G$400,">0")-1),H80>5*(SUMIFS($H$2:$H$400,$D$2:$D$400,D80)-H80)/(COUNTIFS($D$2:$D$400,D80,$H$2:$H$400,">0")-1)),FALSE)),"UNUSUAL QTY","OK")))))) -> OK | N80: =IF(AND(L80<>"OK",K80=Weekly_Report!$C$4),COUNTIFS($L$2:L80,"<>OK",$K$2:K80,Weekly_Report!$C$4),"")
A81: 46319 | B81: GRN | C81: GRN-5118 | D81: PK-1004 | E81: =IFERROR(INDEX(Items!$B$2:$B$19,MATCH(D81,Items!$A$2:$A$19,0)),"? not on Items") -> Packing tape 48mm | F81: Main | G81: 24 | H81: 0 | I81: Ravi | J81: =IFERROR(INDEX(IF(F81="Main",Items!$D$2:$D$19,Items!$E$2:$E$19),MATCH(D81,Items!$A$2:$A$19,0)),0)+SUMIFS($G$2:G81,$D$2:D81,D81,$F$2:F81,F81)-SUMIFS($H$2:H81,$D$2:D81,D81,$F$2:F81,F81) -> 1306 | K81: =A81-WEEKDAY(A81,3) -> 46314 | L81: =IF(C81="","MISSING DOC NO",IF(ISNA(MATCH(D81,Items!$A$2:$A$19,0)),"UNKNOWN SKU",IF(COUNTIFS($C$2:$C$400,C81,$D$2:$D$400,D81,$F$2:$F$400,F81,$G$2:$G$400,G81,$H$2:$H$400,H81)>1,"DUPLICATE ENTRY",IF(J81<0,"NEGATIVE BALANCE",IF(AND(B81="TRF",COUNTIFS($C$2:$C$400,C81,$D$2:$D$400,D81)<2),"TRANSFER UNMATCHED",IF(AND(MAX(G81,H81)>=100,IFERROR(IF(G81>0,G81>5*(SUMIFS($G$2:$G$400,$D$2:$D$400,D81)-G81)/(COUNTIFS($D$2:$D$400,D81,$G$2:$G$400,">0")-1),H81>5*(SUMIFS($H$2:$H$400,$D$2:$D$400,D81)-H81)/(COUNTIFS($D$2:$D$400,D81,$H$2:$H$400,">0")-1)),FALSE)),"UNUSUAL QTY","OK")))))) -> OK | N81: =IF(AND(L81<>"OK",K81=Weekly_Report!$C$4),COUNTIFS($L$2:L81,"<>OK",$K$2:K81,Weekly_Report!$C$4),"")
A82: 46319 | B82: GRN | C82: GRN-5119 | D82: PL-2001 | E82: =IFERROR(INDEX(Items!$B$2:$B$19,MATCH(D82,Items!$A$2:$A$19,0)),"? not on Items") -> Plastic pallet 1200x1000 | F82: Main | G82: 60 | H82: 0 | I82: Manaz | J82: =IFERROR(INDEX(IF(F82="Main",Items!$D$2:$D$19,Items!$E$2:$E$19),MATCH(D82,Items!$A$2:$A$19,0)),0)+SUMIFS($G$2:G82,$D$2:D82,D82,$F$2:F82,F82)-SUMIFS($H$2:H82,$D$2:D82,D82,$F$2:F82,F82) -> 149 | K82: =A82-WEEKDAY(A82,3) -> 46314 | L82: =IF(C82="","MISSING DOC NO",IF(ISNA(MATCH(D82,Items!$A$2:$A$19,0)),"UNKNOWN SKU",IF(COUNTIFS($C$2:$C$400,C82,$D$2:$D$400,D82,$F$2:$F$400,F82,$G$2:$G$400,G82,$H$2:$H$400,H82)>1,"DUPLICATE ENTRY",IF(J82<0,"NEGATIVE BALANCE",IF(AND(B82="TRF",COUNTIFS($C$2:$C$400,C82,$D$2:$D$400,D82)<2),"TRANSFER UNMATCHED",IF(AND(MAX(G82,H82)>=100,IFERROR(IF(G82>0,G82>5*(SUMIFS($G$2:$G$400,$D$2:$D$400,D82)-G82)/(COUNTIFS($D$2:$D$400,D82,$G$2:$G$400,">0")-1),H82>5*(SUMIFS($H$2:$H$400,$D$2:$D$400,D82)-H82)/(COUNTIFS($D$2:$D$400,D82,$H$2:$H$400,">0")-1)),FALSE)),"UNUSUAL QTY","OK")))))) -> OK | N82: =IF(AND(L82<>"OK",K82=Weekly_Report!$C$4),COUNTIFS($L$2:L82,"<>OK",$K$2:K82,Weekly_Report!$C$4),"")
A83: 46319 | B83: GRN | C83: GRN-5120 | D83: PK-1003 | E83: =IFERROR(INDEX(Items!$B$2:$B$19,MATCH(D83,Items!$A$2:$A$19,0)),"? not on Items") -> Stretch film 500mm | F83: Main | G83: 36 | H83: 0 | I83: Priya | J83: =IFERROR(INDEX(IF(F83="Main",Items!$D$2:$D$19,Items!$E$2:$E$19),MATCH(D83,Items!$A$2:$A$19,0)),0)+SUMIFS($G$2:G83,$D$2:D83,D83,$F$2:F83,F83)-SUMIFS($H$2:H83,$D$2:D83,D83,$F$2:F83,F83) -> 202 | K83: =A83-WEEKDAY(A83,3) -> 46314 | L83: =IF(C83="","MISSING DOC NO",IF(ISNA(MATCH(D83,Items!$A$2:$A$19,0)),"UNKNOWN SKU",IF(COUNTIFS($C$2:$C$400,C83,$D$2:$D$400,D83,$F$2:$F$400,F83,$G$2:$G$400,G83,$H$2:$H$400,H83)>1,"DUPLICATE ENTRY",IF(J83<0,"NEGATIVE BALANCE",IF(AND(B83="TRF",COUNTIFS($C$2:$C$400,C83,$D$2:$D$400,D83)<2),"TRANSFER UNMATCHED",IF(AND(MAX(G83,H83)>=100,IFERROR(IF(G83>0,G83>5*(SUMIFS($G$2:$G$400,$D$2:$D$400,D83)-G83)/(COUNTIFS($D$2:$D$400,D83,$G$2:$G$400,">0")-1),H83>5*(SUMIFS($H$2:$H$400,$D$2:$D$400,D83)-H83)/(COUNTIFS($D$2:$D$400,D83,$H$2:$H$400,">0")-1)),FALSE)),"UNUSUAL QTY","OK")))))) -> OK | N83: =IF(AND(L83<>"OK",K83=Weekly_Report!$C$4),COUNTIFS($L$2:L83,"<>OK",$K$2:K83,Weekly_Report!$C$4),"")
A84: 46319 | B84: TRF | C84: TRF-309 | D84: ST-7001 | E84: =IFERROR(INDEX(Items!$B$2:$B$19,MATCH(D84,Items!$A$2:$A$19,0)),"? not on Items") -> Shelf bin small | F84: Main | G84: 0 | H84: 10 | I84: Manaz | J84: =IFERROR(INDEX(IF(F84="Main",Items!$D$2:$D$19,Items!$E$2:$E$19),MATCH(D84,Items!$A$2:$A$19,0)),0)+SUMIFS($G$2:G84,$D$2:D84,D84,$F$2:F84,F84)-SUMIFS($H$2:H84,$D$2:D84,D84,$F$2:F84,F84) -> 277 | K84: =A84-WEEKDAY(A84,3) -> 46314 | L84: =IF(C84="","MISSING DOC NO",IF(ISNA(MATCH(D84,Items!$A$2:$A$19,0)),"UNKNOWN SKU",IF(COUNTIFS($C$2:$C$400,C84,$D$2:$D$400,D84,$F$2:$F$400,F84,$G$2:$G$400,G84,$H$2:$H$400,H84)>1,"DUPLICATE ENTRY",IF(J84<0,"NEGATIVE BALANCE",IF(AND(B84="TRF",COUNTIFS($C$2:$C$400,C84,$D$2:$D$400,D84)<2),"TRANSFER UNMATCHED",IF(AND(MAX(G84,H84)>=100,IFERROR(IF(G84>0,G84>5*(SUMIFS($G$2:$G$400,$D$2:$D$400,D84)-G84)/(COUNTIFS($D$2:$D$400,D84,$G$2:$G$400,">0")-1),H84>5*(SUMIFS($H$2:$H$400,$D$2:$D$400,D84)-H84)/(COUNTIFS($D$2:$D$400,D84,$H$2:$H$400,">0")-1)),FALSE)),"UNUSUAL QTY","OK")))))) -> OK | M84: To Annex | N84: =IF(AND(L84<>"OK",K84=Weekly_Report!$C$4),COUNTIFS($L$2:L84,"<>OK",$K$2:K84,Weekly_Report!$C$4),"")
A85: 46319 | B85: TRF | C85: TRF-309 | D85: ST-7001 | E85: =IFERROR(INDEX(Items!$B$2:$B$19,MATCH(D85,Items!$A$2:$A$19,0)),"? not on Items") -> Shelf bin small | F85: Annex | G85: 10 | H85: 0 | I85: Manaz | J85: =IFERROR(INDEX(IF(F85="Main",Items!$D$2:$D$19,Items!$E$2:$E$19),MATCH(D85,Items!$A$2:$A$19,0)),0)+SUMIFS($G$2:G85,$D$2:D85,D85,$F$2:F85,F85)-SUMIFS($H$2:H85,$D$2:D85,D85,$F$2:F85,F85) -> 44 | K85: =A85-WEEKDAY(A85,3) -> 46314 | L85: =IF(C85="","MISSING DOC NO",IF(ISNA(MATCH(D85,Items!$A$2:$A$19,0)),"UNKNOWN SKU",IF(COUNTIFS($C$2:$C$400,C85,$D$2:$D$400,D85,$F$2:$F$400,F85,$G$2:$G$400,G85,$H$2:$H$400,H85)>1,"DUPLICATE ENTRY",IF(J85<0,"NEGATIVE BALANCE",IF(AND(B85="TRF",COUNTIFS($C$2:$C$400,C85,$D$2:$D$400,D85)<2),"TRANSFER UNMATCHED",IF(AND(MAX(G85,H85)>=100,IFERROR(IF(G85>0,G85>5*(SUMIFS($G$2:$G$400,$D$2:$D$400,D85)-G85)/(COUNTIFS($D$2:$D$400,D85,$G$2:$G$400,">0")-1),H85>5*(SUMIFS($H$2:$H$400,$D$2:$D$400,D85)-H85)/(COUNTIFS($D$2:$D$400,D85,$H$2:$H$400,">0")-1)),FALSE)),"UNUSUAL QTY","OK")))))) -> OK | M85: From Main | N85: =IF(AND(L85<>"OK",K85=Weekly_Report!$C$4),COUNTIFS($L$2:L85,"<>OK",$K$2:K85,Weekly_Report!$C$4),"")
A86: 46319 | B86: DN | C86: DN-8843 | D86: SF-3002 | E86: =IFERROR(INDEX(Items!$B$2:$B$19,MATCH(D86,Items!$A$2:$A$19,0)),"? not on Items") -> Hi-vis vest | F86: Annex | G86: 0 | H86: 10 | I86: Priya | J86: =IFERROR(INDEX(IF(F86="Main",Items!$D$2:$D$19,Items!$E$2:$E$19),MATCH(D86,Items!$A$2:$A$19,0)),0)+SUMIFS($G$2:G86,$D$2:D86,D86,$F$2:F86,F86)-SUMIFS($H$2:H86,$D$2:D86,D86,$F$2:F86,F86) -> 5 | K86: =A86-WEEKDAY(A86,3) -> 46314 | L86: =IF(C86="","MISSING DOC NO",IF(ISNA(MATCH(D86,Items!$A$2:$A$19,0)),"UNKNOWN SKU",IF(COUNTIFS($C$2:$C$400,C86,$D$2:$D$400,D86,$F$2:$F$400,F86,$G$2:$G$400,G86,$H$2:$H$400,H86)>1,"DUPLICATE ENTRY",IF(J86<0,"NEGATIVE BALANCE",IF(AND(B86="TRF",COUNTIFS($C$2:$C$400,C86,$D$2:$D$400,D86)<2),"TRANSFER UNMATCHED",IF(AND(MAX(G86,H86)>=100,IFERROR(IF(G86>0,G86>5*(SUMIFS($G$2:$G$400,$D$2:$D$400,D86)-G86)/(COUNTIFS($D$2:$D$400,D86,$G$2:$G$400,">0")-1),H86>5*(SUMIFS($H$2:$H$400,$D$2:$D$400,D86)-H86)/(COUNTIFS($D$2:$D$400,D86,$H$2:$H$400,">0")-1)),FALSE)),"UNUSUAL QTY","OK")))))) -> OK | N86: =IF(AND(L86<>"OK",K86=Weekly_Report!$C$4),COUNTIFS($L$2:L86,"<>OK",$K$2:K86,Weekly_Report!$C$4),"")
A87: 46319 | B87: TRF | C87: TRF-310 | D87: HW-6001 | E87: =IFERROR(INDEX(Items!$B$2:$B$19,MATCH(D87,Items!$A$2:$A$19,0)),"? not on Items") -> Cable ties 300mm (100) | F87: Main | G87: 0 | H87: 10 | I87: Ravi | J87: =IFERROR(INDEX(IF(F87="Main",Items!$D$2:$D$19,Items!$E$2:$E$19),MATCH(D87,Items!$A$2:$A$19,0)),0)+SUMIFS($G$2:G87,$D$2:D87,D87,$F$2:F87,F87)-SUMIFS($H$2:H87,$D$2:D87,D87,$F$2:F87,F87) -> 164 | K87: =A87-WEEKDAY(A87,3) -> 46314 | L87: =IF(C87="","MISSING DOC NO",IF(ISNA(MATCH(D87,Items!$A$2:$A$19,0)),"UNKNOWN SKU",IF(COUNTIFS($C$2:$C$400,C87,$D$2:$D$400,D87,$F$2:$F$400,F87,$G$2:$G$400,G87,$H$2:$H$400,H87)>1,"DUPLICATE ENTRY",IF(J87<0,"NEGATIVE BALANCE",IF(AND(B87="TRF",COUNTIFS($C$2:$C$400,C87,$D$2:$D$400,D87)<2),"TRANSFER UNMATCHED",IF(AND(MAX(G87,H87)>=100,IFERROR(IF(G87>0,G87>5*(SUMIFS($G$2:$G$400,$D$2:$D$400,D87)-G87)/(COUNTIFS($D$2:$D$400,D87,$G$2:$G$400,">0")-1),H87>5*(SUMIFS($H$2:$H$400,$D$2:$D$400,D87)-H87)/(COUNTIFS($D$2:$D$400,D87,$H$2:$H$400,">0")-1)),FALSE)),"UNUSUAL QTY","OK")))))) -> OK | M87: To Annex | N87: =IF(AND(L87<>"OK",K87=Weekly_Report!$C$4),COUNTIFS($L$2:L87,"<>OK",$K$2:K87,Weekly_Report!$C$4),"")
A88: 46319 | B88: TRF | C88: TRF-310 | D88: HW-6001 | E88: =IFERROR(INDEX(Items!$B$2:$B$19,MATCH(D88,Items!$A$2:$A$19,0)),"? not on Items") -> Cable ties 300mm (100) | F88: Annex | G88: 10 | H88: 0 | I88: Ravi | J88: =IFERROR(INDEX(IF(F88="Main",Items!$D$2:$D$19,Items!$E$2:$E$19),MATCH(D88,Items!$A$2:$A$19,0)),0)+SUMIFS($G$2:G88,$D$2:D88,D88,$F$2:F88,F88)-SUMIFS($H$2:H88,$D$2:D88,D88,$F$2:F88,F88) -> 90 | K88: =A88-WEEKDAY(A88,3) -> 46314 | L88: =IF(C88="","MISSING DOC NO",IF(ISNA(MATCH(D88,Items!$A$2:$A$19,0)),"UNKNOWN SKU",IF(COUNTIFS($C$2:$C$400,C88,$D$2:$D$400,D88,$F$2:$F$400,F88,$G$2:$G$400,G88,$H$2:$H$400,H88)>1,"DUPLICATE ENTRY",IF(J88<0,"NEGATIVE BALANCE",IF(AND(B88="TRF",COUNTIFS($C$2:$C$400,C88,$D$2:$D$400,D88)<2),"TRANSFER UNMATCHED",IF(AND(MAX(G88,H88)>=100,IFERROR(IF(G88>0,G88>5*(SUMIFS($G$2:$G$400,$D$2:$D$400,D88)-G88)/(COUNTIFS($D$2:$D$400,D88,$G$2:$G$400,">0")-1),H88>5*(SUMIFS($H$2:$H$400,$D$2:$D$400,D88)-H88)/(COUNTIFS($D$2:$D$400,D88,$H$2:$H$400,">0")-1)),FALSE)),"UNUSUAL QTY","OK")))))) -> OK | M88: From Main | N88: =IF(AND(L88<>"OK",K88=Weekly_Report!$C$4),COUNTIFS($L$2:L88,"<>OK",$K$2:K88,Weekly_Report!$C$4),"")
A89: 46319 | B89: DN | C89: DN-8844 | D89: PK-1003 | E89: =IFERROR(INDEX(Items!$B$2:$B$19,MATCH(D89,Items!$A$2:$A$19,0)),"? not on Items") -> Stretch film 500mm | F89: Main | G89: 0 | H89: 8 | I89: Manaz | J89: =IFERROR(INDEX(IF(F89="Main",Items!$D$2:$D$19,Items!$E$2:$E$19),MATCH(D89,Items!$A$2:$A$19,0)),0)+SUMIFS($G$2:G89,$D$2:D89,D89,$F$2:F89,F89)-SUMIFS($H$2:H89,$D$2:D89,D89,$F$2:F89,F89) -> 194 | K89: =A89-WEEKDAY(A89,3) -> 46314 | L89: =IF(C89="","MISSING DOC NO",IF(ISNA(MATCH(D89,Items!$A$2:$A$19,0)),"UNKNOWN SKU",IF(COUNTIFS($C$2:$C$400,C89,$D$2:$D$400,D89,$F$2:$F$400,F89,$G$2:$G$400,G89,$H$2:$H$400,H89)>1,"DUPLICATE ENTRY",IF(J89<0,"NEGATIVE BALANCE",IF(AND(B89="TRF",COUNTIFS($C$2:$C$400,C89,$D$2:$D$400,D89)<2),"TRANSFER UNMATCHED",IF(AND(MAX(G89,H89)>=100,IFERROR(IF(G89>0,G89>5*(SUMIFS($G$2:$G$400,$D$2:$D$400,D89)-G89)/(COUNTIFS($D$2:$D$400,D89,$G$2:$G$400,">0")-1),H89>5*(SUMIFS($H$2:$H$400,$D$2:$D$400,D89)-H89)/(COUNTIFS($D$2:$D$400,D89,$H$2:$H$400,">0")-1)),FALSE)),"UNUSUAL QTY","OK")))))) -> OK | N89: =IF(AND(L89<>"OK",K89=Weekly_Report!$C$4),COUNTIFS($L$2:L89,"<>OK",$K$2:K89,Weekly_Report!$C$4),"")
A90: 46319 | B90: TRF | C90: TRF-311 | D90: PL-2001 | E90: =IFERROR(INDEX(Items!$B$2:$B$19,MATCH(D90,Items!$A$2:$A$19,0)),"? not on Items") -> Plastic pallet 1200x1000 | F90: Main | G90: 0 | H90: 20 | I90: Ravi | J90: =IFERROR(INDEX(IF(F90="Main",Items!$D$2:$D$19,Items!$E$2:$E$19),MATCH(D90,Items!$A$2:$A$19,0)),0)+SUMIFS($G$2:G90,$D$2:D90,D90,$F$2:F90,F90)-SUMIFS($H$2:H90,$D$2:D90,D90,$F$2:F90,F90) -> 129 | K90: =A90-WEEKDAY(A90,3) -> 46314 | L90: =IF(C90="","MISSING DOC NO",IF(ISNA(MATCH(D90,Items!$A$2:$A$19,0)),"UNKNOWN SKU",IF(COUNTIFS($C$2:$C$400,C90,$D$2:$D$400,D90,$F$2:$F$400,F90,$G$2:$G$400,G90,$H$2:$H$400,H90)>1,"DUPLICATE ENTRY",IF(J90<0,"NEGATIVE BALANCE",IF(AND(B90="TRF",COUNTIFS($C$2:$C$400,C90,$D$2:$D$400,D90)<2),"TRANSFER UNMATCHED",IF(AND(MAX(G90,H90)>=100,IFERROR(IF(G90>0,G90>5*(SUMIFS($G$2:$G$400,$D$2:$D$400,D90)-G90)/(COUNTIFS($D$2:$D$400,D90,$G$2:$G$400,">0")-1),H90>5*(SUMIFS($H$2:$H$400,$D$2:$D$400,D90)-H90)/(COUNTIFS($D$2:$D$400,D90,$H$2:$H$400,">0")-1)),FALSE)),"UNUSUAL QTY","OK")))))) -> TRANSFER UNMATCHED | M90: To Annex | N90: =IF(AND(L90<>"OK",K90=Weekly_Report!$C$4),COUNTIFS($L$2:L90,"<>OK",$K$2:K90,Weekly_Report!$C$4),"") -> 6
A91: 46319 | B91: DN | C91: DN-9001 | D91: XX-9999 | E91: =IFERROR(INDEX(Items!$B$2:$B$19,MATCH(D91,Items!$A$2:$A$19,0)),"? not on Items") -> ? not on Items | F91: Main | G91: 0 | H91: 5 | I91: Ravi | J91: =IFERROR(INDEX(IF(F91="Main",Items!$D$2:$D$19,Items!$E$2:$E$19),MATCH(D91,Items!$A$2:$A$19,0)),0)+SUMIFS($G$2:G91,$D$2:D91,D91,$F$2:F91,F91)-SUMIFS($H$2:H91,$D$2:D91,D91,$F$2:F91,F91) -> -5 | K91: =A91-WEEKDAY(A91,3) -> 46314 | L91: =IF(C91="","MISSING DOC NO",IF(ISNA(MATCH(D91,Items!$A$2:$A$19,0)),"UNKNOWN SKU",IF(COUNTIFS($C$2:$C$400,C91,$D$2:$D$400,D91,$F$2:$F$400,F91,$G$2:$G$400,G91,$H$2:$H$400,H91)>1,"DUPLICATE ENTRY",IF(J91<0,"NEGATIVE BALANCE",IF(AND(B91="TRF",COUNTIFS($C$2:$C$400,C91,$D$2:$D$400,D91)<2),"TRANSFER UNMATCHED",IF(AND(MAX(G91,H91)>=100,IFERROR(IF(G91>0,G91>5*(SUMIFS($G$2:$G$400,$D$2:$D$400,D91)-G91)/(COUNTIFS($D$2:$D$400,D91,$G$2:$G$400,">0")-1),H91>5*(SUMIFS($H$2:$H$400,$D$2:$D$400,D91)-H91)/(COUNTIFS($D$2:$D$400,D91,$H$2:$H$400,">0")-1)),FALSE)),"UNUSUAL QTY","OK")))))) -> UNKNOWN SKU | M91: SKU not on item list | N91: =IF(AND(L91<>"OK",K91=Weekly_Report!$C$4),COUNTIFS($L$2:L91,"<>OK",$K$2:K91,Weekly_Report!$C$4),"") -> 7

Sheet Balance
A1: Stock on hand by SKU and location (live)
A3: SKU | B3: Description | C3: Unit | D3: Opening Main | E3: In Main | F3: Out Main | G3: On Hand Main | H3: Opening Annex | I3: In Annex | J3: Out Annex | K3: On Hand Annex | L3: Total On Hand | M3: Reorder Level | N3: Status | O3: Open Flags
A4: =Items!A2 -> PK-1001 | B4: =Items!B2 -> Carton box 600x400x400 | C4: =Items!C2 -> pcs | D4: =Items!D2 -> 225 | E4: =SUMIFS(Movements!$G$2:$G$400,Movements!$D$2:$D$400,A4,Movements!$F$2:$F$400,"Main") -> 120 | F4: =SUMIFS(Movements!$H$2:$H$400,Movements!$D$2:$D$400,A4,Movements!$F$2:$F$400,"Main") -> 23 | G4: =D4+E4-F4 -> 322 | H4: =Items!E2 -> 19 | I4: =SUMIFS(Movements!$G$2:$G$400,Movements!$D$2:$D$400,A4,Movements!$F$2:$F$400,"Annex") -> 10 | J4: =SUMIFS(Movements!$H$2:$H$400,Movements!$D$2:$D$400,A4,Movements!$F$2:$F$400,"Annex") -> 0 | K4: =H4+I4-J4 -> 29 | L4: =G4+K4 -> 351 | M4: =Items!F2 -> 40 | N4: =IF(MIN(G4,K4)<0,"NEGATIVE",IF(L4<=M4,"BELOW REORDER","OK")) -> OK | O4: =COUNTIFS(Movements!$D$2:$D$400,A4,Movements!$L$2:$L$400,"<>OK") -> 0
A5: =Items!A3 -> PK-1002 | B5: =Items!B3 -> Carton box 400x300x300 | C5: =Items!C3 -> pcs | D5: =Items!D3 -> 262 | E5: =SUMIFS(Movements!$G$2:$G$400,Movements!$D$2:$D$400,A5,Movements!$F$2:$F$400,"Main") -> 24 | F5: =SUMIFS(Movements!$H$2:$H$400,Movements!$D$2:$D$400,A5,Movements!$F$2:$F$400,"Main") -> 0 | G5: =D5+E5-F5 -> 286 | H5: =Items!E3 -> 83 | I5: =SUMIFS(Movements!$G$2:$G$400,Movements!$D$2:$D$400,A5,Movements!$F$2:$F$400,"Annex") -> 0 | J5: =SUMIFS(Movements!$H$2:$H$400,Movements!$D$2:$D$400,A5,Movements!$F$2:$F$400,"Annex") -> 53 | K5: =H5+I5-J5 -> 30 | L5: =G5+K5 -> 316 | M5: =Items!F3 -> 100 | N5: =IF(MIN(G5,K5)<0,"NEGATIVE",IF(L5<=M5,"BELOW REORDER","OK")) -> OK | O5: =COUNTIFS(Movements!$D$2:$D$400,A5,Movements!$L$2:$L$400,"<>OK") -> 0
A6: =Items!A4 -> PK-1003 | B6: =Items!B4 -> Stretch film 500mm | C6: =Items!C4 -> roll | D6: =Items!D4 -> 84 | E6: =SUMIFS(Movements!$G$2:$G$400,Movements!$D$2:$D$400,A6,Movements!$F$2:$F$400,"Main") -> 180 | F6: =SUMIFS(Movements!$H$2:$H$400,Movements!$D$2:$D$400,A6,Movements!$F$2:$F$400,"Main") -> 70 | G6: =D6+E6-F6 -> 194 | H6: =Items!E4 -> 9 | I6: =SUMIFS(Movements!$G$2:$G$400,Movements!$D$2:$D$400,A6,Movements!$F$2:$F$400,"Annex") -> 40 | J6: =SUMIFS(Movements!$H$2:$H$400,Movements!$D$2:$D$400,A6,Movements!$F$2:$F$400,"Annex") -> 44 | K6: =H6+I6-J6 -> 5 | L6: =G6+K6 -> 199 | M6: =Items!F4 -> 50 | N6: =IF(MIN(G6,K6)<0,"NEGATIVE",IF(L6<=M6,"BELOW REORDER","OK")) -> OK | O6: =COUNTIFS(Movements!$D$2:$D$400,A6,Movements!$L$2:$L$400,"<>OK") -> 0
A7: =Items!A5 -> PK-1004 | B7: =Items!B5 -> Packing tape 48mm | C7: =Items!C5 -> roll | D7: =Items!D5 -> 334 | E7: =SUMIFS(Movements!$G$2:$G$400,Movements!$D$2:$D$400,A7,Movements!$F$2:$F$400,"Main") -> 984 | F7: =SUMIFS(Movements!$H$2:$H$400,Movements!$D$2:$D$400,A7,Movements!$F$2:$F$400,"Main") -> 12 | G7: =D7+E7-F7 -> 1306 | H7: =Items!E5 -> 12 | I7: =SUMIFS(Movements!$G$2:$G$400,Movements!$D$2:$D$400,A7,Movements!$F$2:$F$400,"Annex") -> 0 | J7: =SUMIFS(Movements!$H$2:$H$400,Movements!$D$2:$D$400,A7,Movements!$F$2:$F$400,"Annex") -> 0 | K7: =H7+I7-J7 -> 12 | L7: =G7+K7 -> 1318 | M7: =Items!F5 -> 60 | N7: =IF(MIN(G7,K7)<0,"NEGATIVE",IF(L7<=M7,"BELOW REORDER","OK")) -> OK | O7: =COUNTIFS(Movements!$D$2:$D$400,A7,Movements!$L$2:$L$400,"<>OK") -> 1
A8: =Items!A6 -> PK-1005 | B8: =Items!B6 -> Bubble wrap 1m x 50m | C8: =Items!C6 -> roll | D8: =Items!D6 -> 247 | E8: =SUMIFS(Movements!$G$2:$G$400,Movements!$D$2:$D$400,A8,Movements!$F$2:$F$400,"Main") -> 24 | F8: =SUMIFS(Movements!$H$2:$H$400,Movements!$D$2:$D$400,A8,Movements!$F$2:$F$400,"Main") -> 52 | G8: =D8+E8-F8 -> 219 | H8: =Items!E6 -> 74 | I8: =SUMIFS(Movements!$G$2:$G$400,Movements!$D$2:$D$400,A8,Movements!$F$2:$F$400,"Annex") -> 10 | J8: =SUMIFS(Movements!$H$2:$H$400,Movements!$D$2:$D$400,A8,Movements!$F$2:$F$400,"Annex") -> 48 | K8: =H8+I8-J8 -> 36 | L8: =G8+K8 -> 255 | M8: =Items!F6 -> 80 | N8: =IF(MIN(G8,K8)<0,"NEGATIVE",IF(L8<=M8,"BELOW REORDER","OK")) -> OK | O8: =COUNTIFS(Movements!$D$2:$D$400,A8,Movements!$L$2:$L$400,"<>OK") -> 0
A9: =Items!A7 -> PL-2001 | B9: =Items!B7 -> Plastic pallet 1200x1000 | C9: =Items!C7 -> pcs | D9: =Items!D7 -> 89 | E9: =SUMIFS(Movements!$G$2:$G$400,Movements!$D$2:$D$400,A9,Movements!$F$2:$F$400,"Main") -> 60 | F9: =SUMIFS(Movements!$H$2:$H$400,Movements!$D$2:$D$400,A9,Movements!$F$2:$F$400,"Main") -> 20 | G9: =D9+E9-F9 -> 129 | H9: =Items!E7 -> 116 | I9: =SUMIFS(Movements!$G$2:$G$400,Movements!$D$2:$D$400,A9,Movements!$F$2:$F$400,"Annex") -> 0 | J9: =SUMIFS(Movements!$H$2:$H$400,Movements!$D$2:$D$400,A9,Movements!$F$2:$F$400,"Annex") -> 0 | K9: =H9+I9-J9 -> 116 | L9: =G9+K9 -> 245 | M9: =Items!F7 -> 50 | N9: =IF(MIN(G9,K9)<0,"NEGATIVE",IF(L9<=M9,"BELOW REORDER","OK")) -> OK | O9: =COUNTIFS(Movements!$D$2:$D$400,A9,Movements!$L$2:$L$400,"<>OK") -> 1
A10: =Items!A8 -> PL-2002 | B10: =Items!B8 -> Wooden pallet 1200x800 | C10: =Items!C8 -> pcs | D10: =Items!D8 -> 319 | E10: =SUMIFS(Movements!$G$2:$G$400,Movements!$D$2:$D$400,A10,Movements!$F$2:$F$400,"Main") -> 48 | F10: =SUMIFS(Movements!$H$2:$H$400,Movements!$D$2:$D$400,A10,Movements!$F$2:$F$400,"Main") -> 50 | G10: =D10+E10-F10 -> 317 | H10: =Items!E8 -> 27 | I10: =SUMIFS(Movements!$G$2:$G$400,Movements!$D$2:$D$400,A10,Movements!$F$2:$F$400,"Annex") -> 0 | J10: =SUMIFS(Movements!$H$2:$H$400,Movements!$D$2:$D$400,A10,Movements!$F$2:$F$400,"Annex") -> 22 | K10: =H10+I10-J10 -> 5 | L10: =G10+K10 -> 322 | M10: =Items!F8 -> 100 | N10: =IF(MIN(G10,K10)<0,"NEGATIVE",IF(L10<=M10,"BELOW REORDER","OK")) -> OK | O10: =COUNTIFS(Movements!$D$2:$D$400,A10,Movements!$L$2:$L$400,"<>OK") -> 0
A11: =Items!A9 -> SF-3001 | B11: =Items!B9 -> Safety gloves (pair) | C11: =Items!C9 -> pair | D11: =Items!D9 -> 79 | E11: =SUMIFS(Movements!$G$2:$G$400,Movements!$D$2:$D$400,A11,Movements!$F$2:$F$400,"Main") -> 100 | F11: =SUMIFS(Movements!$H$2:$H$400,Movements!$D$2:$D$400,A11,Movements!$F$2:$F$400,"Main") -> 67 | G11: =D11+E11-F11 -> 112 | H11: =Items!E9 -> 11 | I11: =SUMIFS(Movements!$G$2:$G$400,Movements!$D$2:$D$400,A11,Movements!$F$2:$F$400,"Annex") -> 0 | J11: =SUMIFS(Movements!$H$2:$H$400,Movements!$D$2:$D$400,A11,Movements!$F$2:$F$400,"Annex") -> 0 | K11: =H11+I11-J11 -> 11 | L11: =G11+K11 -> 123 | M11: =Items!F9 -> 40 | N11: =IF(MIN(G11,K11)<0,"NEGATIVE",IF(L11<=M11,"BELOW REORDER","OK")) -> OK | O11: =COUNTIFS(Movements!$D$2:$D$400,A11,Movements!$L$2:$L$400,"<>OK") -> 1
A12: =Items!A10 -> SF-3002 | B12: =Items!B10 -> Hi-vis vest | C12: =Items!C10 -> pcs | D12: =Items!D10 -> 282 | E12: =SUMIFS(Movements!$G$2:$G$400,Movements!$D$2:$D$400,A12,Movements!$F$2:$F$400,"Main") -> 0 | F12: =SUMIFS(Movements!$H$2:$H$400,Movements!$D$2:$D$400,A12,Movements!$F$2:$F$400,"Main") -> 73 | G12: =D12+E12-F12 -> 209 | H12: =Items!E10 -> 53 | I12: =SUMIFS(Movements!$G$2:$G$400,Movements!$D$2:$D$400,A12,Movements!$F$2:$F$400,"Annex") -> 10 | J12: =SUMIFS(Movements!$H$2:$H$400,Movements!$D$2:$D$400,A12,Movements!$F$2:$F$400,"Annex") -> 58 | K12: =H12+I12-J12 -> 5 | L12: =G12+K12 -> 214 | M12: =Items!F10 -> 100 | N12: =IF(MIN(G12,K12)<0,"NEGATIVE",IF(L12<=M12,"BELOW REORDER","OK")) -> OK | O12: =COUNTIFS(Movements!$D$2:$D$400,A12,Movements!$L$2:$L$400,"<>OK") -> 0
A13: =Items!A11 -> LB-4001 | B13: =Items!B11 -> Thermal label 100x150 | C13: =Items!C11 -> roll | D13: =Items!D11 -> 95 | E13: =SUMIFS(Movements!$G$2:$G$400,Movements!$D$2:$D$400,A13,Movements!$F$2:$F$400,"Main") -> 0 | F13: =SUMIFS(Movements!$H$2:$H$400,Movements!$D$2:$D$400,A13,Movements!$F$2:$F$400,"Main") -> 0 | G13: =D13+E13-F13 -> 95 | H13: =Items!E11 -> 30 | I13: =SUMIFS(Movements!$G$2:$G$400,Movements!$D$2:$D$400,A13,Movements!$F$2:$F$400,"Annex") -> 0 | J13: =SUMIFS(Movements!$H$2:$H$400,Movements!$D$2:$D$400,A13,Movements!$F$2:$F$400,"Annex") -> 25 | K13: =H13+I13-J13 -> 5 | L13: =G13+K13 -> 100 | M13: =Items!F11 -> 60 | N13: =IF(MIN(G13,K13)<0,"NEGATIVE",IF(L13<=M13,"BELOW REORDER","OK")) -> OK | O13: =COUNTIFS(Movements!$D$2:$D$400,A13,Movements!$L$2:$L$400,"<>OK") -> 0
A14: =Items!A12 -> LB-4002 | B14: =Items!B12 -> Barcode ribbon 110mm | C14: =Items!C12 -> roll | D14: =Items!D12 -> 106 | E14: =SUMIFS(Movements!$G$2:$G$400,Movements!$D$2:$D$400,A14,Movements!$F$2:$F$400,"Main") -> 0 | F14: =SUMIFS(Movements!$H$2:$H$400,Movements!$D$2:$D$400,A14,Movements!$F$2:$F$400,"Main") -> 30 | G14: =D14+E14-F14 -> 76 | H14: =Items!E12 -> 70 | I14: =SUMIFS(Movements!$G$2:$G$400,Movements!$D$2:$D$400,A14,Movements!$F$2:$F$400,"Annex") -> 30 | J14: =SUMIFS(Movements!$H$2:$H$400,Movements!$D$2:$D$400,A14,Movements!$F$2:$F$400,"Annex") -> 0 | K14: =H14+I14-J14 -> 100 | L14: =G14+K14 -> 176 | M14: =Items!F12 -> 100 | N14: =IF(MIN(G14,K14)<0,"NEGATIVE",IF(L14<=M14,"BELOW REORDER","OK")) -> OK | O14: =COUNTIFS(Movements!$D$2:$D$400,A14,Movements!$L$2:$L$400,"<>OK") -> 0
A15: =Items!A13 -> CL-5001 | B15: =Items!B13 -> Floor cleaner 5L | C15: =Items!C13 -> can | D15: =Items!D13 -> 277 | E15: =SUMIFS(Movements!$G$2:$G$400,Movements!$D$2:$D$400,A15,Movements!$F$2:$F$400,"Main") -> 36 | F15: =SUMIFS(Movements!$H$2:$H$400,Movements!$D$2:$D$400,A15,Movements!$F$2:$F$400,"Main") -> 28 | G15: =D15+E15-F15 -> 285 | H15: =Items!E13 -> 7 | I15: =SUMIFS(Movements!$G$2:$G$400,Movements!$D$2:$D$400,A15,Movements!$F$2:$F$400,"Annex") -> 0 | J15: =SUMIFS(Movements!$H$2:$H$400,Movements!$D$2:$D$400,A15,Movements!$F$2:$F$400,"Annex") -> 2 | K15: =H15+I15-J15 -> 5 | L15: =G15+K15 -> 290 | M15: =Items!F13 -> 50 | N15: =IF(MIN(G15,K15)<0,"NEGATIVE",IF(L15<=M15,"BELOW REORDER","OK")) -> OK | O15: =COUNTIFS(Movements!$D$2:$D$400,A15,Movements!$L$2:$L$400,"<>OK") -> 0
... A21: =Items!A19 -> ST-7002 | B21: =Items!B19 -> Shelf bin large | C21: =Items!C19 -> pcs | D21: =Items!D19 -> 85 | E21: =SUMIFS(Movements!$G$2:$G$400,Movements!$D$2:$D$400,A21,Movements!$F$2:$F$400,"Main") -> 48 | F21: =SUMIFS(Movements!$H$2:$H$400,Movements!$D$2:$D$400,A21,Movements!$F$2:$F$400,"Main") -> 0 | G21: =D21+E21-F21 -> 133 | H21: =Items!E19 -> 28 | I21: =SUMIFS(Movements!$G$2:$G$400,Movements!$D$2:$D$400,A21,Movements!$F$2:$F$400,"Annex") -> 0 | J21: =SUMIFS(Movements!$H$2:$H$400,Movements!$D$2:$D$400,A21,Movements!$F$2:$F$400,"Annex") -> 43 | K21: =H21+I21-J21 -> -15 | L21: =G21+K21 -> 118 | M21: =Items!F19 -> 40 | N21: =IF(MIN(G21,K21)<0,"NEGATIVE",IF(L21<=M21,"BELOW REORDER","OK")) -> NEGATIVE | O21: =COUNTIFS(Movements!$D$2:$D$400,A21,Movements!$L$2:$L$400,"<>OK") -> 1
A22: Total | D22: =SUM(D4:D21) -> 3838 | E22: =SUM(E4:E21) -> 1956 | F22: =SUM(F4:F21) -> 670 | G22: =SUM(G4:G21) -> 5124 | H22: =SUM(H4:H21) -> 831 | I22: =SUM(I4:I21) -> 160 | J22: =SUM(J4:J21) -> 412 | K22: =SUM(K4:K21) -> 579 | L22: =SUM(L4:L21) -> 5703 | O22: =SUM(O4:O21) -> 6

Sheet Weekly_Report
A1: Weekly Stock Report
A2: Sample warehouse - change the week in C4 and everything below updates.
B4: Week starting (Mon): | C4: 46314 | D4: ="to "&TEXT(C4+6,"DD-MMM-YYYY") -> to 25-Oct-2026
A6: Movement lines entered | C6: Units received | E6: Units dispatched
A7: =COUNTIFS(Movements!$K$2:$K$400,C4) -> 49 | C7: =SUMIFS(Movements!$G$2:$G$400,Movements!$K$2:$K$400,C4,Movements!$B$2:$B$400,"GRN") -> 1620 | E7: =SUMIFS(Movements!$H$2:$H$400,Movements!$K$2:$K$400,C4,Movements!$B$2:$B$400,"DN") -> 573
A8: Units transferred | C8: Discrepancies to chase | E8: SKUs at/below reorder
A9: =SUMIFS(Movements!$H$2:$H$400,Movements!$K$2:$K$400,C4,Movements!$B$2:$B$400,"TRF") -> 80 | C9: =COUNTIFS(Movements!$K$2:$K$400,C4,Movements!$L$2:$L$400,"<>OK") -> 7 | E9: =COUNTIF(Balance!$N$4:$N$21,"BELOW REORDER")+COUNTIF(Balance!$N$4:$N$21,"NEGATIVE") -> 1
A11: SKU | B11: Description | C11: Opening (week start) | D11: In | E11: Out | F11: Closing (week end) | G11: Status Now | H11: Flags This Week
A12: =Items!A2 -> PK-1001 | B12: =Items!B2 -> Carton box 600x400x400 | C12: =Items!D2+Items!E2+SUMIFS(Movements!$G$2:$G$400,Movements!$D$2:$D$400,A12,Movements!$A$2:$A$400,"<"&$C$4)-SUMIFS(Movements!$H$2:$H$400,Movements!$D$2:$D$400,A12,Movements!$A$2:$A$400,"<"&$C$4) -> 340 | D12: =SUMIFS(Movements!$G$2:$G$400,Movements!$D$2:$D$400,A12,Movements!$K$2:$K$400,$C$4,Movements!$B$2:$B$400,"<>TRF") -> 24 | E12: =SUMIFS(Movements!$H$2:$H$400,Movements!$D$2:$D$400,A12,Movements!$K$2:$K$400,$C$4,Movements!$B$2:$B$400,"<>TRF") -> 13 | F12: =C12+SUMIFS(Movements!$G$2:$G$400,Movements!$D$2:$D$400,A12,Movements!$K$2:$K$400,$C$4)-SUMIFS(Movements!$H$2:$H$400,Movements!$D$2:$D$400,A12,Movements!$K$2:$K$400,$C$4) -> 351 | G12: =INDEX(Balance!$N$4:$N$21,MATCH(A12,Balance!$A$4:$A$21,0)) -> OK | H12: =COUNTIFS(Movements!$D$2:$D$400,A12,Movements!$K$2:$K$400,$C$4,Movements!$L$2:$L$400,"<>OK") -> 0
A13: =Items!A3 -> PK-1002 | B13: =Items!B3 -> Carton box 400x300x300 | C13: =Items!D3+Items!E3+SUMIFS(Movements!$G$2:$G$400,Movements!$D$2:$D$400,A13,Movements!$A$2:$A$400,"<"&$C$4)-SUMIFS(Movements!$H$2:$H$400,Movements!$D$2:$D$400,A13,Movements!$A$2:$A$400,"<"&$C$4) -> 292 | D13: =SUMIFS(Movements!$G$2:$G$400,Movements!$D$2:$D$400,A13,Movements!$K$2:$K$400,$C$4,Movements!$B$2:$B$400,"<>TRF") -> 24 | E13: =SUMIFS(Movements!$H$2:$H$400,Movements!$D$2:$D$400,A13,Movements!$K$2:$K$400,$C$4,Movements!$B$2:$B$400,"<>TRF") -> 0 | F13: =C13+SUMIFS(Movements!$G$2:$G$400,Movements!$D$2:$D$400,A13,Movements!$K$2:$K$400,$C$4)-SUMIFS(Movements!$H$2:$H$400,Movements!$D$2:$D$400,A13,Movements!$K$2:$K$400,$C$4) -> 316 | G13: =INDEX(Balance!$N$4:$N$21,MATCH(A13,Balance!$A$4:$A$21,0)) -> OK | H13: =COUNTIFS(Movements!$D$2:$D$400,A13,Movements!$K$2:$K$400,$C$4,Movements!$L$2:$L$400,"<>OK") -> 0
A14: =Items!A4 -> PK-1003 | B14: =Items!B4 -> Stretch film 500mm | C14: =Items!D4+Items!E4+SUMIFS(Movements!$G$2:$G$400,Movements!$D$2:$D$400,A14,Movements!$A$2:$A$400,"<"&$C$4)-SUMIFS(Movements!$H$2:$H$400,Movements!$D$2:$D$400,A14,Movements!$A$2:$A$400,"<"&$C$4) -> 173 | D14: =SUMIFS(Movements!$G$2:$G$400,Movements!$D$2:$D$400,A14,Movements!$K$2:$K$400,$C$4,Movements!$B$2:$B$400,"<>TRF") -> 96 | E14: =SUMIFS(Movements!$H$2:$H$400,Movements!$D$2:$D$400,A14,Movements!$K$2:$K$400,$C$4,Movements!$B$2:$B$400,"<>TRF") -> 70 | F14: =C14+SUMIFS(Movements!$G$2:$G$400,Movements!$D$2:$D$400,A14,Movements!$K$2:$K$400,$C$4)-SUMIFS(Movements!$H$2:$H$400,Movements!$D$2:$D$400,A14,Movements!$K$2:$K$400,$C$4) -> 199 | G14: =INDEX(Balance!$N$4:$N$21,MATCH(A14,Balance!$A$4:$A$21,0)) -> OK | H14: =COUNTIFS(Movements!$D$2:$D$400,A14,Movements!$K$2:$K$400,$C$4,Movements!$L$2:$L$400,"<>OK") -> 0
A15: =Items!A5 -> PK-1004 | B15: =Items!B5 -> Packing tape 48mm | C15: =Items!D5+Items!E5+SUMIFS(Movements!$G$2:$G$400,Movements!$D$2:$D$400,A15,Movements!$A$2:$A$400,"<"&$C$4)-SUMIFS(Movements!$H$2:$H$400,Movements!$D$2:$D$400,A15,Movements!$A$2:$A$400,"<"&$C$4) -> 342 | D15: =SUMIFS(Movements!$G$2:$G$400,Movements!$D$2:$D$400,A15,Movements!$K$2:$K$400,$C$4,Movements!$B$2:$B$400,"<>TRF") -> 984 | E15: =SUMIFS(Movements!$H$2:$H$400,Movements!$D$2:$D$400,A15,Movements!$K$2:$K$400,$C$4,Movements!$B$2:$B$400,"<>TRF") -> 8 | F15: =C15+SUMIFS(Movements!$G$2:$G$400,Movements!$D$2:$D$400,A15,Movements!$K$2:$K$400,$C$4)-SUMIFS(Movements!$H$2:$H$400,Movements!$D$2:$D$400,A15,Movements!$K$2:$K$400,$C$4) -> 1318 | G15: =INDEX(Balance!$N$4:$N$21,MATCH(A15,Balance!$A$4:$A$21,0)) -> OK | H15: =COUNTIFS(Movements!$D$2:$D$400,A15,Movements!$K$2:$K$400,$C$4,Movements!$L$2:$L$400,"<>OK") -> 1
A16: =Items!A6 -> PK-1005 | B16: =Items!B6 -> Bubble wrap 1m x 50m | C16: =Items!D6+Items!E6+SUMIFS(Movements!$G$2:$G$400,Movements!$D$2:$D$400,A16,Movements!$A$2:$A$400,"<"&$C$4)-SUMIFS(Movements!$H$2:$H$400,Movements!$D$2:$D$400,A16,Movements!$A$2:$A$400,"<"&$C$4) -> 328 | D16: =SUMIFS(Movements!$G$2:$G$400,Movements!$D$2:$D$400,A16,Movements!$K$2:$K$400,$C$4,Movements!$B$2:$B$400,"<>TRF") -> 0 | E16: =SUMIFS(Movements!$H$2:$H$400,Movements!$D$2:$D$400,A16,Movements!$K$2:$K$400,$C$4,Movements!$B$2:$B$400,"<>TRF") -> 73 | F16: =C16+SUMIFS(Movements!$G$2:$G$400,Movements!$D$2:$D$400,A16,Movements!$K$2:$K$400,$C$4)-SUMIFS(Movements!$H$2:$H$400,Movements!$D$2:$D$400,A16,Movements!$K$2:$K$400,$C$4) -> 255 | G16: =INDEX(Balance!$N$4:$N$21,MATCH(A16,Balance!$A$4:$A$21,0)) -> OK | H16: =COUNTIFS(Movements!$D$2:$D$400,A16,Movements!$K$2:$K$400,$C$4,Movements!$L$2:$L$400,"<>OK") -> 0
A17: =Items!A7 -> PL-2001 | B17: =Items!B7 -> Plastic pallet 1200x1000 | C17: =Items!D7+Items!E7+SUMIFS(Movements!$G$2:$G$400,Movements!$D$2:$D$400,A17,Movements!$A$2:$A$400,"<"&$C$4)-SUMIFS(Movements!$H$2:$H$400,Movements!$D$2:$D$400,A17,Movements!$A$2:$A$400,"<"&$C$4) -> 205 | D17: =SUMIFS(Movements!$G$2:$G$400,Movements!$D$2:$D$400,A17,Movements!$K$2:$K$400,$C$4,Movements!$B$2:$B$400,"<>TRF") -> 60 | E17: =SUMIFS(Movements!$H$2:$H$400,Movements!$D$2:$D$400,A17,Movements!$K$2:$K$400,$C$4,Movements!$B$2:$B$400,"<>TRF") -> 0 | F17: =C17+SUMIFS(Movements!$G$2:$G$400,Movements!$D$2:$D$400,A17,Movements!$K$2:$K$400,$C$4)-SUMIFS(Movements!$H$2:$H$400,Movements!$D$2:$D$400,A17,Movements!$K$2:$K$400,$C$4) -> 245 | G17: =INDEX(Balance!$N$4:$N$21,MATCH(A17,Balance!$A$4:$A$21,0)) -> OK | H17: =COUNTIFS(Movements!$D$2:$D$400,A17,Movements!$K$2:$K$400,$C$4,Movements!$L$2:$L$400,"<>OK") -> 1
A18: =Items!A8 -> PL-2002 | B18: =Items!B8 -> Wooden pallet 1200x800 | C18: =Items!D8+Items!E8+SUMIFS(Movements!$G$2:$G$400,Movements!$D$2:$D$400,A18,Movements!$A$2:$A$400,"<"&$C$4)-SUMIFS(Movements!$H$2:$H$400,Movements!$D$2:$D$400,A18,Movements!$A$2:$A$400,"<"&$C$4) -> 308 | D18: =SUMIFS(Movements!$G$2:$G$400,Movements!$D$2:$D$400,A18,Movements!$K$2:$K$400,$C$4,Movements!$B$2:$B$400,"<>TRF") -> 48 | E18: =SUMIFS(Movements!$H$2:$H$400,Movements!$D$2:$D$400,A18,Movements!$K$2:$K$400,$C$4,Movements!$B$2:$B$400,"<>TRF") -> 34 | F18: =C18+SUMIFS(Movements!$G$2:$G$400,Movements!$D$2:$D$400,A18,Movements!$K$2:$K$400,$C$4)-SUMIFS(Movements!$H$2:$H$400,Movements!$D$2:$D$400,A18,Movements!$K$2:$K$400,$C$4) -> 322 | G18: =INDEX(Balance!$N$4:$N$21,MATCH(A18,Balance!$A$4:$A$21,0)) -> OK | H18: =COUNTIFS(Movements!$D$2:$D$400,A18,Movements!$K$2:$K$400,$C$4,Movements!$L$2:$L$400,"<>OK") -> 0
A19: =Items!A9 -> SF-3001 | B19: =Items!B9 -> Safety gloves (pair) | C19: =Items!D9+Items!E9+SUMIFS(Movements!$G$2:$G$400,Movements!$D$2:$D$400,A19,Movements!$A$2:$A$400,"<"&$C$4)-SUMIFS(Movements!$H$2:$H$400,Movements!$D$2:$D$400,A19,Movements!$A$2:$A$400,"<"&$C$4) -> 67 | D19: =SUMIFS(Movements!$G$2:$G$400,Movements!$D$2:$D$400,A19,Movements!$K$2:$K$400,$C$4,Movements!$B$2:$B$400,"<>TRF") -> 100 | E19: =SUMIFS(Movements!$H$2:$H$400,Movements!$D$2:$D$400,A19,Movements!$K$2:$K$400,$C$4,Movements!$B$2:$B$400,"<>TRF") -> 44 | F19: =C19+SUMIFS(Movements!$G$2:$G$400,Movements!$D$2:$D$400,A19,Movements!$K$2:$K$400,$C$4)-SUMIFS(Movements!$H$2:$H$400,Movements!$D$2:$D$400,A19,Movements!$K$2:$K$400,$C$4) -> 123 | G19: =INDEX(Balance!$N$4:$N$21,MATCH(A19,Balance!$A$4:$A$21,0)) -> OK | H19: =COUNTIFS(Movements!$D$2:$D$400,A19,Movements!$K$2:$K$400,$C$4,Movements!$L$2:$L$400,"<>OK") -> 1
A20: =Items!A10 -> SF-3002 | B20: =Items!B10 -> Hi-vis vest | C20: =Items!D10+Items!E10+SUMIFS(Movements!$G$2:$G$400,Movements!$D$2:$D$400,A20,Movements!$A$2:$A$400,"<"&$C$4)-SUMIFS(Movements!$H$2:$H$400,Movements!$D$2:$D$400,A20,Movements!$A$2:$A$400,"<"&$C$4) -> 280 | D20: =SUMIFS(Movements!$G$2:$G$400,Movements!$D$2:$D$400,A20,Movements!$K$2:$K$400,$C$4,Movements!$B$2:$B$400,"<>TRF") -> 0 | E20: =SUMIFS(Movements!$H$2:$H$400,Movements!$D$2:$D$400,A20,Movements!$K$2:$K$400,$C$4,Movements!$B$2:$B$400,"<>TRF") -> 66 | F20: =C20+SUMIFS(Movements!$G$2:$G$400,Movements!$D$2:$D$400,A20,Movements!$K$2:$K$400,$C$4)-SUMIFS(Movements!$H$2:$H$400,Movements!$D$2:$D$400,A20,Movements!$K$2:$K$400,$C$4) -> 214 | G20: =INDEX(Balance!$N$4:$N$21,MATCH(A20,Balance!$A$4:$A$21,0)) -> OK | H20: =COUNTIFS(Movements!$D$2:$D$400,A20,Movements!$K$2:$K$400,$C$4,Movements!$L$2:$L$400,"<>OK") -> 0
A21: =Items!A11 -> LB-4001 | B21: =Items!B11 -> Thermal label 100x150 | C21: =Items!D11+Items!E11+SUMIFS(Movements!$G$2:$G$400,Movements!$D$2:$D$400,A21,Movements!$A$2:$A$400,"<"&$C$4)-SUMIFS(Movements!$H$2:$H$400,Movements!$D$2:$D$400,A21,Movements!$A$2:$A$400,"<"&$C$4) -> 103 | D21: =SUMIFS(Movements!$G$2:$G$400,Movements!$D$2:$D$400,A21,Movements!$K$2:$K$400,$C$4,Movements!$B$2:$B$400,"<>TRF") -> 0 | E21: =SUMIFS(Movements!$H$2:$H$400,Movements!$D$2:$D$400,A21,Movements!$K$2:$K$400,$C$4,Movements!$B$2:$B$400,"<>TRF") -> 3 | F21: =C21+SUMIFS(Movements!$G$2:$G$400,Movements!$D$2:$D$400,A21,Movements!$K$2:$K$400,$C$4)-SUMIFS(Movements!$H$2:$H$400,Movements!$D$2:$D$400,A21,Movements!$K$2:$K$400,$C$4) -> 100 | G21: =INDEX(Balance!$N$4:$N$21,MATCH(A21,Balance!$A$4:$A$21,0)) -> OK | H21: =COUNTIFS(Movements!$D$2:$D$400,A21,Movements!$K$2:$K$400,$C$4,Movements!$L$2:$L$400,"<>OK") -> 0
A22: =Items!A12 -> LB-4002 | B22: =Items!B12 -> Barcode ribbon 110mm | C22: =Items!D12+Items!E12+SUMIFS(Movements!$G$2:$G$400,Movements!$D$2:$D$400,A22,Movements!$A$2:$A$400,"<"&$C$4)-SUMIFS(Movements!$H$2:$H$400,Movements!$D$2:$D$400,A22,Movements!$A$2:$A$400,"<"&$C$4) -> 176 | D22: =SUMIFS(Movements!$G$2:$G$400,Movements!$D$2:$D$400,A22,Movements!$K$2:$K$400,$C$4,Movements!$B$2:$B$400,"<>TRF") -> 0 | E22: =SUMIFS(Movements!$H$2:$H$400,Movements!$D$2:$D$400,A22,Movements!$K$2:$K$400,$C$4,Movements!$B$2:$B$400,"<>TRF") -> 0 | F22: =C22+SUMIFS(Movements!$G$2:$G$400,Movements!$D$2:$D$400,A22,Movements!$K$2:$K$400,$C$4)-SUMIFS(Movements!$H$2:$H$400,Movements!$D$2:$D$400,A22,Movements!$K$2:$K$400,$C$4) -> 176 | G22: =INDEX(Balance!$N$4:$N$21,MATCH(A22,Balance!$A$4:$A$21,0)) -> OK | H22: =COUNTIFS(Movements!$D$2:$D$400,A22,Movements!$K$2:$K$400,$C$4,Movements!$L$2:$L$400,"<>OK") -> 0
A23: =Items!A13 -> CL-5001 | B23: =Items!B13 -> Floor cleaner 5L | C23: =Items!D13+Items!E13+SUMIFS(Movements!$G$2:$G$400,Movements!$D$2:$D$400,A23,Movements!$A$2:$A$400,"<"&$C$4)-SUMIFS(Movements!$H$2:$H$400,Movements!$D$2:$D$400,A23,Movements!$A$2:$A$400,"<"&$C$4) -> 282 | D23: =SUMIFS(Movements!$G$2:$G$400,Movements!$D$2:$D$400,A23,Movements!$K$2:$K$400,$C$4,Movements!$B$2:$B$400,"<>TRF") -> 36 | E23: =SUMIFS(Movements!$H$2:$H$400,Movements!$D$2:$D$400,A23,Movements!$K$2:$K$400,$C$4,Movements!$B$2:$B$400,"<>TRF") -> 28 | F23: =C23+SUMIFS(Movements!$G$2:$G$400,Movements!$D$2:$D$400,A23,Movements!$K$2:$K$400,$C$4)-SUMIFS(Movements!$H$2:$H$400,Movements!$D$2:$D$400,A23,Movements!$K$2:$K$400,$C$4) -> 290 | G23: =INDEX(Balance!$N$4:$N$21,MATCH(A23,Balance!$A$4:$A$21,0)) -> OK | H23: =COUNTIFS(Movements!$D$2:$D$400,A23,Movements!$K$2:$K$400,$C$4,Movements!$L$2:$L$400,"<>OK") -> 0
... A29: =Items!A19 -> ST-7002 | B29: =Items!B19 -> Shelf bin large | C29: =Items!D19+Items!E19+SUMIFS(Movements!$G$2:$G$400,Movements!$D$2:$D$400,A29,Movements!$A$2:$A$400,"<"&$C$4)-SUMIFS(Movements!$H$2:$H$400,Movements!$D$2:$D$400,A29,Movements!$A$2:$A$400,"<"&$C$4) -> 143 | D29: =SUMIFS(Movements!$G$2:$G$400,Movements!$D$2:$D$400,A29,Movements!$K$2:$K$400,$C$4,Movements!$B$2:$B$400,"<>TRF") -> 0 | E29: =SUMIFS(Movements!$H$2:$H$400,Movements!$D$2:$D$400,A29,Movements!$K$2:$K$400,$C$4,Movements!$B$2:$B$400,"<>TRF") -> 25 | F29: =C29+SUMIFS(Movements!$G$2:$G$400,Movements!$D$2:$D$400,A29,Movements!$K$2:$K$400,$C$4)-SUMIFS(Movements!$H$2:$H$400,Movements!$D$2:$D$400,A29,Movements!$K$2:$K$400,$C$4) -> 118 | G29: =INDEX(Balance!$N$4:$N$21,MATCH(A29,Balance!$A$4:$A$21,0)) -> NEGATIVE | H29: =COUNTIFS(Movements!$D$2:$D$400,A29,Movements!$K$2:$K$400,$C$4,Movements!$L$2:$L$400,"<>OK") -> 1
A31: Discrepancies this week - chase the paperwork
A32: # | B32: Date | C32: Doc No | D32: SKU | E32: Location | F32: Qty In | G32: Qty Out | H32: Flag | I32: Comment / action
A33: =IF(ISNA(MATCH(1,Movements!$N$2:$N$400,0)),"",1) -> 1 | B33: =IF($A33="","",INDEX(Movements!$A$2:$A$400,MATCH(1,Movements!$N$2:$N$400,0))) -> 46316 | C33: =IF($A33="","",IFERROR(INDEX(Movements!$C$2:$C$400,MATCH(1,Movements!$N$2:$N$400,0))&"","")) -> DN-8829 | D33: =IF($A33="","",IFERROR(INDEX(Movements!$D$2:$D$400,MATCH(1,Movements!$N$2:$N$400,0))&"","")) -> ST-7001 | E33: =IF($A33="","",IFERROR(INDEX(Movements!$F$2:$F$400,MATCH(1,Movements!$N$2:$N$400,0))&"","")) -> Main | F33: =IF($A33="","",IFERROR(INDEX(Movements!$G$2:$G$400,MATCH(1,Movements!$N$2:$N$400,0)),"")) -> 0 | G33: =IF($A33="","",IFERROR(INDEX(Movements!$H$2:$H$400,MATCH(1,Movements!$N$2:$N$400,0)),"")) -> 38 | H33: =IF($A33="","",IFERROR(INDEX(Movements!$L$2:$L$400,MATCH(1,Movements!$N$2:$N$400,0))&"","")) -> DUPLICATE ENTRY | I33: =IF($A33="","",IFERROR(INDEX(Movements!$M$2:$M$400,MATCH(1,Movements!$N$2:$N$400,0))&"",""))
A34: =IF(ISNA(MATCH(2,Movements!$N$2:$N$400,0)),"",2) -> 2 | B34: =IF($A34="","",INDEX(Movements!$A$2:$A$400,MATCH(2,Movements!$N$2:$N$400,0))) -> 46316 | C34: =IF($A34="","",IFERROR(INDEX(Movements!$C$2:$C$400,MATCH(2,Movements!$N$2:$N$400,0))&"","")) -> DN-8829 | D34: =IF($A34="","",IFERROR(INDEX(Movements!$D$2:$D$400,MATCH(2,Movements!$N$2:$N$400,0))&"","")) -> ST-7001 | E34: =IF($A34="","",IFERROR(INDEX(Movements!$F$2:$F$400,MATCH(2,Movements!$N$2:$N$400,0))&"","")) -> Main | F34: =IF($A34="","",IFERROR(INDEX(Movements!$G$2:$G$400,MATCH(2,Movements!$N$2:$N$400,0)),"")) -> 0 | G34: =IF($A34="","",IFERROR(INDEX(Movements!$H$2:$H$400,MATCH(2,Movements!$N$2:$N$400,0)),"")) -> 38 | H34: =IF($A34="","",IFERROR(INDEX(Movements!$L$2:$L$400,MATCH(2,Movements!$N$2:$N$400,0))&"","")) -> DUPLICATE ENTRY | I34: =IF($A34="","",IFERROR(INDEX(Movements!$M$2:$M$400,MATCH(2,Movements!$N$2:$N$400,0))&"","")) -> Re-keyed from scan
A35: =IF(ISNA(MATCH(3,Movements!$N$2:$N$400,0)),"",3) -> 3 | B35: =IF($A35="","",INDEX(Movements!$A$2:$A$400,MATCH(3,Movements!$N$2:$N$400,0))) -> 46317 | C35: =IF($A35="","",IFERROR(INDEX(Movements!$C$2:$C$400,MATCH(3,Movements!$N$2:$N$400,0))&"","")) | D35: =IF($A35="","",IFERROR(INDEX(Movements!$D$2:$D$400,MATCH(3,Movements!$N$2:$N$400,0))&"","")) -> SF-3001 | E35: =IF($A35="","",IFERROR(INDEX(Movements!$F$2:$F$400,MATCH(3,Movements!$N$2:$N$400,0))&"","")) -> Main | F35: =IF($A35="","",IFERROR(INDEX(Movements!$G$2:$G$400,MATCH(3,Movements!$N$2:$N$400,0)),"")) -> 0 | G35: =IF($A35="","",IFERROR(INDEX(Movements!$H$2:$H$400,MATCH(3,Movements!$N$2:$N$400,0)),"")) -> 12 | H35: =IF($A35="","",IFERROR(INDEX(Movements!$L$2:$L$400,MATCH(3,Movements!$N$2:$N$400,0))&"","")) -> MISSING DOC NO | I35: =IF($A35="","",IFERROR(INDEX(Movements!$M$2:$M$400,MATCH(3,Movements!$N$2:$N$400,0))&"","")) -> Doc no. missing on slip
A36: =IF(ISNA(MATCH(4,Movements!$N$2:$N$400,0)),"",4) -> 4 | B36: =IF($A36="","",INDEX(Movements!$A$2:$A$400,MATCH(4,Movements!$N$2:$N$400,0))) -> 46317 | C36: =IF($A36="","",IFERROR(INDEX(Movements!$C$2:$C$400,MATCH(4,Movements!$N$2:$N$400,0))&"","")) -> DN-8999 | D36: =IF($A36="","",IFERROR(INDEX(Movements!$D$2:$D$400,MATCH(4,Movements!$N$2:$N$400,0))&"","")) -> ST-7002 | E36: =IF($A36="","",IFERROR(INDEX(Movements!$F$2:$F$400,MATCH(4,Movements!$N$2:$N$400,0))&"","")) -> Annex | F36: =IF($A36="","",IFERROR(INDEX(Movements!$G$2:$G$400,MATCH(4,Movements!$N$2:$N$400,0)),"")) -> 0 | G36: =IF($A36="","",IFERROR(INDEX(Movements!$H$2:$H$400,MATCH(4,Movements!$N$2:$N$400,0)),"")) -> 25 | H36: =IF($A36="","",IFERROR(INDEX(Movements!$L$2:$L$400,MATCH(4,Movements!$N$2:$N$400,0))&"","")) -> NEGATIVE BALANCE | I36: =IF($A36="","",IFERROR(INDEX(Movements!$M$2:$M$400,MATCH(4,Movements!$N$2:$N$400,0))&"",""))
A37: =IF(ISNA(MATCH(5,Movements!$N$2:$N$400,0)),"",5) -> 5 | B37: =IF($A37="","",INDEX(Movements!$A$2:$A$400,MATCH(5,Movements!$N$2:$N$400,0))) -> 46318 | C37: =IF($A37="","",IFERROR(INDEX(Movements!$C$2:$C$400,MATCH(5,Movements!$N$2:$N$400,0))&"","")) -> GRN-5199 | D37: =IF($A37="","",IFERROR(INDEX(Movements!$D$2:$D$400,MATCH(5,Movements!$N$2:$N$400,0))&"","")) -> PK-1004 | E37: =IF($A37="","",IFERROR(INDEX(Movements!$F$2:$F$400,MATCH(5,Movements!$N$2:$N$400,0))&"","")) -> Main | F37: =IF($A37="","",IFERROR(INDEX(Movements!$G$2:$G$400,MATCH(5,Movements!$N$2:$N$400,0)),"")) -> 960 | G37: =IF($A37="","",IFERROR(INDEX(Movements!$H$2:$H$400,MATCH(5,Movements!$N$2:$N$400,0)),"")) -> 0 | H37: =IF($A37="","",IFERROR(INDEX(Movements!$L$2:$L$400,MATCH(5,Movements!$N$2:$N$400,0))&"","")) -> UNUSUAL QTY | I37: =IF($A37="","",IFERROR(INDEX(Movements!$M$2:$M$400,MATCH(5,Movements!$N$2:$N$400,0))&"","")) -> Receipt shows 96?
A38: =IF(ISNA(MATCH(6,Movements!$N$2:$N$400,0)),"",6) -> 6 | B38: =IF($A38="","",INDEX(Movements!$A$2:$A$400,MATCH(6,Movements!$N$2:$N$400,0))) -> 46319 | C38: =IF($A38="","",IFERROR(INDEX(Movements!$C$2:$C$400,MATCH(6,Movements!$N$2:$N$400,0))&"","")) -> TRF-311 | D38: =IF($A38="","",IFERROR(INDEX(Movements!$D$2:$D$400,MATCH(6,Movements!$N$2:$N$400,0))&"","")) -> PL-2001 | E38: =IF($A38="","",IFERROR(INDEX(Movements!$F$2:$F$400,MATCH(6,Movements!$N$2:$N$400,0))&"","")) -> Main | F38: =IF($A38="","",IFERROR(INDEX(Movements!$G$2:$G$400,MATCH(6,Movements!$N$2:$N$400,0)),"")) -> 0 | G38: =IF($A38="","",IFERROR(INDEX(Movements!$H$2:$H$400,MATCH(6,Movements!$N$2:$N$400,0)),"")) -> 20 | H38: =IF($A38="","",IFERROR(INDEX(Movements!$L$2:$L$400,MATCH(6,Movements!$N$2:$N$400,0))&"","")) -> TRANSFER UNMATCHED | I38: =IF($A38="","",IFERROR(INDEX(Movements!$M$2:$M$400,MATCH(6,Movements!$N$2:$N$400,0))&"","")) -> To Annex
A39: =IF(ISNA(MATCH(7,Movements!$N$2:$N$400,0)),"",7) -> 7 | B39: =IF($A39="","",INDEX(Movements!$A$2:$A$400,MATCH(7,Movements!$N$2:$N$400,0))) -> 46319 | C39: =IF($A39="","",IFERROR(INDEX(Movements!$C$2:$C$400,MATCH(7,Movements!$N$2:$N$400,0))&"","")) -> DN-9001 | D39: =IF($A39="","",IFERROR(INDEX(Movements!$D$2:$D$400,MATCH(7,Movements!$N$2:$N$400,0))&"","")) -> XX-9999 | E39: =IF($A39="","",IFERROR(INDEX(Movements!$F$2:$F$400,MATCH(7,Movements!$N$2:$N$400,0))&"","")) -> Main | F39: =IF($A39="","",IFERROR(INDEX(Movements!$G$2:$G$400,MATCH(7,Movements!$N$2:$N$400,0)),"")) -> 0 | G39: =IF($A39="","",IFERROR(INDEX(Movements!$H$2:$H$400,MATCH(7,Movements!$N$2:$N$400,0)),"")) -> 5 | H39: =IF($A39="","",IFERROR(INDEX(Movements!$L$2:$L$400,MATCH(7,Movements!$N$2:$N$400,0))&"","")) -> UNKNOWN SKU | I39: =IF($A39="","",IFERROR(INDEX(Movements!$M$2:$M$400,MATCH(7,Movements!$N$2:$N$400,0))&"","")) -> SKU not on item list
A40: =IF(ISNA(MATCH(8,Movements!$N$2:$N$400,0)),"",8) | B40: =IF($A40="","",INDEX(Movements!$A$2:$A$400,MATCH(8,Movements!$N$2:$N$400,0))) | C40: =IF($A40="","",IFERROR(INDEX(Movements!$C$2:$C$400,MATCH(8,Movements!$N$2:$N$400,0))&"","")) | D40: =IF($A40="","",IFERROR(INDEX(Movements!$D$2:$D$400,MATCH(8,Movements!$N$2:$N$400,0))&"","")) | E40: =IF($A40="","",IFERROR(INDEX(Movements!$F$2:$F$400,MATCH(8,Movements!$N$2:$N$400,0))&"","")) | F40: =IF($A40="","",IFERROR(INDEX(Movements!$G$2:$G$400,MATCH(8,Movements!$N$2:$N$400,0)),"")) | G40: =IF($A40="","",IFERROR(INDEX(Movements!$H$2:$H$400,MATCH(8,Movements!$N$2:$N$400,0)),"")) | H40: =IF($A40="","",IFERROR(INDEX(Movements!$L$2:$L$400,MATCH(8,Movements!$N$2:$N$400,0))&"","")) | I40: =IF($A40="","",IFERROR(INDEX(Movements!$M$2:$M$400,MATCH(8,Movements!$N$2:$N$400,0))&"",""))
A41: =IF(ISNA(MATCH(9,Movements!$N$2:$N$400,0)),"",9) | B41: =IF($A41="","",INDEX(Movements!$A$2:$A$400,MATCH(9,Movements!$N$2:$N$400,0))) | C41: =IF($A41="","",IFERROR(INDEX(Movements!$C$2:$C$400,MATCH(9,Movements!$N$2:$N$400,0))&"","")) | D41: =IF($A41="","",IFERROR(INDEX(Movements!$D$2:$D$400,MATCH(9,Movements!$N$2:$N$400,0))&"","")) | E41: =IF($A41="","",IFERROR(INDEX(Movements!$F$2:$F$400,MATCH(9,Movements!$N$2:$N$400,0))&"","")) | F41: =IF($A41="","",IFERROR(INDEX(Movements!$G$2:$G$400,MATCH(9,Movements!$N$2:$N$400,0)),"")) | G41: =IF($A41="","",IFERROR(INDEX(Movements!$H$2:$H$400,MATCH(9,Movements!$N$2:$N$400,0)),"")) | H41: =IF($A41="","",IFERROR(INDEX(Movements!$L$2:$L$400,MATCH(9,Movements!$N$2:$N$400,0))&"","")) | I41: =IF($A41="","",IFERROR(INDEX(Movements!$M$2:$M$400,MATCH(9,Movements!$N$2:$N$400,0))&"",""))
A42: =IF(ISNA(MATCH(10,Movements!$N$2:$N$400,0)),"",10) | B42: =IF($A42="","",INDEX(Movements!$A$2:$A$400,MATCH(10,Movements!$N$2:$N$400,0))) | C42: =IF($A42="","",IFERROR(INDEX(Movements!$C$2:$C$400,MATCH(10,Movements!$N$2:$N$400,0))&"","")) | D42: =IF($A42="","",IFERROR(INDEX(Movements!$D$2:$D$400,MATCH(10,Movements!$N$2:$N$400,0))&"","")) | E42: =IF($A42="","",IFERROR(INDEX(Movements!$F$2:$F$400,MATCH(10,Movements!$N$2:$N$400,0))&"","")) | F42: =IF($A42="","",IFERROR(INDEX(Movements!$G$2:$G$400,MATCH(10,Movements!$N$2:$N$400,0)),"")) | G42: =IF($A42="","",IFERROR(INDEX(Movements!$H$2:$H$400,MATCH(10,Movements!$N$2:$N$400,0)),"")) | H42: =IF($A42="","",IFERROR(INDEX(Movements!$L$2:$L$400,MATCH(10,Movements!$N$2:$N$400,0))&"","")) | I42: =IF($A42="","",IFERROR(INDEX(Movements!$M$2:$M$400,MATCH(10,Movements!$N$2:$N$400,0))&"",""))
A43: =IF(ISNA(MATCH(11,Movements!$N$2:$N$400,0)),"",11) | B43: =IF($A43="","",INDEX(Movements!$A$2:$A$400,MATCH(11,Movements!$N$2:$N$400,0))) | C43: =IF($A43="","",IFERROR(INDEX(Movements!$C$2:$C$400,MATCH(11,Movements!$N$2:$N$400,0))&"","")) | D43: =IF($A43="","",IFERROR(INDEX(Movements!$D$2:$D$400,MATCH(11,Movements!$N$2:$N$400,0))&"","")) | E43: =IF($A43="","",IFERROR(INDEX(Movements!$F$2:$F$400,MATCH(11,Movements!$N$2:$N$400,0))&"","")) | F43: =IF($A43="","",IFERROR(INDEX(Movements!$G$2:$G$400,MATCH(11,Movements!$N$2:$N$400,0)),"")) | G43: =IF($A43="","",IFERROR(INDEX(Movements!$H$2:$H$400,MATCH(11,Movements!$N$2:$N$400,0)),"")) | H43: =IF($A43="","",IFERROR(INDEX(Movements!$L$2:$L$400,MATCH(11,Movements!$N$2:$N$400,0))&"","")) | I43: =IF($A43="","",IFERROR(INDEX(Movements!$M$2:$M$400,MATCH(11,Movements!$N$2:$N$400,0))&"",""))
A44: =IF(ISNA(MATCH(12,Movements!$N$2:$N$400,0)),"",12) | B44: =IF($A44="","",INDEX(Movements!$A$2:$A$400,MATCH(12,Movements!$N$2:$N$400,0))) | C44: =IF($A44="","",IFERROR(INDEX(Movements!$C$2:$C$400,MATCH(12,Movements!$N$2:$N$400,0))&"","")) | D44: =IF($A44="","",IFERROR(INDEX(Movements!$D$2:$D$400,MATCH(12,Movements!$N$2:$N$400,0))&"","")) | E44: =IF($A44="","",IFERROR(INDEX(Movements!$F$2:$F$400,MATCH(12,Movements!$N$2:$N$400,0))&"","")) | F44: =IF($A44="","",IFERROR(INDEX(Movements!$G$2:$G$400,MATCH(12,Movements!$N$2:$N$400,0)),"")) | G44: =IF($A44="","",IFERROR(INDEX(Movements!$H$2:$H$400,MATCH(12,Movements!$N$2:$N$400,0)),"")) | H44: =IF($A44="","",IFERROR(INDEX(Movements!$L$2:$L$400,MATCH(12,Movements!$N$2:$N$400,0))&"","")) | I44: =IF($A44="","",IFERROR(INDEX(Movements!$M$2:$M$400,MATCH(12,Movements!$N$2:$N$400,0))&"",""))

Sheet Checks
A1: Check | B1: Value | C1: Expected | D1: Result
A2: Opening + all in - all out = total on hand (Balance), unknown-SKU rows excluded | B2: =SUM(Items!D2:E19)+SUM(Movements!$G$2:$G$400)-SUM(Movements!$H$2:$H$400)+SUMIFS(Movements!$H$2:$H$400,Movements!$L$2:$L$400,"UNKNOWN SKU")-SUMIFS(Movements!$G$2:$G$400,Movements!$L$2:$L$400,"UNKNOWN SKU") -> 5703 | C2: =Balance!L22 -> 5703 | D2: =IF(B2=C2*1,"PASS","CHECK") -> PASS
A3: Units moved between locations net to zero (TRF in = TRF out), excl. unmatched | B3: =SUMIFS(Movements!$G$2:$G$400,Movements!$B$2:$B$400,"TRF") -> 160 | C3: =SUMIFS(Movements!$H$2:$H$400,Movements!$B$2:$B$400,"TRF")-SUMIFS(Movements!$H$2:$H$400,Movements!$L$2:$L$400,"TRANSFER UNMATCHED") -> 160 | D3: =IF(B3=C3*1,"PASS","CHECK") -> PASS
A4: Every movement row has a date | B4: =COUNTBLANK(Movements!A2:A91) -> 0 | C4: 0 | D4: =IF(B4=C4*1,"PASS","CHECK") -> PASS
A5: Every row has qty in OR qty out (not both, not neither) | B5: =SUMPRODUCT(((Movements!G2:G91>0)+(Movements!H2:H91>0)<>1)*1) -> 0 | C5: 0 | D5: =IF(B5=C5*1,"PASS","CHECK") -> PASS
A6: Flagged rows on Movements = flags counted on Balance + unknown-SKU rows | B6: =COUNTIFS(Movements!L2:L400,"<>OK",Movements!A2:A400,"<>") -> 7 | C6: =SUM(Balance!O4:O21)+COUNTIF(Movements!L2:L400,"UNKNOWN SKU") -> 7 | D6: =IF(B6=C6*1,"PASS","CHECK") -> PASS
A7: Weekly report closing = Balance total on hand (latest week only) | B7: =IF(Weekly_Report!C4=MAX(Movements!K2:K91),SUM(Weekly_Report!F12:F29),Balance!L22) -> 5703 | C7: =Balance!L22 -> 5703 | D7: =IF(B7=C7*1,"PASS","CHECK") -> PASS
A9: Movement rows | B9: =COUNTA(Movements!A2:A400) -> 90
A10: Rows flagged | B10: =COUNTIFS(Movements!L2:L400,"<>OK",Movements!A2:A400,"<>") -> 7
